{"text_format":"1","workbook":"xlsx","n_sheets":5,"sheets":["Sheet1","Instructions","Enter Data","Charts","Printable Schedule"],"not_rendered":{"charts":7,"images":10,"macros":1,"external_links":0,"defined_names":2,"comments":0,"pivot_tables":0},"unopened":[],"bounds":{"document_bytes":16777216,"sheet_cells":100000,"rows_first":2000,"rows_last":500,"rows_between":2000,"halvings":0,"cell_chars":16384,"cell_head_chars":4096},"cells_cut":0,"cells_raw":0,"read":"whole","date_system":"1900"}

{"sheet":"Sheet1","index":0,"n_rows":30,"n_cols":24,"rows_kept":30,"cut":false,"hidden":true,"merged":[[26,12,27,12],[26,13,27,13],[16,15,19,15],[3,15,5,15],[8,12,9,12],[8,13,9,13],[8,14,9,14],[3,12,7,12],[3,13,7,13],[3,14,7,14],[26,14,27,14],[16,12,25,12],[16,13,25,13],[16,14,25,14],[18,5,18,11],[16,3,18,3],[22,5,22,11],[3,2,9,2],[3,3,4,3],[16,2,27,2]]}
[]
[]
[null,null,null,null,null,null,null,null,null,null,null,null,null,null,null,null,null,24,24,24,24,24,24,24]
[null,null,null,null,null,null,null,null,null,null,null,null,"Total Regular Hours","Total Overtime Hours","Total Hours",null,{"$f":"SUM(F9:L9)","v":0},{"$f":"F6*R3","v":0},{"$f":"G6*S3","v":0},0,0,0,0,0]
[null,null,null,null,null,"Sun","Mon","Tue","Wed","Thu","Fri","Sat",null,null,null,null,40,{"$f":"F7*R3","v":0},{"$f":"G7*S3","v":0},0,0,0,0,0]
[null,null,null,"Shift Start",null,null,null,null,null,null,null,null,null,null,null,null,{"$f":"Q4-Q5","v":-40},{"$f":"R5-R4","v":0},{"$f":"S5-S4","v":0},0,0,0,0,0]
[null,null,null,"Shift End",null,null,null,null,null,null,null,null,null,null,null,null,{"$f":"SUM(F10:L10)","v":0},{"$f":"F8","v":0},{"$f":"G8","v":0},0,0,0,0,0]
[null,null,null,"Lunch  (1 or .5)",null,null,null,null,null,null,null,null,null,null,null,null,{"$f":"IF(Q4>Q5,Q6,Q11)","v":0},{"$f":"R6-R7","v":0},{"$f":"S6-S7","v":0},0,0,0,0,0]
[null,null,null,"Reg",null,{"$f":"IF(R8>R9,R9,R8)","v":0},{"$f":"IF(S8>S9,S9,S8)","v":0},0,0,0,0,0,{"$f":"IF(Q4>Q5,Q5,Q4)","v":0},{"$f":"Q7+Q8","v":0},{"$f":"M9+N9","v":0},null,null,8,8,8,8,8,8,8]
[null,null,null,"OT",null,{"$f":"IF(R8>R9,R10,R11)","v":0},{"$f":"IF(S8>S9,S10,S11)","v":0},0,0,0,0,0,null,null,null,null,null,{"$f":"R8-R9","v":-8},{"$f":"S8-S9","v":-8},-8,-8,-8,-8,-8]
[null,null,null,null,null,null,null,null,null,null,null,null,null,null,null,null,0,0,0,0,0,0,0,0]
[]
[]
[]
[]
[null,null,null,null,null,null,null,null,null,null,null,null,null,null,null,null,null,24,24,24,24,24,24,24]
[null,null,null,null,null,null,null,null,null,null,null,null,"Total Regular Hours","Total Overtime Hours","Total  Hours",null,{"$f":"SUM(F27:L27)","v":0},{"$f":"F20*R16","v":0},{"$f":"G20*S16","v":0},0,0,0,0,0]
[null,null,null,null,null,"Sun","Mon","Tue","Wed","Thu","Fri","Sat",null,null,null,null,40,{"$f":"F21*R16","v":0},{"$f":"G21*S16","v":0},0,0,0,0,0]
[null,null,null,null,null,"First Shift Segment",null,null,null,null,null,null,null,null,null,null,{"$f":"Q17-Q18","v":-40},{"$f":"R18-R17","v":0},{"$f":"S18-S17","v":0},0,0,0,0,0]
[null,null,null,"Shift Start",null,null,null,null,null,null,null,null,null,null,null,null,{"$f":"SUM(F28:L28)","v":0},{"$f":"F22","v":0},{"$f":"G22","v":0},0,0,0,0,0]
[null,null,null,"Shift End",null,null,null,null,null,null,null,null,null,null,null,null,{"$f":"IF(Q17>Q18,Q19,Q29)","v":0},{"$f":"R19-R20","v":0},{"$f":"S19-S20","v":0},0,0,0,0,0]
[null,null,null,"Lunch  (1 or .5)",null,null,null,null,null,null,null,null,null,null,null,null,null,{"$f":"F24*R16","v":0},{"$f":"G24*S16","v":0},0,0,0,0,0]
[null,null,null,null,null,"Second Shift Segment",null,null,null,null,null,null,null,null,null,null,null,{"$f":"F25*R16","v":0},{"$f":"G25*S16","v":0},0,0,0,0,0]
[null,null,null,"Shift Start",null,null,null,null,null,null,null,null,null,null,null,null,null,{"$f":"R23-R22","v":0},{"$f":"S23-S22","v":0},0,0,0,0,0]
[null,null,null,"Shift End",null,null,null,null,null,null,null,null,null,null,null,null,null,{"$f":"F26","v":0},{"$f":"G26","v":0},0,0,0,0,0]
[null,null,null,"Lunch  (1 or .5)",null,null,null,null,null,null,null,null,null,null,null,null,null,{"$f":"R24-R25","v":0},{"$f":"S24-S25","v":0},0,0,0,0,0]
[null,null,null,"Reg",null,{"$f":"IF(R27>R28,R28,R27)","v":0},{"$f":"IF(S27>S28,S28,S27)","v":0},0,0,0,0,0,{"$f":"IF(Q17>Q18,Q18,Q17)","v":0},{"$f":"Q20+Q21","v":0},{"$f":"M27+N27","v":0},null,null,{"$f":"R26+R21","v":0},{"$f":"S26+S21","v":0},0,0,0,0,0]
[null,null,null,"OT",null,{"$f":"IF(R27>R28,R29,R30)","v":0},{"$f":"IF(S27>S28,S29,S30)","v":0},0,0,0,0,0,null,null,null,null,null,8,8,8,8,8,8,8]
[null,null,null,null,null,null,null,null,null,null,null,null,null,null,null,null,0,{"$f":"R27-R28","v":-8},{"$f":"S27-S28","v":-8},-8,-8,-8,-8,-8]
[null,null,null,null,null,null,null,null,null,null,null,null,null,null,null,null,null,0,0,0,0,0,0,0]

{"sheet":"Instructions","index":1,"n_rows":58,"n_cols":13,"rows_kept":58,"cut":false,"hidden":false,"merged":[[56,12,56,20],[57,12,57,20],[26,12,26,20],[37,12,37,20],[44,12,44,20],[52,12,52,20],[54,12,54,20],[55,12,55,20],[24,12,24,20],[1,1,1,20],[2,2,2,10],[3,2,3,20],[5,12,5,20],[7,12,7,20],[9,12,9,20],[11,12,11,20],[14,2,14,20],[17,2,17,10],[18,12,18,20],[20,12,20,20]]}
[]
[null,"Weekly Staff Schedule - Instructions"]
[]
[null,null,"This Workbook Contains 4 Tabs"]
[]
[null,null,null,null,null,null,null,null,null,null,null,null,"1.  \"Instructions\" Tab -  This is the tab you are on now.  If you are having difficulty creating your Staff Schedule, refer back to this tab for instructions."]
[]
[null,null,null,null,null,null,null,null,null,null,null,null,"2.  \"Enter Data\" Tab -  This is where you will be inputting all of your data (Shift start times/end times, etc.).  The data entered here must be formatted properly in order to be calculated correctly.  See below for specific instructions."]
[]
[null,null,null,null,null,null,null,null,null,null,null,null,"3.  \"Charts\" Tab -  The Charts in this tab populate automatically based on the data entered in the previous tab.  The charts are meant to help you manage your scheduling by providing a visual of the Staff coverage at any given time throughout the day.  This page is locked and cannot be edited manually.  It is view or print only. "]
[]
[null,null,null,null,null,null,null,null,null,null,null,null,"4.  \"Schedule\" Tab -  This tab creates a printable schedule that can be posted in the Facility, and/or handed out to Staff.  The schedule is created automatically based on the data entered into the 2nd tab.  With the exception of the header where the Facility Name can be entered, this page is locked and cannot be manually edited."]
[]
[]
[null,null,"Using the \"Enter Data\" Tab"]
[]
[]
[]
[null,null,null,null,null,null,null,null,null,null,null,null,"Where to Enter the Data - ***before proceeding, make sure you are using the correct File based on the total # of Staff you have at your Facility.  (If you have less than 10 Staff, use the \"10 staff\" File.  If you have more than 10 but less than 15, use the \"15 Staff File, and so on.)"]
[]
[null,null,null,null,null,null,null,null,null,null,null,null,"This tab is where you will go to input the data to create your schedule.  The page contains a series of boxes or sections like the ones shown on the left.  You will use one box or section per Staff Member.  Only the cells shaded in yellow can be edited.  All other cells are locked and cannot be changed.  To complete each section, you will enter the Staff's Name, the time their Shift Starts, and the time their Shift Ends for each day of the week.  If a shift contains a Lunch Break, you will indicate the duration of the break by entering either a \"1\" (for a 1 hour break), or a \".5\" (for a 30 minute break) "]
[]
[]
[]
[null,null,null,null,null,null,null,null,null,null,null,null,"Entering the Staff Name - When entering the Staff Name, avoid using nick names.  Enter their first and last name, or first name and last initial (if they have a long name)."]
[]
[null,null,null,null,null,null,null,null,null,null,null,null,"Entering the Shift Time - The time must be entered in the correct format in order to calculate correctly.   When entering the Shift Start and/or End Time it must be formatted as follows:                          "]
[]
[]
[]
[]
[]
[]
[]
[]
[]
[]
[null,null,null,null,null,null,null,null,null,null,null,null,"If the time is on the top of the hour (there are no minutes to enter), the colon and minutes can be left out and it can be entered like this:"]
[]
[]
[]
[]
[]
[]
[null,null,null,null,null,null,null,null,null,null,null,null,"In either case you must make sure to put a  single space between the numbers and the \"AM\" or \"PM\".  Entering the time in the incorrect format will result in an error that will display as \"#VALUE\".  If you see this error displayed anywhere on the page, double check all your entries until you find and correct it.  When all times are entered correctly, it should look like this (left)."]
[]
[]
[]
[]
[]
[]
[]
[null,null,null,null,null,null,null,null,null,null,null,null,"Overnight Shifts - This applies only to shifts that cross midnight.  Meaning a shift that starts on one day, and ends on the following day (10pm to 6am for example).  If an Overnight shift starts at or after midnight it does not apply, as the entirety of that shift will have occurred on the same day. "]
[]
[null,null,null,null,null,null,null,null,null,null,null,null,"Each day on the schedule represents a 24 hour period.   Rounded to the minute, that period starts at 12:00 AM (the first or earliest minute of each day) and ends at 11:59 PM (the last or latest minute of each day).  Daily Overtime occurs anytime more than 8 hours is worked during any one of these 24 hour periods.  "]
[null,null,null,null,null,null,null,null,null,null,null,null," For that reason, an individual calculation must be done for each  24 hour period to determine if more than 8 hours are being worked that day.  In order for this calculation to happen, both a \"Shift Start\" time and a \"Shift End\" time must exist on the same day.  So you cannot enter 10 PM as the Start Time on one day, with the End Time being 6 AM on the next day."]
[null,null,null,null,null,null,null,null,null,null,null,null,"How to Enter an Overnight Shift that Crosses Midnight - Because on any given day, a \"Shift Start\" time cannot exist without there also being a \"Shift End\" time (or vice-versa), when a shift crosses over Midnight it must be shown to have ended and then restarted again.  So an Overnight Shift that Starts at 10 PM on Sunday Night and Ends at 6 AM on Monday Morning must be enter as having ended Sunday Night at 11:59 PM and then restarted again Monday Morning at 12:00 AM (see example on left)"]
[null,null,null,null,null,null,null,null,null,null,null,null,"Charts and Printable Schedule - Once all data has been entered correctly, click on the \"Charts\" and \"Printable Schedule\" tabs to view those items.  If you have any questions on how to use the information, or you have any other questions regarding this from, please let me (Greg) know, and I will go over it with you."]

{"sheet":"Enter Data","index":2,"n_rows":331,"n_cols":40,"rows_kept":331,"cut":false,"hidden":false,"merged":[[290,0,301,0],[290,2,301,2],[290,3,292,3],[290,12,299,12],[290,13,299,13],[290,14,299,14],[290,15,293,15],[292,5,292,11],[296,5,296,11],[300,12,301,12],[300,13,301,13],[300,14,301,14],[274,0,285,0],[274,2,285,2],[274,3,276,3],[274,12,283,12],[274,13,283,13],[274,14,283,14],[274,15,277,15],[276,5,276,11],[280,5,280,11],[284,12,285,12],[284,13,285,13],[284,14,285,14],[258,0,269,0],[258,2,269,2],[258,3,260,3],[258,12,267,12],[258,13,267,13],[258,14,267,14],[258,15,261,15],[260,5,260,11],[264,5,264,11],[268,12,269,12],[268,13,269,13],[268,14,269,14],[242,0,253,0],[242,2,253,2],[242,3,244,3],[242,12,251,12],[242,13,251,13],[242,14,251,14],[242,15,245,15],[244,5,244,11],[248,5,248,11],[252,12,253,12],[252,13,253,13],[252,14,253,14],[226,0,237,0],[226,2,237,2],[226,3,228,3],[226,12,235,12],[226,13,235,13],[226,14,235,14],[226,15,229,15],[228,5,228,11],[232,5,232,11],[236,12,237,12],[236,13,237,13],[236,14,237,14],[210,0,221,0],[210,2,221,2],[210,3,212,3],[210,12,219,12],[210,13,219,13],[210,14,219,14],[210,15,213,15],[212,5,212,11],[216,5,216,11],[220,12,221,12],[220,13,221,13],[220,14,221,14],[194,0,205,0],[194,2,205,2],[194,3,196,3],[194,12,203,12],[194,13,203,13],[194,14,203,14],[194,15,197,15],[196,5,196,11],[200,5,200,11],[204,12,205,12],[204,13,205,13],[204,14,205,14],[178,0,189,0],[178,2,189,2],[178,3,180,3],[178,12,187,12],[178,13,187,13],[178,14,187,14],[178,15,181,15],[180,5,180,11],[184,5,184,11],[188,12,189,12],[188,13,189,13],[188,14,189,14],[162,0,173,0],[162,2,173,2],[162,3,164,3],[162,12,171,12],[162,13,171,13],[162,14,171,14],[162,15,165,15],[164,5,164,11],[168,5,168,11],[172,12,173,12],[172,13,173,13],[172,14,173,14],[146,0,157,0],[146,2,157,2],[146,3,148,3],[146,12,155,12],[146,13,155,13],[146,14,155,14],[146,15,149,15],[148,5,148,11],[152,5,152,11],[156,12,157,12],[156,13,157,13],[156,14,157,14],[34,2,45,2],[34,3,36,3],[34,12,43,12],[34,13,43,13],[34,14,43,14],[50,2,61,2],[82,2,93,2],[82,3,84,3],[82,12,91,12],[82,13,91,13],[82,14,91,14],[92,12,93,12],[92,13,93,13],[92,14,93,14],[60,12,61,12],[60,13,61,13],[60,14,61,14],[66,2,77,2],[66,3,68,3],[66,12,75,12],[66,13,75,13],[66,14,75,14],[50,3,52,3],[50,12,59,12],[2,15,5,15],[4,5,4,11],[8,5,8,11],[12,12,13,12],[12,13,13,13],[12,14,13,14],[18,2,29,2],[18,3,20,3],[18,12,27,12],[18,13,27,13],[18,14,27,14],[2,2,13,2],[2,3,4,3],[2,12,11,12],[2,13,11,13],[2,14,11,14],[18,15,21,15],[20,5,20,11],[24,5,24,11],[28,12,29,12],[28,13,29,13],[28,14,29,14],[34,15,37,15],[36,5,36,11],[40,5,40,11],[44,12,45,12],[44,13,45,13],[44,14,45,14],[82,15,85,15],[84,5,84,11],[88,5,88,11],[66,15,69,15],[68,5,68,11],[72,5,72,11],[76,12,77,12],[76,13,77,13],[76,14,77,14],[50,15,53,15],[52,5,52,11],[56,5,56,11],[50,13,59,13],[50,14,59,14],[98,15,101,15],[100,5,100,11],[104,5,104,11],[108,12,109,12],[108,13,109,13],[108,14,109,14],[98,2,109,2],[98,3,100,3],[98,12,107,12],[98,13,107,13],[98,14,107,14],[114,15,117,15],[116,5,116,11],[120,5,120,11],[124,12,125,12],[124,13,125,13],[124,14,125,14],[114,2,125,2],[114,3,116,3],[114,12,123,12],[114,13,123,13],[114,14,123,14],[130,15,133,15],[132,5,132,11],[136,5,136,11],[140,12,141,12],[140,13,141,13],[140,14,141,14],[130,2,141,2],[130,3,132,3],[130,12,139,12],[130,13,139,13],[130,14,139,14],[2,0,13,0],[18,0,29,0],[34,0,45,0],[50,0,61,0],[66,0,77,0],[82,0,93,0],[98,0,109,0],[114,0,125,0],[130,0,141,0],[322,12,322,14],[327,12,327,14],[329,12,329,14],[331,12,331,14],[306,0,317,0],[306,15,309,15],[308,5,308,11],[312,5,312,11],[316,12,317,12],[316,13,317,13],[316,14,317,14],[306,2,317,2],[306,3,308,3],[306,12,315,12],[306,13,315,13],[306,14,315,14]]}
[null,null,null,null,null,null,null,null,null,null,null,null,null,null,null,null,null,"Sun","Mon","Tue","Wed","Thu","Fri","Sat",null,"Sun","Mon","Tue","Wed","Thu","Fri","Sat"]
[null,null,null,null,null,null,null,null,null,null,null,null,null,null,null,null,null,24,24,24,24,24,24,24]
[1,null,null,null,null,null,null,null,null,null,null,null,"Total Reg Hours","Total OT Hours","Total  Hours",null,{"$f":"SUM(F13:L13)","v":0},{"$f":"F6*R2","v":0},{"$f":"G6*S2","v":0},0,0,0,0,0,null,{"$f":"R3","v":0},{"$f":"S3","v":0},{"$f":"T3","v":0},0,0,0,0]
[null,null,null,null,null,"Sun","Mon","Tue","Wed","Thu","Fri","Sat",null,null,null,null,40,{"$f":"F7*R2","v":0},{"$f":"G7*S2","v":0},0,0,0,0,0]
[null,null,null,null,null,"First Shift Segment",null,null,null,null,null,null,null,null,null,null,{"$f":"Q3-Q4","v":-40},{"$f":"R4-R3","v":0},{"$f":"S4-S3","v":0},0,0,0,0,0,null,{"$f":"R5","v":0},{"$f":"S5","v":0},{"$f":"T5","v":0},0,0,0,0]
[null,null,null,"Shift Start",null,null,null,null,null,null,null,null,null,null,null,null,{"$f":"SUM(F14:L14)","v":0},{"$f":"F8","v":0},{"$f":"G8","v":0},0,0,0,0,0]
[null,null,null,"Shift End",null,null,null,null,null,null,null,null,null,null,null,null,{"$f":"IF(Q3>Q4,Q5,Q15)","v":0},{"$f":"R5-R6","v":0},{"$f":"S5-S6","v":0},0,0,0,0,0,null,{"$f":"R8-R5-R3","v":0},{"$f":"S8-S5-S3","v":0},0,0,0,0,0]
[null,null,null,"Lunch  (1 or .5)",null,null,null,null,null,null,null,null,null,null,null,null,null,{"$f":"F10*R2","v":0},{"$f":"G10*S2","v":0},0,0,0,0,0,null,{"$f":"IF(Z7>AH8,Z7,AH8)","v":0},0,0,0,0,0,0,null,0,0,0,0,0,0,0]
[null,null,null,null,null,"Second Shift Segment",null,null,null,null,null,null,null,null,null,null,null,{"$f":"F11*R2","v":0},{"$f":"G11*S2","v":0},0,0,0,0,0]
[null,null,null,"Shift Start",null,null,null,null,null,null,null,null,null,null,null,null,null,{"$f":"R9-R8","v":0},{"$f":"S9-S8","v":0},0,0,0,0,0,null,{"$f":"R10","v":0},{"$f":"S10","v":0},{"$f":"T10","v":0},0,0,0,0]
[null,null,null,"Shift End",null,null,null,null,null,null,null,null,null,null,null,null,null,{"$f":"F12","v":0},{"$f":"G12","v":0},0,0,0,0,0]
[null,null,null,"Lunch  (1 or .5)",null,null,null,null,null,null,null,null,null,null,null,null,null,{"$f":"R10-R11","v":0},{"$f":"S10-S11","v":0},0,0,0,0,0]
[null,null,null,"Reg",null,{"$f":"IF(R13>R14,R14,R13)","v":0},{"$f":"IF(S13>S14,S14,S13)","v":0},0,0,0,0,0,{"$f":"IF(Q3>Q4,Q4,Q3)","v":0},{"$f":"Q6+Q7","v":0},{"$f":"M13+N13","v":0},null,null,{"$f":"R12+R7","v":0},{"$f":"S12+S7","v":0},0,0,0,0,0]
[null,null,null,"OT",null,{"$f":"IF(R13>R14,R15,R16)","v":0},{"$f":"IF(S13>S14,S15,S16)","v":0},0,0,0,0,0,null,null,null,null,null,8,8,8,8,8,8,8]
[null,null,null,null,null,null,null,null,null,null,null,null,null,null,null,null,0,{"$f":"R13-R14","v":-8},{"$f":"S13-S14","v":-8},-8,-8,-8,-8,-8]
[null,null,null,null,null,null,null,null,null,null,null,null,null,null,null,null,null,0,0,0,0,0,0,0]
[]
[null,null,null,null,null,null,null,null,null,null,null,null,null,null,null,null,null,24,24,24,24,24,24,24]
[2,null,null,null,null,null,null,null,null,null,null,null,"Total Reg Hours","Total OT Hours","Total  Hours",null,{"$f":"SUM(F29:L29)","v":0},{"$f":"F22*R18","v":0},{"$f":"G22*S18","v":0},{"$f":"H22*T18","v":0},{"$f":"I22*U18","v":0},{"$f":"J22*V18","v":0},{"$f":"K22*W18","v":0},{"$f":"L22*X18","v":0},null,{"$f":"R19","v":0},{"$f":"S19","v":0},0,0,0,0,0]
[null,null,null,null,null,"Sun","Mon","Tue","Wed","Thu","Fri","Sat",null,null,null,null,40,{"$f":"F23*R18","v":0},{"$f":"G23*S18","v":0},{"$f":"H23*T18","v":0},{"$f":"I23*U18","v":0},{"$f":"J23*V18","v":0},{"$f":"K23*W18","v":0},{"$f":"L23*X18","v":0}]
[null,null,null,null,null,"First Shift Segment",null,null,null,null,null,null,null,null,null,null,{"$f":"Q19-Q20","v":-40},{"$f":"R20-R19","v":0},{"$f":"S20-S19","v":0},0,0,0,0,0,null,{"$f":"R21","v":0},{"$f":"S21","v":0},0,0,0,0,0]
[null,null,null,"Shift Start",null,null,null,null,null,null,null,null,null,null,null,null,{"$f":"SUM(F30:L30)","v":0},{"$f":"F24","v":0},{"$f":"G24","v":0},{"$f":"H24","v":0},{"$f":"I24","v":0},{"$f":"J24","v":0},{"$f":"K24","v":0},{"$f":"L24","v":0}]
[null,null,null,"Shift End",null,null,null,null,null,null,null,null,null,null,null,null,{"$f":"IF(Q19>Q20,Q21,Q31)","v":0},{"$f":"R21-R22","v":0},{"$f":"S21-S22","v":0},0,0,0,0,0,null,{"$f":"R24-R21-R19","v":0},{"$f":"S24-S21-S19","v":0},0,0,0,0,0]
[null,null,null,"Lunch  (1 or .5)",null,null,null,null,null,null,null,null,null,null,null,null,null,{"$f":"F26*R18","v":0},{"$f":"G26*S18","v":0},{"$f":"H26*T18","v":0},{"$f":"I26*U18","v":0},{"$f":"J26*V18","v":0},{"$f":"K26*W18","v":0},{"$f":"L26*X18","v":0},null,{"$f":"IF(Z23>AH24,Z23,AH24)","v":0},0,0,0,0,0,0,null,0,0,0,0,0,0,0]
[null,null,null,null,null,"Second Shift Segment",null,null,null,null,null,null,null,null,null,null,null,{"$f":"F27*R18","v":0},{"$f":"G27*S18","v":0},{"$f":"H27*T18","v":0},{"$f":"I27*U18","v":0},{"$f":"J27*V18","v":0},{"$f":"K27*W18","v":0},{"$f":"L27*X18","v":0}]
[null,null,null,"Shift Start",null,null,null,null,null,null,null,null,null,null,null,null,null,{"$f":"R25-R24","v":0},{"$f":"S25-S24","v":0},0,0,0,0,0,null,{"$f":"R26","v":0},{"$f":"S26","v":0},0,0,0,0,0]
[null,null,null,"Shift End",null,null,null,null,null,null,null,null,null,null,null,null,null,{"$f":"F28","v":0},{"$f":"G28","v":0},{"$f":"H28","v":0},{"$f":"I28","v":0},{"$f":"J28","v":0},{"$f":"K28","v":0},{"$f":"L28","v":0}]
[null,null,null,"Lunch  (1 or .5)",null,null,null,null,null,null,null,null,null,null,null,null,null,{"$f":"R26-R27","v":0},{"$f":"S26-S27","v":0},0,0,0,0,0]
[null,null,null,"Reg",null,{"$f":"IF(R29>R30,R30,R29)","v":0},{"$f":"IF(S29>S30,S30,S29)","v":0},{"$f":"IF(T29>T30,T30,T29)","v":0},{"$f":"IF(U29>U30,U30,U29)","v":0},{"$f":"IF(V29>V30,V30,V29)","v":0},{"$f":"IF(W29>W30,W30,W29)","v":0},{"$f":"IF(X29>X30,X30,X29)","v":0},{"$f":"IF(Q19>Q20,Q20,Q19)","v":0},{"$f":"Q22+Q23","v":0},{"$f":"M29+N29","v":0},null,null,{"$f":"R28+R23","v":0},{"$f":"S28+S23","v":0},0,0,0,0,0]
[null,null,null,"OT",null,{"$f":"IF(R29>R30,R31,R32)","v":0},{"$f":"IF(S29>S30,S31,S32)","v":0},{"$f":"IF(T29>T30,T31,T32)","v":0},{"$f":"IF(U29>U30,U31,U32)","v":0},{"$f":"IF(V29>V30,V31,V32)","v":0},{"$f":"IF(W29>W30,W31,W32)","v":0},{"$f":"IF(X29>X30,X31,X32)","v":0},null,null,null,null,null,8,8,8,8,8,8,8]
[null,null,null,null,null,null,null,null,null,null,null,null,null,null,null,null,0,{"$f":"R29-R30","v":-8},{"$f":"S29-S30","v":-8},-8,-8,-8,-8,-8]
[null,null,null,null,null,null,null,null,null,null,null,null,null,null,null,null,null,0,0,0,0,0,0,0]
[]
[null,null,null,null,null,null,null,null,null,null,null,null,null,null,null,null,null,24,24,24,24,24,24,24]
[3,null,null,null,null,null,null,null,null,null,null,null,"Total Reg Hours","Total OT Hours","Total  Hours",null,{"$f":"SUM(F45:L45)","v":0},{"$f":"F38*R34","v":0},{"$f":"G38*S34","v":0},{"$f":"H38*T34","v":0},{"$f":"I38*U34","v":0},{"$f":"J38*V34","v":0},{"$f":"K38*W34","v":0},{"$f":"L38*X34","v":0},null,{"$f":"R35","v":0},{"$f":"S35","v":0},0,0,0,0,0]
[null,null,null,null,null,"Sun","Mon","Tue","Wed","Thu","Fri","Sat",null,null,null,null,40,{"$f":"F39*R34","v":0},{"$f":"G39*S34","v":0},{"$f":"H39*T34","v":0},{"$f":"I39*U34","v":0},{"$f":"J39*V34","v":0},{"$f":"K39*W34","v":0},{"$f":"L39*X34","v":0}]
[null,null,null,null,null,"First Shift Segment",null,null,null,null,null,null,null,null,null,null,{"$f":"Q35-Q36","v":-40},{"$f":"R36-R35","v":0},{"$f":"S36-S35","v":0},0,0,0,0,0,null,{"$f":"R37","v":0},{"$f":"S37","v":0},0,0,0,0,0]
[null,null,null,"Shift Start",null,null,null,null,null,null,null,null,null,null,null,null,{"$f":"SUM(F46:L46)","v":0},{"$f":"F40","v":0},{"$f":"G40","v":0},{"$f":"H40","v":0},{"$f":"I40","v":0},{"$f":"J40","v":0},{"$f":"K40","v":0},{"$f":"L40","v":0}]
[null,null,null,"Shift End",null,null,null,null,null,null,null,null,null,null,null,null,{"$f":"IF(Q35>Q36,Q37,Q47)","v":0},{"$f":"R37-R38","v":0},{"$f":"S37-S38","v":0},0,0,0,0,0,null,{"$f":"R40-R37-R35","v":0},{"$f":"S40-S37-S35","v":0},0,0,0,0,0]
[null,null,null,"Lunch  (1 or .5)",null,null,null,null,null,null,null,null,null,null,null,null,null,{"$f":"F42*R34","v":0},{"$f":"G42*S34","v":0},{"$f":"H42*T34","v":0},{"$f":"I42*U34","v":0},{"$f":"J42*V34","v":0},{"$f":"K42*W34","v":0},{"$f":"L42*X34","v":0},null,{"$f":"IF(Z39>AH40,Z39,AH40)","v":0},0,0,0,0,0,0,null,0,0,0,0,0,0,0]
[null,null,null,null,null,"Second Shift Segment",null,null,null,null,null,null,null,null,null,null,null,{"$f":"F43*R34","v":0},{"$f":"G43*S34","v":0},{"$f":"H43*T34","v":0},{"$f":"I43*U34","v":0},{"$f":"J43*V34","v":0},{"$f":"K43*W34","v":0},{"$f":"L43*X34","v":0}]
[null,null,null,"Shift Start",null,null,null,null,null,null,null,null,null,null,null,null,null,{"$f":"R41-R40","v":0},{"$f":"S41-S40","v":0},0,0,0,0,0,null,{"$f":"R42","v":0},{"$f":"S42","v":0},0,0,0,0,0]
[null,null,null,"Shift End",null,null,null,null,null,null,null,null,null,null,null,null,null,{"$f":"F44","v":0},{"$f":"G44","v":0},{"$f":"H44","v":0},{"$f":"I44","v":0},{"$f":"J44","v":0},{"$f":"K44","v":0},{"$f":"L44","v":0}]
[null,null,null,"Lunch  (1 or .5)",null,null,null,null,null,null,null,null,null,null,null,null,null,{"$f":"R42-R43","v":0},{"$f":"S42-S43","v":0},0,0,0,0,0]
[null,null,null,"Reg",null,{"$f":"IF(R45>R46,R46,R45)","v":0},{"$f":"IF(S45>S46,S46,S45)","v":0},{"$f":"IF(T45>T46,T46,T45)","v":0},{"$f":"IF(U45>U46,U46,U45)","v":0},{"$f":"IF(V45>V46,V46,V45)","v":0},{"$f":"IF(W45>W46,W46,W45)","v":0},{"$f":"IF(X45>X46,X46,X45)","v":0},{"$f":"IF(Q35>Q36,Q36,Q35)","v":0},{"$f":"Q38+Q39","v":0},{"$f":"M45+N45","v":0},null,null,{"$f":"R44+R39","v":0},{"$f":"S44+S39","v":0},0,0,0,0,0]
[null,null,null,"OT",null,{"$f":"IF(R45>R46,R47,R48)","v":0},{"$f":"IF(S45>S46,S47,S48)","v":0},{"$f":"IF(T45>T46,T47,T48)","v":0},{"$f":"IF(U45>U46,U47,U48)","v":0},{"$f":"IF(V45>V46,V47,V48)","v":0},{"$f":"IF(W45>W46,W47,W48)","v":0},{"$f":"IF(X45>X46,X47,X48)","v":0},null,null,null,null,null,8,8,8,8,8,8,8]
[null,null,null,null,null,null,null,null,null,null,null,null,null,null,null,null,0,{"$f":"R45-R46","v":-8},{"$f":"S45-S46","v":-8},-8,-8,-8,-8,-8]
[null,null,null,null,null,null,null,null,null,null,null,null,null,null,null,null,null,0,0,0,0,0,0,0]
[]
[null,null,null,null,null,null,null,null,null,null,null,null,null,null,null,null,null,24,24,24,24,24,24,24]
[4,null,null,null,null,null,null,null,null,null,null,null,"Total Reg Hours","Total OT Hours","Total  Hours",null,{"$f":"SUM(F61:L61)","v":0},{"$f":"F54*R50","v":0},{"$f":"G54*S50","v":0},{"$f":"H54*T50","v":0},{"$f":"I54*U50","v":0},{"$f":"J54*V50","v":0},{"$f":"K54*W50","v":0},{"$f":"L54*X50","v":0},null,{"$f":"R51","v":0},{"$f":"S51","v":0},0,0,0,0,0]
[null,null,null,null,null,"Sun","Mon","Tue","Wed","Thu","Fri","Sat",null,null,null,null,40,{"$f":"F55*R50","v":0},{"$f":"G55*S50","v":0},{"$f":"H55*T50","v":0},{"$f":"I55*U50","v":0},{"$f":"J55*V50","v":0},{"$f":"K55*W50","v":0},{"$f":"L55*X50","v":0}]
[null,null,null,null,null,"First Shift Segment",null,null,null,null,null,null,null,null,null,null,{"$f":"Q51-Q52","v":-40},{"$f":"R52-R51","v":0},{"$f":"S52-S51","v":0},0,0,0,0,0,null,{"$f":"R53","v":0},{"$f":"S53","v":0},0,0,0,0,0]
[null,null,null,"Shift Start",null,null,null,null,null,null,null,null,null,null,null,null,{"$f":"SUM(F62:L62)","v":0},{"$f":"F56","v":0},{"$f":"G56","v":0},{"$f":"H56","v":0},{"$f":"I56","v":0},{"$f":"J56","v":0},{"$f":"K56","v":0},{"$f":"L56","v":0}]
[null,null,null,"Shift End",null,null,null,null,null,null,null,null,null,null,null,null,{"$f":"IF(Q51>Q52,Q53,Q63)","v":0},{"$f":"R53-R54","v":0},{"$f":"S53-S54","v":0},0,0,0,0,0,null,{"$f":"R56-R53-R51","v":0},{"$f":"S56-S53-S51","v":0},0,0,0,0,0]
[null,null,null,"Lunch  (1 or .5)",null,null,null,null,null,null,null,null,null,null,null,null,null,{"$f":"F58*R50","v":0},{"$f":"G58*S50","v":0},{"$f":"H58*T50","v":0},{"$f":"I58*U50","v":0},{"$f":"J58*V50","v":0},{"$f":"K58*W50","v":0},{"$f":"L58*X50","v":0},null,{"$f":"IF(Z55>AH56,Z55,AH56)","v":0},0,0,0,0,0,0,null,0,0,0,0,0,0,0]
[null,null,null,null,null,"Second Shift Segment",null,null,null,null,null,null,null,null,null,null,null,{"$f":"F59*R50","v":0},{"$f":"G59*S50","v":0},{"$f":"H59*T50","v":0},{"$f":"I59*U50","v":0},{"$f":"J59*V50","v":0},{"$f":"K59*W50","v":0},{"$f":"L59*X50","v":0}]
[null,null,null,"Shift Start",null,null,null,null,null,null,null,null,null,null,null,null,null,{"$f":"R57-R56","v":0},{"$f":"S57-S56","v":0},0,0,0,0,0,null,{"$f":"R58","v":0},{"$f":"S58","v":0},0,0,0,0,0]
[null,null,null,"Shift End",null,null,null,null,null,null,null,null,null,null,null,null,null,{"$f":"F60","v":0},{"$f":"G60","v":0},{"$f":"H60","v":0},{"$f":"I60","v":0},{"$f":"J60","v":0},{"$f":"K60","v":0},{"$f":"L60","v":0}]
[null,null,null,"Lunch  (1 or .5)",null,null,null,null,null,null,null,null,null,null,null,null,null,{"$f":"R58-R59","v":0},{"$f":"S58-S59","v":0},0,0,0,0,0]
[null,null,null,"Reg",null,{"$f":"IF(R61>R62,R62,R61)","v":0},{"$f":"IF(S61>S62,S62,S61)","v":0},{"$f":"IF(T61>T62,T62,T61)","v":0},{"$f":"IF(U61>U62,U62,U61)","v":0},{"$f":"IF(V61>V62,V62,V61)","v":0},{"$f":"IF(W61>W62,W62,W61)","v":0},{"$f":"IF(X61>X62,X62,X61)","v":0},{"$f":"IF(Q51>Q52,Q52,Q51)","v":0},{"$f":"Q54+Q55","v":0},{"$f":"M61+N61","v":0},null,null,{"$f":"R60+R55","v":0},{"$f":"S60+S55","v":0},0,0,0,0,0]
[null,null,null,"OT",null,{"$f":"IF(R61>R62,R63,R64)","v":0},{"$f":"IF(S61>S62,S63,S64)","v":0},{"$f":"IF(T61>T62,T63,T64)","v":0},{"$f":"IF(U61>U62,U63,U64)","v":0},{"$f":"IF(V61>V62,V63,V64)","v":0},{"$f":"IF(W61>W62,W63,W64)","v":0},{"$f":"IF(X61>X62,X63,X64)","v":0},null,null,null,null,null,8,8,8,8,8,8,8]
[null,null,null,null,null,null,null,null,null,null,null,null,null,null,null,null,0,{"$f":"R61-R62","v":-8},{"$f":"S61-S62","v":-8},-8,-8,-8,-8,-8]
[null,null,null,null,null,null,null,null,null,null,null,null,null,null,null,null,null,0,0,0,0,0,0,0]
[]
[null,null,null,null,null,null,null,null,null,null,null,null,null,null,null,null,null,24,24,24,24,24,24,24]
[5,null,null,null,null,null,null,null,null,null,null,null,"Total Reg Hours","Total OT Hours","Total  Hours",null,{"$f":"SUM(F77:L77)","v":0},{"$f":"F70*R66","v":0},{"$f":"G70*S66","v":0},{"$f":"H70*T66","v":0},{"$f":"I70*U66","v":0},{"$f":"J70*V66","v":0},{"$f":"K70*W66","v":0},{"$f":"L70*X66","v":0},null,{"$f":"R67","v":0},{"$f":"S67","v":0},0,0,0,0,0]
[null,null,null,null,null,"Sun","Mon","Tue","Wed","Thu","Fri","Sat",null,null,null,null,40,{"$f":"F71*R66","v":0},{"$f":"G71*S66","v":0},{"$f":"H71*T66","v":0},{"$f":"I71*U66","v":0},{"$f":"J71*V66","v":0},{"$f":"K71*W66","v":0},{"$f":"L71*X66","v":0}]
[null,null,null,null,null,"First Shift Segment",null,null,null,null,null,null,null,null,null,null,{"$f":"Q67-Q68","v":-40},{"$f":"R68-R67","v":0},{"$f":"S68-S67","v":0},0,0,0,0,0,null,{"$f":"R69","v":0},{"$f":"S69","v":0},0,0,0,0,0]
[null,null,null,"Shift Start",null,null,null,null,null,null,null,null,null,null,null,null,{"$f":"SUM(F78:L78)","v":0},{"$f":"F72","v":0},{"$f":"G72","v":0},{"$f":"H72","v":0},{"$f":"I72","v":0},{"$f":"J72","v":0},{"$f":"K72","v":0},{"$f":"L72","v":0}]
[null,null,null,"Shift End",null,null,null,null,null,null,null,null,null,null,null,null,{"$f":"IF(Q67>Q68,Q69,Q79)","v":0},{"$f":"R69-R70","v":0},{"$f":"S69-S70","v":0},0,0,0,0,0,null,{"$f":"R72-R69-R67","v":0},{"$f":"S72-S69-S67","v":0},0,0,0,0,0]
[null,null,null,"Lunch  (1 or .5)",null,null,null,null,null,null,null,null,null,null,null,null,null,{"$f":"F74*R66","v":0},{"$f":"G74*S66","v":0},{"$f":"H74*T66","v":0},{"$f":"I74*U66","v":0},{"$f":"J74*V66","v":0},{"$f":"K74*W66","v":0},{"$f":"L74*X66","v":0},null,{"$f":"IF(Z71>AH72,Z71,AH72)","v":0},0,0,0,0,0,0,null,0,0,0,0,0,0,0]
[null,null,null,null,null,"Second Shift Segment",null,null,null,null,null,null,null,null,null,null,null,{"$f":"F75*R66","v":0},{"$f":"G75*S66","v":0},{"$f":"H75*T66","v":0},{"$f":"I75*U66","v":0},{"$f":"J75*V66","v":0},{"$f":"K75*W66","v":0},{"$f":"L75*X66","v":0}]
[null,null,null,"Shift Start",null,null,null,null,null,null,null,null,null,null,null,null,null,{"$f":"R73-R72","v":0},{"$f":"S73-S72","v":0},0,0,0,0,0,null,{"$f":"R74","v":0},{"$f":"S74","v":0},0,0,0,0,0]
[null,null,null,"Shift End",null,null,null,null,null,null,null,null,null,null,null,null,null,{"$f":"F76","v":0},{"$f":"G76","v":0},{"$f":"H76","v":0},{"$f":"I76","v":0},{"$f":"J76","v":0},{"$f":"K76","v":0},{"$f":"L76","v":0}]
[null,null,null,"Lunch  (1 or .5)",null,null,null,null,null,null,null,null,null,null,null,null,null,{"$f":"R74-R75","v":0},{"$f":"S74-S75","v":0},0,0,0,0,0]
[null,null,null,"Reg",null,{"$f":"IF(R77>R78,R78,R77)","v":0},{"$f":"IF(S77>S78,S78,S77)","v":0},{"$f":"IF(T77>T78,T78,T77)","v":0},{"$f":"IF(U77>U78,U78,U77)","v":0},{"$f":"IF(V77>V78,V78,V77)","v":0},{"$f":"IF(W77>W78,W78,W77)","v":0},{"$f":"IF(X77>X78,X78,X77)","v":0},{"$f":"IF(Q67>Q68,Q68,Q67)","v":0},{"$f":"Q70+Q71","v":0},{"$f":"M77+N77","v":0},null,null,{"$f":"R76+R71","v":0},{"$f":"S76+S71","v":0},0,0,0,0,0]
[null,null,null,"OT",null,{"$f":"IF(R77>R78,R79,R80)","v":0},{"$f":"IF(S77>S78,S79,S80)","v":0},{"$f":"IF(T77>T78,T79,T80)","v":0},{"$f":"IF(U77>U78,U79,U80)","v":0},{"$f":"IF(V77>V78,V79,V80)","v":0},{"$f":"IF(W77>W78,W79,W80)","v":0},{"$f":"IF(X77>X78,X79,X80)","v":0},null,null,null,null,null,8,8,8,8,8,8,8]
[null,null,null,null,null,null,null,null,null,null,null,null,null,null,null,null,0,{"$f":"R77-R78","v":-8},{"$f":"S77-S78","v":-8},-8,-8,-8,-8,-8]
[null,null,null,null,null,null,null,null,null,null,null,null,null,null,null,null,null,0,0,0,0,0,0,0]
[]
[null,null,null,null,null,null,null,null,null,null,null,null,null,null,null,null,null,24,24,24,24,24,24,24]
[6,null,null,null,null,null,null,null,null,null,null,null,"Total Reg Hours","Total OT Hours","Total  Hours",null,{"$f":"SUM(F93:L93)","v":0},{"$f":"F86*R82","v":0},{"$f":"G86*S82","v":0},{"$f":"H86*T82","v":0},{"$f":"I86*U82","v":0},{"$f":"J86*V82","v":0},{"$f":"K86*W82","v":0},{"$f":"L86*X82","v":0},null,{"$f":"R83","v":0},{"$f":"S83","v":0},0,0,0,0,0]
[null,null,null,null,null,"Sun","Mon","Tue","Wed","Thu","Fri","Sat",null,null,null,null,40,{"$f":"F87*R82","v":0},{"$f":"G87*S82","v":0},{"$f":"H87*T82","v":0},{"$f":"I87*U82","v":0},{"$f":"J87*V82","v":0},{"$f":"K87*W82","v":0},{"$f":"L87*X82","v":0}]
[null,null,null,null,null,"First Shift Segment",null,null,null,null,null,null,null,null,null,null,{"$f":"Q83-Q84","v":-40},{"$f":"R84-R83","v":0},{"$f":"S84-S83","v":0},0,0,0,0,0,null,{"$f":"R85","v":0},{"$f":"S85","v":0},0,0,0,0,0]
[null,null,null,"Shift Start",null,null,null,null,null,null,null,null,null,null,null,null,{"$f":"SUM(F94:L94)","v":0},{"$f":"F88","v":0},{"$f":"G88","v":0},{"$f":"H88","v":0},{"$f":"I88","v":0},{"$f":"J88","v":0},{"$f":"K88","v":0},{"$f":"L88","v":0}]
[null,null,null,"Shift End",null,null,null,null,null,null,null,null,null,null,null,null,{"$f":"IF(Q83>Q84,Q85,Q95)","v":0},{"$f":"R85-R86","v":0},{"$f":"S85-S86","v":0},0,0,0,0,0,null,{"$f":"R88-R85-R83","v":0},{"$f":"S88-S85-S83","v":0},0,0,0,0,0]
[null,null,null,"Lunch  (1 or .5)",null,null,null,null,null,null,null,null,null,null,null,null,null,{"$f":"F90*R82","v":0},{"$f":"G90*S82","v":0},{"$f":"H90*T82","v":0},{"$f":"I90*U82","v":0},{"$f":"J90*V82","v":0},{"$f":"K90*W82","v":0},{"$f":"L90*X82","v":0},null,{"$f":"IF(Z87>AH88,Z87,AH88)","v":0},0,0,0,0,0,0,null,0,0,0,0,0,0,0]
[null,null,null,null,null,"Second Shift Segment",null,null,null,null,null,null,null,null,null,null,null,{"$f":"F91*R82","v":0},{"$f":"G91*S82","v":0},{"$f":"H91*T82","v":0},{"$f":"I91*U82","v":0},{"$f":"J91*V82","v":0},{"$f":"K91*W82","v":0},{"$f":"L91*X82","v":0}]
[null,null,null,"Shift Start",null,null,null,null,null,null,null,null,null,null,null,null,null,{"$f":"R89-R88","v":0},{"$f":"S89-S88","v":0},0,0,0,0,0,null,{"$f":"R90","v":0},{"$f":"S90","v":0},0,0,0,0,0]
[null,null,null,"Shift End",null,null,null,null,null,null,null,null,null,null,null,null,null,{"$f":"F92","v":0},{"$f":"G92","v":0},{"$f":"H92","v":0},{"$f":"I92","v":0},{"$f":"J92","v":0},{"$f":"K92","v":0},{"$f":"L92","v":0}]
[null,null,null,"Lunch  (1 or .5)",null,null,null,null,null,null,null,null,null,null,null,null,null,{"$f":"R90-R91","v":0},{"$f":"S90-S91","v":0},0,0,0,0,0]
[null,null,null,"Reg",null,{"$f":"IF(R93>R94,R94,R93)","v":0},{"$f":"IF(S93>S94,S94,S93)","v":0},{"$f":"IF(T93>T94,T94,T93)","v":0},{"$f":"IF(U93>U94,U94,U93)","v":0},{"$f":"IF(V93>V94,V94,V93)","v":0},{"$f":"IF(W93>W94,W94,W93)","v":0},{"$f":"IF(X93>X94,X94,X93)","v":0},{"$f":"IF(Q83>Q84,Q84,Q83)","v":0},{"$f":"Q86+Q87","v":0},{"$f":"M93+N93","v":0},null,null,{"$f":"R92+R87","v":0},{"$f":"S92+S87","v":0},0,0,0,0,0]
[null,null,null,"OT",null,{"$f":"IF(R93>R94,R95,R96)","v":0},{"$f":"IF(S93>S94,S95,S96)","v":0},{"$f":"IF(T93>T94,T95,T96)","v":0},{"$f":"IF(U93>U94,U95,U96)","v":0},{"$f":"IF(V93>V94,V95,V96)","v":0},{"$f":"IF(W93>W94,W95,W96)","v":0},{"$f":"IF(X93>X94,X95,X96)","v":0},null,null,null,null,null,8,8,8,8,8,8,8]
[null,null,null,null,null,null,null,null,null,null,null,null,null,null,null,null,0,{"$f":"R93-R94","v":-8},{"$f":"S93-S94","v":-8},-8,-8,-8,-8,-8]
[null,null,null,null,null,null,null,null,null,null,null,null,null,null,null,null,null,0,0,0,0,0,0,0]
[]
[null,null,null,null,null,null,null,null,null,null,null,null,null,null,null,null,null,24,24,24,24,24,24,24]
[7,null,null,null,null,null,null,null,null,null,null,null,"Total Reg Hours","Total OT Hours","Total  Hours",null,{"$f":"SUM(F109:L109)","v":0},{"$f":"F102*R98","v":0},{"$f":"G102*S98","v":0},{"$f":"H102*T98","v":0},{"$f":"I102*U98","v":0},{"$f":"J102*V98","v":0},{"$f":"K102*W98","v":0},{"$f":"L102*X98","v":0},null,{"$f":"R99","v":0},{"$f":"S99","v":0},0,0,0,0,0]
[null,null,null,null,null,"Sun","Mon","Tue","Wed","Thu","Fri","Sat",null,null,null,null,40,{"$f":"F103*R98","v":0},{"$f":"G103*S98","v":0},{"$f":"H103*T98","v":0},{"$f":"I103*U98","v":0},{"$f":"J103*V98","v":0},{"$f":"K103*W98","v":0},{"$f":"L103*X98","v":0}]
[null,null,null,null,null,"First Shift Segment",null,null,null,null,null,null,null,null,null,null,{"$f":"Q99-Q100","v":-40},{"$f":"R100-R99","v":0},{"$f":"S100-S99","v":0},0,0,0,0,0,null,{"$f":"R101","v":0},{"$f":"S101","v":0},0,0,0,0,0]
[null,null,null,"Shift Start",null,null,null,null,null,null,null,null,null,null,null,null,{"$f":"SUM(F110:L110)","v":0},{"$f":"F104","v":0},{"$f":"G104","v":0},{"$f":"H104","v":0},{"$f":"I104","v":0},{"$f":"J104","v":0},{"$f":"K104","v":0},{"$f":"L104","v":0}]
[null,null,null,"Shift End",null,null,null,null,null,null,null,null,null,null,null,null,{"$f":"IF(Q99>Q100,Q101,Q111)","v":0},{"$f":"R101-R102","v":0},{"$f":"S101-S102","v":0},0,0,0,0,0,null,{"$f":"R104-R101-R99","v":0},{"$f":"S104-S101-S99","v":0},0,0,0,0,0]
[null,null,null,"Lunch  (1 or .5)",null,null,null,null,null,null,null,null,null,null,null,null,null,{"$f":"F106*R98","v":0},{"$f":"G106*S98","v":0},{"$f":"H106*T98","v":0},{"$f":"I106*U98","v":0},{"$f":"J106*V98","v":0},{"$f":"K106*W98","v":0},{"$f":"L106*X98","v":0},null,{"$f":"IF(Z103>AH104,Z103,AH104)","v":0},{"$f":"IF(AA103>AI104,AA103,AI104)","v":0},0,0,0,0,0,null,0,0,0,0,0,0,0]
[null,null,null,null,null,"Second Shift Segment",null,null,null,null,null,null,null,null,null,null,null,{"$f":"F107*R98","v":0},{"$f":"G107*S98","v":0},{"$f":"H107*T98","v":0},{"$f":"I107*U98","v":0},{"$f":"J107*V98","v":0},{"$f":"K107*W98","v":0},{"$f":"L107*X98","v":0}]
[null,null,null,"Shift Start",null,null,null,null,null,null,null,null,null,null,null,null,null,{"$f":"R105-R104","v":0},{"$f":"S105-S104","v":0},0,0,0,0,0,null,{"$f":"R106","v":0},{"$f":"S106","v":0},0,0,0,0,0]
[null,null,null,"Shift End",null,null,null,null,null,null,null,null,null,null,null,null,null,{"$f":"F108","v":0},{"$f":"G108","v":0},{"$f":"H108","v":0},{"$f":"I108","v":0},{"$f":"J108","v":0},{"$f":"K108","v":0},{"$f":"L108","v":0}]
[null,null,null,"Lunch  (1 or .5)",null,null,null,null,null,null,null,null,null,null,null,null,null,{"$f":"R106-R107","v":0},{"$f":"S106-S107","v":0},0,0,0,0,0]
[null,null,null,"Reg",null,{"$f":"IF(R109>R110,R110,R109)","v":0},{"$f":"IF(S109>S110,S110,S109)","v":0},{"$f":"IF(T109>T110,T110,T109)","v":0},{"$f":"IF(U109>U110,U110,U109)","v":0},{"$f":"IF(V109>V110,V110,V109)","v":0},{"$f":"IF(W109>W110,W110,W109)","v":0},{"$f":"IF(X109>X110,X110,X109)","v":0},{"$f":"IF(Q99>Q100,Q100,Q99)","v":0},{"$f":"Q102+Q103","v":0},{"$f":"M109+N109","v":0},null,null,{"$f":"R108+R103","v":0},{"$f":"S108+S103","v":0},0,0,0,0,0]
[null,null,null,"OT",null,{"$f":"IF(R109>R110,R111,R112)","v":0},{"$f":"IF(S109>S110,S111,S112)","v":0},{"$f":"IF(T109>T110,T111,T112)","v":0},{"$f":"IF(U109>U110,U111,U112)","v":0},{"$f":"IF(V109>V110,V111,V112)","v":0},{"$f":"IF(W109>W110,W111,W112)","v":0},{"$f":"IF(X109>X110,X111,X112)","v":0},null,null,null,null,null,8,8,8,8,8,8,8]
[null,null,null,null,null,null,null,null,null,null,null,null,null,null,null,null,0,{"$f":"R109-R110","v":-8},{"$f":"S109-S110","v":-8},-8,-8,-8,-8,-8]
[null,null,null,null,null,null,null,null,null,null,null,null,null,null,null,null,null,0,0,0,0,0,0,0]
[]
[null,null,null,null,null,null,null,null,null,null,null,null,null,null,null,null,null,24,24,24,24,24,24,24]
[8,null,null,null,null,null,null,null,null,null,null,null,"Total Reg Hours","Total OT Hours","Total  Hours",null,{"$f":"SUM(F125:L125)","v":0},{"$f":"F118*R114","v":0},{"$f":"G118*S114","v":0},{"$f":"H118*T114","v":0},{"$f":"I118*U114","v":0},{"$f":"J118*V114","v":0},{"$f":"K118*W114","v":0},{"$f":"L118*X114","v":0},null,{"$f":"R115","v":0},{"$f":"S115","v":0},0,0,0,0,0]
[null,null,null,null,null,"Sun","Mon","Tue","Wed","Thu","Fri","Sat",null,null,null,null,40,{"$f":"F119*R114","v":0},{"$f":"G119*S114","v":0},{"$f":"H119*T114","v":0},{"$f":"I119*U114","v":0},{"$f":"J119*V114","v":0},{"$f":"K119*W114","v":0},{"$f":"L119*X114","v":0}]
[null,null,null,null,null,"First Shift Segment",null,null,null,null,null,null,null,null,null,null,{"$f":"Q115-Q116","v":-40},{"$f":"R116-R115","v":0},{"$f":"S116-S115","v":0},0,0,0,0,0,null,{"$f":"R117","v":0},{"$f":"S117","v":0},0,0,0,0,0]
[null,null,null,"Shift Start",null,null,null,null,null,null,null,null,null,null,null,null,{"$f":"SUM(F126:L126)","v":0},{"$f":"F120","v":0},{"$f":"G120","v":0},{"$f":"H120","v":0},{"$f":"I120","v":0},{"$f":"J120","v":0},{"$f":"K120","v":0},{"$f":"L120","v":0}]
[null,null,null,"Shift End",null,null,null,null,null,null,null,null,null,null,null,null,{"$f":"IF(Q115>Q116,Q117,Q127)","v":0},{"$f":"R117-R118","v":0},{"$f":"S117-S118","v":0},0,0,0,0,0,null,{"$f":"R120-R117-R115","v":0},{"$f":"S120-S117-S115","v":0},0,0,0,0,0]
[null,null,null,"Lunch  (1 or .5)",null,null,null,null,null,null,null,null,null,null,null,null,null,{"$f":"F122*R114","v":0},{"$f":"G122*S114","v":0},{"$f":"H122*T114","v":0},{"$f":"I122*U114","v":0},{"$f":"J122*V114","v":0},{"$f":"K122*W114","v":0},{"$f":"L122*X114","v":0},null,{"$f":"IF(Z119>AH120,Z119,AH120)","v":0},{"$f":"IF(AA119>AI120,AA119,AI120)","v":0},0,0,0,0,0,null,0,0,0,0,0,0,0]
[null,null,null,null,null,"Second Shift Segment",null,null,null,null,null,null,null,null,null,null,null,{"$f":"F123*R114","v":0},{"$f":"G123*S114","v":0},{"$f":"H123*T114","v":0},{"$f":"I123*U114","v":0},{"$f":"J123*V114","v":0},{"$f":"K123*W114","v":0},{"$f":"L123*X114","v":0}]
[null,null,null,"Shift Start",null,null,null,null,null,null,null,null,null,null,null,null,null,{"$f":"R121-R120","v":0},{"$f":"S121-S120","v":0},0,0,0,0,0,null,{"$f":"R122","v":0},{"$f":"S122","v":0},0,0,0,0,0]
[null,null,null,"Shift End",null,null,null,null,null,null,null,null,null,null,null,null,null,{"$f":"F124","v":0},{"$f":"G124","v":0},{"$f":"H124","v":0},{"$f":"I124","v":0},{"$f":"J124","v":0},{"$f":"K124","v":0},{"$f":"L124","v":0}]
[null,null,null,"Lunch  (1 or .5)",null,null,null,null,null,null,null,null,null,null,null,null,null,{"$f":"R122-R123","v":0},{"$f":"S122-S123","v":0},0,0,0,0,0]
[null,null,null,"Reg",null,{"$f":"IF(R125>R126,R126,R125)","v":0},{"$f":"IF(S125>S126,S126,S125)","v":0},{"$f":"IF(T125>T126,T126,T125)","v":0},{"$f":"IF(U125>U126,U126,U125)","v":0},{"$f":"IF(V125>V126,V126,V125)","v":0},{"$f":"IF(W125>W126,W126,W125)","v":0},{"$f":"IF(X125>X126,X126,X125)","v":0},{"$f":"IF(Q115>Q116,Q116,Q115)","v":0},{"$f":"Q118+Q119","v":0},{"$f":"M125+N125","v":0},null,null,{"$f":"R124+R119","v":0},{"$f":"S124+S119","v":0},0,0,0,0,0]
[null,null,null,"OT",null,{"$f":"IF(R125>R126,R127,R128)","v":0},{"$f":"IF(S125>S126,S127,S128)","v":0},{"$f":"IF(T125>T126,T127,T128)","v":0},{"$f":"IF(U125>U126,U127,U128)","v":0},{"$f":"IF(V125>V126,V127,V128)","v":0},{"$f":"IF(W125>W126,W127,W128)","v":0},{"$f":"IF(X125>X126,X127,X128)","v":0},null,null,null,null,null,8,8,8,8,8,8,8]
[null,null,null,null,null,null,null,null,null,null,null,null,null,null,null,null,0,{"$f":"R125-R126","v":-8},{"$f":"S125-S126","v":-8},-8,-8,-8,-8,-8]
[null,null,null,null,null,null,null,null,null,null,null,null,null,null,null,null,null,0,0,0,0,0,0,0]
[]
[null,null,null,null,null,null,null,null,null,null,null,null,null,null,null,null,null,24,24,24,24,24,24,24]
[9,null,null,null,null,null,null,null,null,null,null,null,"Total Reg Hours","Total OT Hours","Total  Hours",null,{"$f":"SUM(F141:L141)","v":0},{"$f":"F134*R130","v":0},{"$f":"G134*S130","v":0},{"$f":"H134*T130","v":0},{"$f":"I134*U130","v":0},{"$f":"J134*V130","v":0},{"$f":"K134*W130","v":0},{"$f":"L134*X130","v":0},null,{"$f":"R131","v":0},{"$f":"S131","v":0},0,0,0,0,0]
[null,null,null,null,null,"Sun","Mon","Tue","Wed","Thu","Fri","Sat",null,null,null,null,40,{"$f":"F135*R130","v":0},{"$f":"G135*S130","v":0},{"$f":"H135*T130","v":0},{"$f":"I135*U130","v":0},{"$f":"J135*V130","v":0},{"$f":"K135*W130","v":0},{"$f":"L135*X130","v":0}]
[null,null,null,null,null,"First Shift Segment",null,null,null,null,null,null,null,null,null,null,{"$f":"Q131-Q132","v":-40},{"$f":"R132-R131","v":0},{"$f":"S132-S131","v":0},0,0,0,0,0,null,{"$f":"R133","v":0},{"$f":"S133","v":0},0,0,0,0,0]
[null,null,null,"Shift Start",null,null,null,null,null,null,null,null,null,null,null,null,{"$f":"SUM(F142:L142)","v":0},{"$f":"F136","v":0},{"$f":"G136","v":0},{"$f":"H136","v":0},{"$f":"I136","v":0},{"$f":"J136","v":0},{"$f":"K136","v":0},{"$f":"L136","v":0}]
[null,null,null,"Shift End",null,null,null,null,null,null,null,null,null,null,null,null,{"$f":"IF(Q131>Q132,Q133,Q143)","v":0},{"$f":"R133-R134","v":0},{"$f":"S133-S134","v":0},0,0,0,0,0,null,{"$f":"R136-R133-R131","v":0},{"$f":"S136-S133-S131","v":0},0,0,0,0,0]
[null,null,null,"Lunch  (1 or .5)",null,null,null,null,null,null,null,null,null,null,null,null,null,{"$f":"F138*R130","v":0},{"$f":"G138*S130","v":0},{"$f":"H138*T130","v":0},{"$f":"I138*U130","v":0},{"$f":"J138*V130","v":0},{"$f":"K138*W130","v":0},{"$f":"L138*X130","v":0},null,{"$f":"IF(Z135>AH136,Z135,AH136)","v":0},{"$f":"IF(AA135>AI136,AA135,AI136)","v":0},0,0,0,0,0,null,0,0,0,0,0,0,0]
[null,null,null,null,null,"Second Shift Segment",null,null,null,null,null,null,null,null,null,null,null,{"$f":"F139*R130","v":0},{"$f":"G139*S130","v":0},{"$f":"H139*T130","v":0},{"$f":"I139*U130","v":0},{"$f":"J139*V130","v":0},{"$f":"K139*W130","v":0},{"$f":"L139*X130","v":0}]
[null,null,null,"Shift Start",null,null,null,null,null,null,null,null,null,null,null,null,null,{"$f":"R137-R136","v":0},{"$f":"S137-S136","v":0},0,0,0,0,0,null,{"$f":"R138","v":0},{"$f":"S138","v":0},0,0,0,0,0]
[null,null,null,"Shift End",null,null,null,null,null,null,null,null,null,null,null,null,null,{"$f":"F140","v":0},{"$f":"G140","v":0},{"$f":"H140","v":0},{"$f":"I140","v":0},{"$f":"J140","v":0},{"$f":"K140","v":0},{"$f":"L140","v":0}]
[null,null,null,"Lunch  (1 or .5)",null,null,null,null,null,null,null,null,null,null,null,null,null,{"$f":"R138-R139","v":0},{"$f":"S138-S139","v":0},0,0,0,0,0]
[null,null,null,"Reg",null,{"$f":"IF(R141>R142,R142,R141)","v":0},{"$f":"IF(S141>S142,S142,S141)","v":0},{"$f":"IF(T141>T142,T142,T141)","v":0},{"$f":"IF(U141>U142,U142,U141)","v":0},{"$f":"IF(V141>V142,V142,V141)","v":0},{"$f":"IF(W141>W142,W142,W141)","v":0},{"$f":"IF(X141>X142,X142,X141)","v":0},{"$f":"IF(Q131>Q132,Q132,Q131)","v":0},{"$f":"Q134+Q135","v":0},{"$f":"M141+N141","v":0},null,null,{"$f":"R140+R135","v":0},{"$f":"S140+S135","v":0},0,0,0,0,0]
[null,null,null,"OT",null,{"$f":"IF(R141>R142,R143,R144)","v":0},{"$f":"IF(S141>S142,S143,S144)","v":0},{"$f":"IF(T141>T142,T143,T144)","v":0},{"$f":"IF(U141>U142,U143,U144)","v":0},{"$f":"IF(V141>V142,V143,V144)","v":0},{"$f":"IF(W141>W142,W143,W144)","v":0},{"$f":"IF(X141>X142,X143,X144)","v":0},null,null,null,null,null,8,8,8,8,8,8,8]
[null,null,null,null,null,null,null,null,null,null,null,null,null,null,null,null,0,{"$f":"R141-R142","v":-8},{"$f":"S141-S142","v":-8},-8,-8,-8,-8,-8]
[null,null,null,null,null,null,null,null,null,null,null,null,null,null,null,null,null,0,0,0,0,0,0,0]
[]
[null,null,null,null,null,null,null,null,null,null,null,null,null,null,null,null,null,24,24,24,24,24,24,24]
[10,null,null,null,null,null,null,null,null,null,null,null,"Total Reg Hours","Total OT Hours","Total  Hours",null,{"$f":"SUM(F157:L157)","v":0},{"$f":"F150*R146","v":0},{"$f":"G150*S146","v":0},{"$f":"H150*T146","v":0},{"$f":"I150*U146","v":0},{"$f":"J150*V146","v":0},{"$f":"K150*W146","v":0},{"$f":"L150*X146","v":0},null,{"$f":"R147","v":0},{"$f":"S147","v":0},{"$f":"T147","v":0},{"$f":"U147","v":0},{"$f":"V147","v":0},{"$f":"W147","v":0},{"$f":"X147","v":0}]
[null,null,null,null,null,"Sun","Mon","Tue","Wed","Thu","Fri","Sat",null,null,null,null,40,{"$f":"F151*R146","v":0},{"$f":"G151*S146","v":0},{"$f":"H151*T146","v":0},{"$f":"I151*U146","v":0},{"$f":"J151*V146","v":0},{"$f":"K151*W146","v":0},{"$f":"L151*X146","v":0}]
[null,null,null,null,null,"First Shift Segment",null,null,null,null,null,null,null,null,null,null,{"$f":"Q147-Q148","v":-40},{"$f":"R148-R147","v":0},{"$f":"S148-S147","v":0},0,0,0,0,0,null,{"$f":"R149","v":0},{"$f":"S149","v":0},{"$f":"T149","v":0},{"$f":"U149","v":0},{"$f":"V149","v":0},{"$f":"W149","v":0},{"$f":"X149","v":0}]
[null,null,null,"Shift Start",null,null,null,null,null,null,null,null,null,null,null,null,{"$f":"SUM(F158:L158)","v":0},{"$f":"F152","v":0},{"$f":"G152","v":0},{"$f":"H152","v":0},{"$f":"I152","v":0},{"$f":"J152","v":0},{"$f":"K152","v":0},{"$f":"L152","v":0}]
[null,null,null,"Shift End",null,null,null,null,null,null,null,null,null,null,null,null,{"$f":"IF(Q147>Q148,Q149,Q159)","v":0},{"$f":"R149-R150","v":0},{"$f":"S149-S150","v":0},0,0,0,0,0,null,{"$f":"R152-R149-R147","v":0},{"$f":"S152-S149-S147","v":0},{"$f":"T152-T149-T147","v":0},{"$f":"U152-U149-U147","v":0},{"$f":"V152-V149-V147","v":0},{"$f":"W152-W149-W147","v":0},{"$f":"X152-X149-X147","v":0}]
[null,null,null,"Lunch  (1 or .5)",null,null,null,null,null,null,null,null,null,null,null,null,null,{"$f":"F154*R146","v":0},{"$f":"G154*S146","v":0},{"$f":"H154*T146","v":0},{"$f":"I154*U146","v":0},{"$f":"J154*V146","v":0},{"$f":"K154*W146","v":0},{"$f":"L154*X146","v":0},null,{"$f":"IF(Z151>AH152,Z151,AH152)","v":0},{"$f":"IF(AA151>AI152,AA151,AI152)","v":0},{"$f":"IF(AB151>AJ152,AB151,AJ152)","v":0},{"$f":"IF(AC151>AK152,AC151,AK152)","v":0},{"$f":"IF(AD151>AL152,AD151,AL152)","v":0},{"$f":"IF(AE151>AM152,AE151,AM152)","v":0},{"$f":"IF(AF151>AN152,AF151,AN152)","v":0},null,0,0,0,0,0,0,0]
[null,null,null,null,null,"Second Shift Segment",null,null,null,null,null,null,null,null,null,null,null,{"$f":"F155*R146","v":0},{"$f":"G155*S146","v":0},{"$f":"H155*T146","v":0},{"$f":"I155*U146","v":0},{"$f":"J155*V146","v":0},{"$f":"K155*W146","v":0},{"$f":"L155*X146","v":0}]
[null,null,null,"Shift Start",null,null,null,null,null,null,null,null,null,null,null,null,null,{"$f":"R153-R152","v":0},{"$f":"S153-S152","v":0},0,0,0,0,0,null,{"$f":"R154","v":0},{"$f":"S154","v":0},{"$f":"T154","v":0},{"$f":"U154","v":0},{"$f":"V154","v":0},{"$f":"W154","v":0},{"$f":"X154","v":0}]
[null,null,null,"Shift End",null,null,null,null,null,null,null,null,null,null,null,null,null,{"$f":"F156","v":0},{"$f":"G156","v":0},{"$f":"H156","v":0},{"$f":"I156","v":0},{"$f":"J156","v":0},{"$f":"K156","v":0},{"$f":"L156","v":0}]
[null,null,null,"Lunch  (1 or .5)",null,null,null,null,null,null,null,null,null,null,null,null,null,{"$f":"R154-R155","v":0},{"$f":"S154-S155","v":0},0,0,0,0,0]
[null,null,null,"Reg",null,{"$f":"IF(R157>R158,R158,R157)","v":0},{"$f":"IF(S157>S158,S158,S157)","v":0},{"$f":"IF(T157>T158,T158,T157)","v":0},{"$f":"IF(U157>U158,U158,U157)","v":0},{"$f":"IF(V157>V158,V158,V157)","v":0},{"$f":"IF(W157>W158,W158,W157)","v":0},{"$f":"IF(X157>X158,X158,X157)","v":0},{"$f":"IF(Q147>Q148,Q148,Q147)","v":0},{"$f":"Q150+Q151","v":0},{"$f":"M157+N157","v":0},null,null,{"$f":"R156+R151","v":0},{"$f":"S156+S151","v":0},0,0,0,0,0]
[null,null,null,"OT",null,{"$f":"IF(R157>R158,R159,R160)","v":0},{"$f":"IF(S157>S158,S159,S160)","v":0},{"$f":"IF(T157>T158,T159,T160)","v":0},{"$f":"IF(U157>U158,U159,U160)","v":0},{"$f":"IF(V157>V158,V159,V160)","v":0},{"$f":"IF(W157>W158,W159,W160)","v":0},{"$f":"IF(X157>X158,X159,X160)","v":0},null,null,null,null,null,8,8,8,8,8,8,8]
[null,null,null,null,null,null,null,null,null,null,null,null,null,null,null,null,0,{"$f":"R157-R158","v":-8},{"$f":"S157-S158","v":-8},-8,-8,-8,-8,-8]
[null,null,null,null,null,null,null,null,null,null,null,null,null,null,null,null,null,0,0,0,0,0,0,0]
[]
[null,null,null,null,null,null,null,null,null,null,null,null,null,null,null,null,null,24,24,24,24,24,24,24]
[11,null,null,null,null,null,null,null,null,null,null,null,"Total Reg Hours","Total OT Hours","Total  Hours",null,{"$f":"SUM(F173:L173)","v":0},{"$f":"F166*R162","v":0},{"$f":"G166*S162","v":0},{"$f":"H166*T162","v":0},{"$f":"I166*U162","v":0},{"$f":"J166*V162","v":0},{"$f":"K166*W162","v":0},{"$f":"L166*X162","v":0},null,{"$f":"R163","v":0},{"$f":"S163","v":0},{"$f":"T163","v":0},{"$f":"U163","v":0},{"$f":"V163","v":0},{"$f":"W163","v":0},{"$f":"X163","v":0}]
[null,null,null,null,null,"Sun","Mon","Tue","Wed","Thu","Fri","Sat",null,null,null,null,40,{"$f":"F167*R162","v":0},{"$f":"G167*S162","v":0},{"$f":"H167*T162","v":0},{"$f":"I167*U162","v":0},{"$f":"J167*V162","v":0},{"$f":"K167*W162","v":0},{"$f":"L167*X162","v":0}]
[null,null,null,null,null,"First Shift Segment",null,null,null,null,null,null,null,null,null,null,{"$f":"Q163-Q164","v":-40},{"$f":"R164-R163","v":0},{"$f":"S164-S163","v":0},0,0,0,0,0,null,{"$f":"R165","v":0},{"$f":"S165","v":0},{"$f":"T165","v":0},{"$f":"U165","v":0},{"$f":"V165","v":0},{"$f":"W165","v":0},{"$f":"X165","v":0}]
[null,null,null,"Shift Start",null,null,null,null,null,null,null,null,null,null,null,null,{"$f":"SUM(F174:L174)","v":0},{"$f":"F168","v":0},{"$f":"G168","v":0},{"$f":"H168","v":0},{"$f":"I168","v":0},{"$f":"J168","v":0},{"$f":"K168","v":0},{"$f":"L168","v":0}]
[null,null,null,"Shift End",null,null,null,null,null,null,null,null,null,null,null,null,{"$f":"IF(Q163>Q164,Q165,Q175)","v":0},{"$f":"R165-R166","v":0},{"$f":"S165-S166","v":0},0,0,0,0,0,null,{"$f":"R168-R165-R163","v":0},{"$f":"S168-S165-S163","v":0},{"$f":"T168-T165-T163","v":0},{"$f":"U168-U165-U163","v":0},{"$f":"V168-V165-V163","v":0},{"$f":"W168-W165-W163","v":0},{"$f":"X168-X165-X163","v":0}]
[null,null,null,"Lunch  (1 or .5)",null,null,null,null,null,null,null,null,null,null,null,null,null,{"$f":"F170*R162","v":0},{"$f":"G170*S162","v":0},{"$f":"H170*T162","v":0},{"$f":"I170*U162","v":0},{"$f":"J170*V162","v":0},{"$f":"K170*W162","v":0},{"$f":"L170*X162","v":0},null,{"$f":"IF(Z167>AH168,Z167,AH168)","v":0},{"$f":"IF(AA167>AI168,AA167,AI168)","v":0},{"$f":"IF(AB167>AJ168,AB167,AJ168)","v":0},{"$f":"IF(AC167>AK168,AC167,AK168)","v":0},{"$f":"IF(AD167>AL168,AD167,AL168)","v":0},{"$f":"IF(AE167>AM168,AE167,AM168)","v":0},{"$f":"IF(AF167>AN168,AF167,AN168)","v":0},null,0,0,0,0,0,0,0]
[null,null,null,null,null,"Second Shift Segment",null,null,null,null,null,null,null,null,null,null,null,{"$f":"F171*R162","v":0},{"$f":"G171*S162","v":0},{"$f":"H171*T162","v":0},{"$f":"I171*U162","v":0},{"$f":"J171*V162","v":0},{"$f":"K171*W162","v":0},{"$f":"L171*X162","v":0}]
[null,null,null,"Shift Start",null,null,null,null,null,null,null,null,null,null,null,null,null,{"$f":"R169-R168","v":0},{"$f":"S169-S168","v":0},0,0,0,0,0,null,{"$f":"R170","v":0},{"$f":"S170","v":0},{"$f":"T170","v":0},{"$f":"U170","v":0},{"$f":"V170","v":0},{"$f":"W170","v":0},{"$f":"X170","v":0}]
[null,null,null,"Shift End",null,null,null,null,null,null,null,null,null,null,null,null,null,{"$f":"F172","v":0},{"$f":"G172","v":0},{"$f":"H172","v":0},{"$f":"I172","v":0},{"$f":"J172","v":0},{"$f":"K172","v":0},{"$f":"L172","v":0}]
[null,null,null,"Lunch  (1 or .5)",null,null,null,null,null,null,null,null,null,null,null,null,null,{"$f":"R170-R171","v":0},{"$f":"S170-S171","v":0},0,0,0,0,0]
[null,null,null,"Reg",null,{"$f":"IF(R173>R174,R174,R173)","v":0},{"$f":"IF(S173>S174,S174,S173)","v":0},{"$f":"IF(T173>T174,T174,T173)","v":0},{"$f":"IF(U173>U174,U174,U173)","v":0},{"$f":"IF(V173>V174,V174,V173)","v":0},{"$f":"IF(W173>W174,W174,W173)","v":0},{"$f":"IF(X173>X174,X174,X173)","v":0},{"$f":"IF(Q163>Q164,Q164,Q163)","v":0},{"$f":"Q166+Q167","v":0},{"$f":"M173+N173","v":0},null,null,{"$f":"R172+R167","v":0},{"$f":"S172+S167","v":0},0,0,0,0,0]
[null,null,null,"OT",null,{"$f":"IF(R173>R174,R175,R176)","v":0},{"$f":"IF(S173>S174,S175,S176)","v":0},{"$f":"IF(T173>T174,T175,T176)","v":0},{"$f":"IF(U173>U174,U175,U176)","v":0},{"$f":"IF(V173>V174,V175,V176)","v":0},{"$f":"IF(W173>W174,W175,W176)","v":0},{"$f":"IF(X173>X174,X175,X176)","v":0},null,null,null,null,null,8,8,8,8,8,8,8]
[null,null,null,null,null,null,null,null,null,null,null,null,null,null,null,null,0,{"$f":"R173-R174","v":-8},{"$f":"S173-S174","v":-8},-8,-8,-8,-8,-8]
[null,null,null,null,null,null,null,null,null,null,null,null,null,null,null,null,null,0,0,0,0,0,0,0]
[]
[null,null,null,null,null,null,null,null,null,null,null,null,null,null,null,null,null,24,24,24,24,24,24,24]
[12,null,null,null,null,null,null,null,null,null,null,null,"Total Reg Hours","Total OT Hours","Total  Hours",null,{"$f":"SUM(F189:L189)","v":0},{"$f":"F182*R178","v":0},{"$f":"G182*S178","v":0},{"$f":"H182*T178","v":0},{"$f":"I182*U178","v":0},{"$f":"J182*V178","v":0},{"$f":"K182*W178","v":0},{"$f":"L182*X178","v":0},null,{"$f":"R179","v":0},{"$f":"S179","v":0},{"$f":"T179","v":0},{"$f":"U179","v":0},{"$f":"V179","v":0},{"$f":"W179","v":0},{"$f":"X179","v":0}]
[null,null,null,null,null,"Sun","Mon","Tue","Wed","Thu","Fri","Sat",null,null,null,null,40,{"$f":"F183*R178","v":0},{"$f":"G183*S178","v":0},{"$f":"H183*T178","v":0},{"$f":"I183*U178","v":0},{"$f":"J183*V178","v":0},{"$f":"K183*W178","v":0},{"$f":"L183*X178","v":0}]
[null,null,null,null,null,"First Shift Segment",null,null,null,null,null,null,null,null,null,null,{"$f":"Q179-Q180","v":-40},{"$f":"R180-R179","v":0},{"$f":"S180-S179","v":0},0,0,0,0,0,null,{"$f":"R181","v":0},{"$f":"S181","v":0},{"$f":"T181","v":0},{"$f":"U181","v":0},{"$f":"V181","v":0},{"$f":"W181","v":0},{"$f":"X181","v":0}]
[null,null,null,"Shift Start",null,null,null,null,null,null,null,null,null,null,null,null,{"$f":"SUM(F190:L190)","v":0},{"$f":"F184","v":0},{"$f":"G184","v":0},{"$f":"H184","v":0},{"$f":"I184","v":0},{"$f":"J184","v":0},{"$f":"K184","v":0},{"$f":"L184","v":0}]
[null,null,null,"Shift End",null,null,null,null,null,null,null,null,null,null,null,null,{"$f":"IF(Q179>Q180,Q181,Q191)","v":0},{"$f":"R181-R182","v":0},{"$f":"S181-S182","v":0},0,0,0,0,0,null,{"$f":"R184-R181-R179","v":0},{"$f":"S184-S181-S179","v":0},{"$f":"T184-T181-T179","v":0},{"$f":"U184-U181-U179","v":0},{"$f":"V184-V181-V179","v":0},{"$f":"W184-W181-W179","v":0},{"$f":"X184-X181-X179","v":0}]
[null,null,null,"Lunch  (1 or .5)",null,null,null,null,null,null,null,null,null,null,null,null,null,{"$f":"F186*R178","v":0},{"$f":"G186*S178","v":0},{"$f":"H186*T178","v":0},{"$f":"I186*U178","v":0},{"$f":"J186*V178","v":0},{"$f":"K186*W178","v":0},{"$f":"L186*X178","v":0},null,{"$f":"IF(Z183>AH184,Z183,AH184)","v":0},{"$f":"IF(AA183>AI184,AA183,AI184)","v":0},{"$f":"IF(AB183>AJ184,AB183,AJ184)","v":0},{"$f":"IF(AC183>AK184,AC183,AK184)","v":0},{"$f":"IF(AD183>AL184,AD183,AL184)","v":0},{"$f":"IF(AE183>AM184,AE183,AM184)","v":0},{"$f":"IF(AF183>AN184,AF183,AN184)","v":0},null,0,0,0,0,0,0,0]
[null,null,null,null,null,"Second Shift Segment",null,null,null,null,null,null,null,null,null,null,null,{"$f":"F187*R178","v":0},{"$f":"G187*S178","v":0},{"$f":"H187*T178","v":0},{"$f":"I187*U178","v":0},{"$f":"J187*V178","v":0},{"$f":"K187*W178","v":0},{"$f":"L187*X178","v":0}]
[null,null,null,"Shift Start",null,null,null,null,null,null,null,null,null,null,null,null,null,{"$f":"R185-R184","v":0},{"$f":"S185-S184","v":0},0,0,0,0,0,null,{"$f":"R186","v":0},{"$f":"S186","v":0},{"$f":"T186","v":0},{"$f":"U186","v":0},{"$f":"V186","v":0},{"$f":"W186","v":0},{"$f":"X186","v":0}]
[null,null,null,"Shift End",null,null,null,null,null,null,null,null,null,null,null,null,null,{"$f":"F188","v":0},{"$f":"G188","v":0},{"$f":"H188","v":0},{"$f":"I188","v":0},{"$f":"J188","v":0},{"$f":"K188","v":0},{"$f":"L188","v":0}]
[null,null,null,"Lunch  (1 or .5)",null,null,null,null,null,null,null,null,null,null,null,null,null,{"$f":"R186-R187","v":0},{"$f":"S186-S187","v":0},0,0,0,0,0]
[null,null,null,"Reg",null,{"$f":"IF(R189>R190,R190,R189)","v":0},{"$f":"IF(S189>S190,S190,S189)","v":0},{"$f":"IF(T189>T190,T190,T189)","v":0},{"$f":"IF(U189>U190,U190,U189)","v":0},{"$f":"IF(V189>V190,V190,V189)","v":0},{"$f":"IF(W189>W190,W190,W189)","v":0},{"$f":"IF(X189>X190,X190,X189)","v":0},{"$f":"IF(Q179>Q180,Q180,Q179)","v":0},{"$f":"Q182+Q183","v":0},{"$f":"M189+N189","v":0},null,null,{"$f":"R188+R183","v":0},{"$f":"S188+S183","v":0},0,0,0,0,0]
[null,null,null,"OT",null,{"$f":"IF(R189>R190,R191,R192)","v":0},{"$f":"IF(S189>S190,S191,S192)","v":0},{"$f":"IF(T189>T190,T191,T192)","v":0},{"$f":"IF(U189>U190,U191,U192)","v":0},{"$f":"IF(V189>V190,V191,V192)","v":0},{"$f":"IF(W189>W190,W191,W192)","v":0},{"$f":"IF(X189>X190,X191,X192)","v":0},null,null,null,null,null,8,8,8,8,8,8,8]
[null,null,null,null,null,null,null,null,null,null,null,null,null,null,null,null,0,{"$f":"R189-R190","v":-8},{"$f":"S189-S190","v":-8},-8,-8,-8,-8,-8]
[null,null,null,null,null,null,null,null,null,null,null,null,null,null,null,null,null,0,0,0,0,0,0,0]
[]
[null,null,null,null,null,null,null,null,null,null,null,null,null,null,null,null,null,24,24,24,24,24,24,24]
[13,null,null,null,null,null,null,null,null,null,null,null,"Total Reg Hours","Total OT Hours","Total  Hours",null,{"$f":"SUM(F205:L205)","v":0},{"$f":"F198*R194","v":0},{"$f":"G198*S194","v":0},{"$f":"H198*T194","v":0},{"$f":"I198*U194","v":0},{"$f":"J198*V194","v":0},{"$f":"K198*W194","v":0},{"$f":"L198*X194","v":0},null,{"$f":"R195","v":0},{"$f":"S195","v":0},{"$f":"T195","v":0},{"$f":"U195","v":0},{"$f":"V195","v":0},{"$f":"W195","v":0},{"$f":"X195","v":0}]
[null,null,null,null,null,"Sun","Mon","Tue","Wed","Thu","Fri","Sat",null,null,null,null,40,{"$f":"F199*R194","v":0},{"$f":"G199*S194","v":0},{"$f":"H199*T194","v":0},{"$f":"I199*U194","v":0},{"$f":"J199*V194","v":0},{"$f":"K199*W194","v":0},{"$f":"L199*X194","v":0}]
[null,null,null,null,null,"First Shift Segment",null,null,null,null,null,null,null,null,null,null,{"$f":"Q195-Q196","v":-40},{"$f":"R196-R195","v":0},{"$f":"S196-S195","v":0},0,0,0,0,0,null,{"$f":"R197","v":0},{"$f":"S197","v":0},{"$f":"T197","v":0},{"$f":"U197","v":0},{"$f":"V197","v":0},{"$f":"W197","v":0},{"$f":"X197","v":0}]
[null,null,null,"Shift Start",null,null,null,null,null,null,null,null,null,null,null,null,{"$f":"SUM(F206:L206)","v":0},{"$f":"F200","v":0},{"$f":"G200","v":0},{"$f":"H200","v":0},{"$f":"I200","v":0},{"$f":"J200","v":0},{"$f":"K200","v":0},{"$f":"L200","v":0}]
[null,null,null,"Shift End",null,null,null,null,null,null,null,null,null,null,null,null,{"$f":"IF(Q195>Q196,Q197,Q207)","v":0},{"$f":"R197-R198","v":0},{"$f":"S197-S198","v":0},0,0,0,0,0,null,{"$f":"R200-R197-R195","v":0},{"$f":"S200-S197-S195","v":0},{"$f":"T200-T197-T195","v":0},{"$f":"U200-U197-U195","v":0},{"$f":"V200-V197-V195","v":0},{"$f":"W200-W197-W195","v":0},{"$f":"X200-X197-X195","v":0}]
[null,null,null,"Lunch  (1 or .5)",null,null,null,null,null,null,null,null,null,null,null,null,null,{"$f":"F202*R194","v":0},{"$f":"G202*S194","v":0},{"$f":"H202*T194","v":0},{"$f":"I202*U194","v":0},{"$f":"J202*V194","v":0},{"$f":"K202*W194","v":0},{"$f":"L202*X194","v":0},null,{"$f":"IF(Z199>AH200,Z199,AH200)","v":0},{"$f":"IF(AA199>AI200,AA199,AI200)","v":0},{"$f":"IF(AB199>AJ200,AB199,AJ200)","v":0},{"$f":"IF(AC199>AK200,AC199,AK200)","v":0},{"$f":"IF(AD199>AL200,AD199,AL200)","v":0},{"$f":"IF(AE199>AM200,AE199,AM200)","v":0},{"$f":"IF(AF199>AN200,AF199,AN200)","v":0},null,0,0,0,0,0,0,0]
[null,null,null,null,null,"Second Shift Segment",null,null,null,null,null,null,null,null,null,null,null,{"$f":"F203*R194","v":0},{"$f":"G203*S194","v":0},{"$f":"H203*T194","v":0},{"$f":"I203*U194","v":0},{"$f":"J203*V194","v":0},{"$f":"K203*W194","v":0},{"$f":"L203*X194","v":0}]
[null,null,null,"Shift Start",null,null,null,null,null,null,null,null,null,null,null,null,null,{"$f":"R201-R200","v":0},{"$f":"S201-S200","v":0},0,0,0,0,0,null,{"$f":"R202","v":0},{"$f":"S202","v":0},{"$f":"T202","v":0},{"$f":"U202","v":0},{"$f":"V202","v":0},{"$f":"W202","v":0},{"$f":"X202","v":0}]
[null,null,null,"Shift End",null,null,null,null,null,null,null,null,null,null,null,null,null,{"$f":"F204","v":0},{"$f":"G204","v":0},{"$f":"H204","v":0},{"$f":"I204","v":0},{"$f":"J204","v":0},{"$f":"K204","v":0},{"$f":"L204","v":0}]
[null,null,null,"Lunch  (1 or .5)",null,null,null,null,null,null,null,null,null,null,null,null,null,{"$f":"R202-R203","v":0},{"$f":"S202-S203","v":0},0,0,0,0,0]
[null,null,null,"Reg",null,{"$f":"IF(R205>R206,R206,R205)","v":0},{"$f":"IF(S205>S206,S206,S205)","v":0},{"$f":"IF(T205>T206,T206,T205)","v":0},{"$f":"IF(U205>U206,U206,U205)","v":0},{"$f":"IF(V205>V206,V206,V205)","v":0},{"$f":"IF(W205>W206,W206,W205)","v":0},{"$f":"IF(X205>X206,X206,X205)","v":0},{"$f":"IF(Q195>Q196,Q196,Q195)","v":0},{"$f":"Q198+Q199","v":0},{"$f":"M205+N205","v":0},null,null,{"$f":"R204+R199","v":0},{"$f":"S204+S199","v":0},0,0,0,0,0]
[null,null,null,"OT",null,{"$f":"IF(R205>R206,R207,R208)","v":0},{"$f":"IF(S205>S206,S207,S208)","v":0},{"$f":"IF(T205>T206,T207,T208)","v":0},{"$f":"IF(U205>U206,U207,U208)","v":0},{"$f":"IF(V205>V206,V207,V208)","v":0},{"$f":"IF(W205>W206,W207,W208)","v":0},{"$f":"IF(X205>X206,X207,X208)","v":0},null,null,null,null,null,8,8,8,8,8,8,8]
[null,null,null,null,null,null,null,null,null,null,null,null,null,null,null,null,0,{"$f":"R205-R206","v":-8},{"$f":"S205-S206","v":-8},-8,-8,-8,-8,-8]
[null,null,null,null,null,null,null,null,null,null,null,null,null,null,null,null,null,0,0,0,0,0,0,0]
[]
[null,null,null,null,null,null,null,null,null,null,null,null,null,null,null,null,null,24,24,24,24,24,24,24]
[14,null,"Open",null,null,null,null,null,null,null,null,null,"Total Reg Hours","Total OT Hours","Total  Hours",null,{"$f":"SUM(F221:L221)","v":0},{"$f":"F214*R210","v":0},{"$f":"G214*S210","v":0},{"$f":"H214*T210","v":0},{"$f":"I214*U210","v":0},{"$f":"J214*V210","v":0},{"$f":"K214*W210","v":0},{"$f":"L214*X210","v":0},null,{"$f":"R211","v":0},{"$f":"S211","v":0},{"$f":"T211","v":0},{"$f":"U211","v":0},{"$f":"V211","v":0},{"$f":"W211","v":0},{"$f":"X211","v":0}]
[null,null,null,null,null,"Sun","Mon","Tue","Wed","Thu","Fri","Sat",null,null,null,null,40,{"$f":"F215*R210","v":0},{"$f":"G215*S210","v":0},{"$f":"H215*T210","v":0},{"$f":"I215*U210","v":0},{"$f":"J215*V210","v":0},{"$f":"K215*W210","v":0},{"$f":"L215*X210","v":0}]
[null,null,null,null,null,"First Shift Segment",null,null,null,null,null,null,null,null,null,null,{"$f":"Q211-Q212","v":-40},{"$f":"R212-R211","v":0},{"$f":"S212-S211","v":0},0,0,0,0,0,null,{"$f":"R213","v":0},{"$f":"S213","v":0},{"$f":"T213","v":0},{"$f":"U213","v":0},{"$f":"V213","v":0},{"$f":"W213","v":0},{"$f":"X213","v":0}]
[null,null,null,"Shift Start",null,null,null,null,null,null,null,null,null,null,null,null,{"$f":"SUM(F222:L222)","v":0},{"$f":"F216","v":0},{"$f":"G216","v":0},{"$f":"H216","v":0},{"$f":"I216","v":0},{"$f":"J216","v":0},{"$f":"K216","v":0},{"$f":"L216","v":0}]
[null,null,null,"Shift End",null,null,null,null,null,null,null,null,null,null,null,null,{"$f":"IF(Q211>Q212,Q213,Q223)","v":0},{"$f":"R213-R214","v":0},{"$f":"S213-S214","v":0},0,0,0,0,0,null,{"$f":"R216-R213-R211","v":0},{"$f":"S216-S213-S211","v":0},{"$f":"T216-T213-T211","v":0},{"$f":"U216-U213-U211","v":0},{"$f":"V216-V213-V211","v":0},{"$f":"W216-W213-W211","v":0},{"$f":"X216-X213-X211","v":0}]
[null,null,null,"Lunch  (1 or .5)",null,null,null,null,null,null,null,null,null,null,null,null,null,{"$f":"F218*R210","v":0},{"$f":"G218*S210","v":0},{"$f":"H218*T210","v":0},{"$f":"I218*U210","v":0},{"$f":"J218*V210","v":0},{"$f":"K218*W210","v":0},{"$f":"L218*X210","v":0},null,{"$f":"IF(Z215>AH216,Z215,AH216)","v":0},{"$f":"IF(AA215>AI216,AA215,AI216)","v":0},{"$f":"IF(AB215>AJ216,AB215,AJ216)","v":0},{"$f":"IF(AC215>AK216,AC215,AK216)","v":0},{"$f":"IF(AD215>AL216,AD215,AL216)","v":0},{"$f":"IF(AE215>AM216,AE215,AM216)","v":0},{"$f":"IF(AF215>AN216,AF215,AN216)","v":0},null,0,0,0,0,0,0,0]
[null,null,null,null,null,"Second Shift Segment",null,null,null,null,null,null,null,null,null,null,null,{"$f":"F219*R210","v":0},{"$f":"G219*S210","v":0},{"$f":"H219*T210","v":0},{"$f":"I219*U210","v":0},{"$f":"J219*V210","v":0},{"$f":"K219*W210","v":0},{"$f":"L219*X210","v":0}]
[null,null,null,"Shift Start",null,null,null,null,null,null,null,null,null,null,null,null,null,{"$f":"R217-R216","v":0},{"$f":"S217-S216","v":0},0,0,0,0,0,null,{"$f":"R218","v":0},{"$f":"S218","v":0},{"$f":"T218","v":0},{"$f":"U218","v":0},{"$f":"V218","v":0},{"$f":"W218","v":0},{"$f":"X218","v":0}]
[null,null,null,"Shift End",null,null,null,null,null,null,null,null,null,null,null,null,null,{"$f":"F220","v":0},{"$f":"G220","v":0},{"$f":"H220","v":0},{"$f":"I220","v":0},{"$f":"J220","v":0},{"$f":"K220","v":0},{"$f":"L220","v":0}]
[null,null,null,"Lunch  (1 or .5)",null,null,null,null,null,null,null,null,null,null,null,null,null,{"$f":"R218-R219","v":0},{"$f":"S218-S219","v":0},0,0,0,0,0]
[null,null,null,"Reg",null,{"$f":"IF(R221>R222,R222,R221)","v":0},{"$f":"IF(S221>S222,S222,S221)","v":0},{"$f":"IF(T221>T222,T222,T221)","v":0},{"$f":"IF(U221>U222,U222,U221)","v":0},{"$f":"IF(V221>V222,V222,V221)","v":0},{"$f":"IF(W221>W222,W222,W221)","v":0},{"$f":"IF(X221>X222,X222,X221)","v":0},{"$f":"IF(Q211>Q212,Q212,Q211)","v":0},{"$f":"Q214+Q215","v":0},{"$f":"M221+N221","v":0},null,null,{"$f":"R220+R215","v":0},{"$f":"S220+S215","v":0},0,0,0,0,0]
[null,null,null,"OT",null,{"$f":"IF(R221>R222,R223,R224)","v":0},0,0,0,0,0,0,null,null,null,null,null,8,8,8,8,8,8,8]
[null,null,null,null,null,null,null,null,null,null,null,null,null,null,null,null,0,{"$f":"R221-R222","v":-8},{"$f":"S221-S222","v":-8},-8,-8,-8,-8,-8]
[null,null,null,null,null,null,null,null,null,null,null,null,null,null,null,null,null,0,0,0,0,0,0,0]
[]
[null,null,null,null,null,null,null,null,null,null,null,null,null,null,null,null,null,24,24,24,24,24,24,24]
[15,null,"Open",null,null,null,null,null,null,null,null,null,"Total Reg Hours","Total OT Hours","Total  Hours",null,{"$f":"SUM(F237:L237)","v":0},{"$f":"F230*R226","v":0},{"$f":"G230*S226","v":0},{"$f":"H230*T226","v":0},{"$f":"I230*U226","v":0},{"$f":"J230*V226","v":0},{"$f":"K230*W226","v":0},{"$f":"L230*X226","v":0},null,{"$f":"R227","v":0},{"$f":"S227","v":0},{"$f":"T227","v":0},{"$f":"U227","v":0},{"$f":"V227","v":0},{"$f":"W227","v":0},{"$f":"X227","v":0}]
[null,null,null,null,null,"Sun","Mon","Tue","Wed","Thu","Fri","Sat",null,null,null,null,40,{"$f":"F231*R226","v":0},{"$f":"G231*S226","v":0},{"$f":"H231*T226","v":0},{"$f":"I231*U226","v":0},{"$f":"J231*V226","v":0},{"$f":"K231*W226","v":0},{"$f":"L231*X226","v":0}]
[null,null,null,null,null,"First Shift Segment",null,null,null,null,null,null,null,null,null,null,{"$f":"Q227-Q228","v":-40},{"$f":"R228-R227","v":0},{"$f":"S228-S227","v":0},0,0,0,0,0,null,{"$f":"R229","v":0},{"$f":"S229","v":0},{"$f":"T229","v":0},{"$f":"U229","v":0},{"$f":"V229","v":0},{"$f":"W229","v":0},{"$f":"X229","v":0}]
[null,null,null,"Shift Start",null,null,null,null,null,null,null,null,null,null,null,null,{"$f":"SUM(F238:L238)","v":0},{"$f":"F232","v":0},{"$f":"G232","v":0},{"$f":"H232","v":0},{"$f":"I232","v":0},{"$f":"J232","v":0},{"$f":"K232","v":0},{"$f":"L232","v":0}]
[null,null,null,"Shift End",null,null,null,null,null,null,null,null,null,null,null,null,{"$f":"IF(Q227>Q228,Q229,Q239)","v":0},{"$f":"R229-R230","v":0},{"$f":"S229-S230","v":0},0,0,0,0,0,null,{"$f":"R232-R229-R227","v":0},{"$f":"S232-S229-S227","v":0},{"$f":"T232-T229-T227","v":0},{"$f":"U232-U229-U227","v":0},{"$f":"V232-V229-V227","v":0},{"$f":"W232-W229-W227","v":0},{"$f":"X232-X229-X227","v":0}]
[null,null,null,"Lunch  (1 or .5)",null,null,null,null,null,null,null,null,null,null,null,null,null,{"$f":"F234*R226","v":0},{"$f":"G234*S226","v":0},{"$f":"H234*T226","v":0},{"$f":"I234*U226","v":0},{"$f":"J234*V226","v":0},{"$f":"K234*W226","v":0},{"$f":"L234*X226","v":0},null,{"$f":"IF(Z231>AH232,Z231,AH232)","v":0},{"$f":"IF(AA231>AI232,AA231,AI232)","v":0},{"$f":"IF(AB231>AJ232,AB231,AJ232)","v":0},{"$f":"IF(AC231>AK232,AC231,AK232)","v":0},{"$f":"IF(AD231>AL232,AD231,AL232)","v":0},{"$f":"IF(AE231>AM232,AE231,AM232)","v":0},{"$f":"IF(AF231>AN232,AF231,AN232)","v":0},null,0,0,0,0,0,0,0]
[null,null,null,null,null,"Second Shift Segment",null,null,null,null,null,null,null,null,null,null,null,{"$f":"F235*R226","v":0},{"$f":"G235*S226","v":0},{"$f":"H235*T226","v":0},{"$f":"I235*U226","v":0},{"$f":"J235*V226","v":0},{"$f":"K235*W226","v":0},{"$f":"L235*X226","v":0}]
[null,null,null,"Shift Start",null,null,null,null,null,null,null,null,null,null,null,null,null,{"$f":"R233-R232","v":0},{"$f":"S233-S232","v":0},0,0,0,0,0,null,{"$f":"R234","v":0},{"$f":"S234","v":0},{"$f":"T234","v":0},{"$f":"U234","v":0},{"$f":"V234","v":0},{"$f":"W234","v":0},{"$f":"X234","v":0}]
[null,null,null,"Shift End",null,null,null,null,null,null,null,null,null,null,null,null,null,{"$f":"F236","v":0},{"$f":"G236","v":0},{"$f":"H236","v":0},{"$f":"I236","v":0},{"$f":"J236","v":0},{"$f":"K236","v":0},{"$f":"L236","v":0}]
[null,null,null,"Lunch  (1 or .5)",null,null,null,null,null,null,null,null,null,null,null,null,null,{"$f":"R234-R235","v":0},{"$f":"S234-S235","v":0},0,0,0,0,0]
[null,null,null,"Reg",null,{"$f":"IF(R237>R238,R238,R237)","v":0},{"$f":"IF(S237>S238,S238,S237)","v":0},{"$f":"IF(T237>T238,T238,T237)","v":0},{"$f":"IF(U237>U238,U238,U237)","v":0},{"$f":"IF(V237>V238,V238,V237)","v":0},{"$f":"IF(W237>W238,W238,W237)","v":0},{"$f":"IF(X237>X238,X238,X237)","v":0},{"$f":"IF(Q227>Q228,Q228,Q227)","v":0},{"$f":"Q230+Q231","v":0},{"$f":"M237+N237","v":0},null,null,{"$f":"R236+R231","v":0},{"$f":"S236+S231","v":0},0,0,0,0,0]
[null,null,null,"OT",null,{"$f":"IF(R237>R238,R239,R240)","v":0},{"$f":"IF(S237>S238,S239,S240)","v":0},{"$f":"IF(T237>T238,T239,T240)","v":0},{"$f":"IF(U237>U238,U239,U240)","v":0},{"$f":"IF(V237>V238,V239,V240)","v":0},{"$f":"IF(W237>W238,W239,W240)","v":0},{"$f":"IF(X237>X238,X239,X240)","v":0},null,null,null,null,null,8,8,8,8,8,8,8]
[null,null,null,null,null,null,null,null,null,null,null,null,null,null,null,null,0,{"$f":"R237-R238","v":-8},{"$f":"S237-S238","v":-8},-8,-8,-8,-8,-8]
[null,null,null,null,null,null,null,null,null,null,null,null,null,null,null,null,null,0,0,0,0,0,0,0]
[]
[null,null,null,null,null,null,null,null,null,null,null,null,null,null,null,null,null,24,24,24,24,24,24,24]
[16,null,"Open",null,null,null,null,null,null,null,null,null,"Total Reg Hours","Total OT Hours","Total  Hours",null,{"$f":"SUM(F253:L253)","v":0},{"$f":"F246*R242","v":0},{"$f":"G246*S242","v":0},{"$f":"H246*T242","v":0},{"$f":"I246*U242","v":0},{"$f":"J246*V242","v":0},{"$f":"K246*W242","v":0},{"$f":"L246*X242","v":0},null,{"$f":"R243","v":0},{"$f":"S243","v":0},{"$f":"T243","v":0},{"$f":"U243","v":0},{"$f":"V243","v":0},{"$f":"W243","v":0},{"$f":"X243","v":0}]
[null,null,null,null,null,"Sun","Mon","Tue","Wed","Thu","Fri","Sat",null,null,null,null,40,{"$f":"F247*R242","v":0},{"$f":"G247*S242","v":0},{"$f":"H247*T242","v":0},{"$f":"I247*U242","v":0},{"$f":"J247*V242","v":0},{"$f":"K247*W242","v":0},{"$f":"L247*X242","v":0}]
[null,null,null,null,null,"First Shift Segment",null,null,null,null,null,null,null,null,null,null,{"$f":"Q243-Q244","v":-40},{"$f":"R244-R243","v":0},{"$f":"S244-S243","v":0},0,0,0,0,0,null,{"$f":"R245","v":0},{"$f":"S245","v":0},{"$f":"T245","v":0},{"$f":"U245","v":0},{"$f":"V245","v":0},{"$f":"W245","v":0},{"$f":"X245","v":0}]
[null,null,null,"Shift Start",null,null,null,null,null,null,null,null,null,null,null,null,{"$f":"SUM(F254:L254)","v":0},{"$f":"F248","v":0},{"$f":"G248","v":0},{"$f":"H248","v":0},{"$f":"I248","v":0},{"$f":"J248","v":0},{"$f":"K248","v":0},{"$f":"L248","v":0}]
[null,null,null,"Shift End",null,null,null,null,null,null,null,null,null,null,null,null,{"$f":"IF(Q243>Q244,Q245,Q255)","v":0},{"$f":"R245-R246","v":0},{"$f":"S245-S246","v":0},0,0,0,0,0,null,{"$f":"R248-R245-R243","v":0},{"$f":"S248-S245-S243","v":0},{"$f":"T248-T245-T243","v":0},{"$f":"U248-U245-U243","v":0},{"$f":"V248-V245-V243","v":0},{"$f":"W248-W245-W243","v":0},{"$f":"X248-X245-X243","v":0}]
[null,null,null,"Lunch  (1 or .5)",null,null,null,null,null,null,null,null,null,null,null,null,null,{"$f":"F250*R242","v":0},{"$f":"G250*S242","v":0},{"$f":"H250*T242","v":0},{"$f":"I250*U242","v":0},{"$f":"J250*V242","v":0},{"$f":"K250*W242","v":0},{"$f":"L250*X242","v":0},null,{"$f":"IF(Z247>AH248,Z247,AH248)","v":0},{"$f":"IF(AA247>AI248,AA247,AI248)","v":0},{"$f":"IF(AB247>AJ248,AB247,AJ248)","v":0},{"$f":"IF(AC247>AK248,AC247,AK248)","v":0},{"$f":"IF(AD247>AL248,AD247,AL248)","v":0},{"$f":"IF(AE247>AM248,AE247,AM248)","v":0},{"$f":"IF(AF247>AN248,AF247,AN248)","v":0},null,0,0,0,0,0,0,0]
[null,null,null,null,null,"Second Shift Segment",null,null,null,null,null,null,null,null,null,null,null,{"$f":"F251*R242","v":0},{"$f":"G251*S242","v":0},{"$f":"H251*T242","v":0},{"$f":"I251*U242","v":0},{"$f":"J251*V242","v":0},{"$f":"K251*W242","v":0},{"$f":"L251*X242","v":0}]
[null,null,null,"Shift Start",null,null,null,null,null,null,null,null,null,null,null,null,null,{"$f":"R249-R248","v":0},{"$f":"S249-S248","v":0},0,0,0,0,0,null,{"$f":"R250","v":0},{"$f":"S250","v":0},{"$f":"T250","v":0},{"$f":"U250","v":0},{"$f":"V250","v":0},{"$f":"W250","v":0},{"$f":"X250","v":0}]
[null,null,null,"Shift End",null,null,null,null,null,null,null,null,null,null,null,null,null,{"$f":"F252","v":0},{"$f":"G252","v":0},{"$f":"H252","v":0},{"$f":"I252","v":0},{"$f":"J252","v":0},{"$f":"K252","v":0},{"$f":"L252","v":0}]
[null,null,null,"Lunch  (1 or .5)",null,null,null,null,null,null,null,null,null,null,null,null,null,{"$f":"R250-R251","v":0},{"$f":"S250-S251","v":0},0,0,0,0,0]
[null,null,null,"Reg",null,{"$f":"IF(R253>R254,R254,R253)","v":0},{"$f":"IF(S253>S254,S254,S253)","v":0},{"$f":"IF(T253>T254,T254,T253)","v":0},{"$f":"IF(U253>U254,U254,U253)","v":0},{"$f":"IF(V253>V254,V254,V253)","v":0},{"$f":"IF(W253>W254,W254,W253)","v":0},{"$f":"IF(X253>X254,X254,X253)","v":0},{"$f":"IF(Q243>Q244,Q244,Q243)","v":0},{"$f":"Q246+Q247","v":0},{"$f":"M253+N253","v":0},null,null,{"$f":"R252+R247","v":0},{"$f":"S252+S247","v":0},0,0,0,0,0]
[null,null,null,"OT",null,{"$f":"IF(R253>R254,R255,R256)","v":0},{"$f":"IF(S253>S254,S255,S256)","v":0},{"$f":"IF(T253>T254,T255,T256)","v":0},{"$f":"IF(U253>U254,U255,U256)","v":0},{"$f":"IF(V253>V254,V255,V256)","v":0},{"$f":"IF(W253>W254,W255,W256)","v":0},{"$f":"IF(X253>X254,X255,X256)","v":0},null,null,null,null,null,8,8,8,8,8,8,8]
[null,null,null,null,null,null,null,null,null,null,null,null,null,null,null,null,0,{"$f":"R253-R254","v":-8},{"$f":"S253-S254","v":-8},-8,-8,-8,-8,-8]
[null,null,null,null,null,null,null,null,null,null,null,null,null,null,null,null,null,0,0,0,0,0,0,0]
[]
[null,null,null,null,null,null,null,null,null,null,null,null,null,null,null,null,null,24,24,24,24,24,24,24]
[17,null,"Open",null,null,null,null,null,null,null,null,null,"Total Reg Hours","Total OT Hours","Total  Hours",null,{"$f":"SUM(F269:L269)","v":0},{"$f":"F262*R258","v":0},{"$f":"G262*S258","v":0},{"$f":"H262*T258","v":0},{"$f":"I262*U258","v":0},{"$f":"J262*V258","v":0},{"$f":"K262*W258","v":0},{"$f":"L262*X258","v":0},null,{"$f":"R259","v":0},{"$f":"S259","v":0},{"$f":"T259","v":0},{"$f":"U259","v":0},{"$f":"V259","v":0},{"$f":"W259","v":0},{"$f":"X259","v":0}]
[null,null,null,null,null,"Sun","Mon","Tue","Wed","Thu","Fri","Sat",null,null,null,null,40,{"$f":"F263*R258","v":0},{"$f":"G263*S258","v":0},{"$f":"H263*T258","v":0},{"$f":"I263*U258","v":0},{"$f":"J263*V258","v":0},{"$f":"K263*W258","v":0},{"$f":"L263*X258","v":0}]
[null,null,null,null,null,"First Shift Segment",null,null,null,null,null,null,null,null,null,null,{"$f":"Q259-Q260","v":-40},{"$f":"R260-R259","v":0},{"$f":"S260-S259","v":0},0,0,0,0,0,null,{"$f":"R261","v":0},{"$f":"S261","v":0},{"$f":"T261","v":0},{"$f":"U261","v":0},{"$f":"V261","v":0},{"$f":"W261","v":0},{"$f":"X261","v":0}]
[null,null,null,"Shift Start",null,null,null,null,null,null,null,null,null,null,null,null,{"$f":"SUM(F270:L270)","v":0},{"$f":"F264","v":0},{"$f":"G264","v":0},{"$f":"H264","v":0},{"$f":"I264","v":0},{"$f":"J264","v":0},{"$f":"K264","v":0},{"$f":"L264","v":0}]
[null,null,null,"Shift End",null,null,null,null,null,null,null,null,null,null,null,null,{"$f":"IF(Q259>Q260,Q261,Q271)","v":0},{"$f":"R261-R262","v":0},{"$f":"S261-S262","v":0},0,0,0,0,0,null,{"$f":"R264-R261-R259","v":0},{"$f":"S264-S261-S259","v":0},{"$f":"T264-T261-T259","v":0},{"$f":"U264-U261-U259","v":0},{"$f":"V264-V261-V259","v":0},{"$f":"W264-W261-W259","v":0},{"$f":"X264-X261-X259","v":0}]
[null,null,null,"Lunch  (1 or .5)",null,null,null,null,null,null,null,null,null,null,null,null,null,{"$f":"F266*R258","v":0},{"$f":"G266*S258","v":0},{"$f":"H266*T258","v":0},{"$f":"I266*U258","v":0},{"$f":"J266*V258","v":0},{"$f":"K266*W258","v":0},{"$f":"L266*X258","v":0},null,{"$f":"IF(Z263>AH264,Z263,AH264)","v":0},{"$f":"IF(AA263>AI264,AA263,AI264)","v":0},{"$f":"IF(AB263>AJ264,AB263,AJ264)","v":0},{"$f":"IF(AC263>AK264,AC263,AK264)","v":0},{"$f":"IF(AD263>AL264,AD263,AL264)","v":0},{"$f":"IF(AE263>AM264,AE263,AM264)","v":0},{"$f":"IF(AF263>AN264,AF263,AN264)","v":0},null,0,0,0,0,0,0,0]
[null,null,null,null,null,"Second Shift Segment",null,null,null,null,null,null,null,null,null,null,null,{"$f":"F267*R258","v":0},{"$f":"G267*S258","v":0},{"$f":"H267*T258","v":0},{"$f":"I267*U258","v":0},{"$f":"J267*V258","v":0},{"$f":"K267*W258","v":0},{"$f":"L267*X258","v":0}]
[null,null,null,"Shift Start",null,null,null,null,null,null,null,null,null,null,null,null,null,{"$f":"R265-R264","v":0},{"$f":"S265-S264","v":0},0,0,0,0,0,null,{"$f":"R266","v":0},{"$f":"S266","v":0},{"$f":"T266","v":0},{"$f":"U266","v":0},{"$f":"V266","v":0},{"$f":"W266","v":0},{"$f":"X266","v":0}]
[null,null,null,"Shift End",null,null,null,null,null,null,null,null,null,null,null,null,null,{"$f":"F268","v":0},{"$f":"G268","v":0},{"$f":"H268","v":0},{"$f":"I268","v":0},{"$f":"J268","v":0},{"$f":"K268","v":0},{"$f":"L268","v":0}]
[null,null,null,"Lunch  (1 or .5)",null,null,null,null,null,null,null,null,null,null,null,null,null,{"$f":"R266-R267","v":0},{"$f":"S266-S267","v":0},0,0,0,0,0]
[null,null,null,"Reg",null,{"$f":"IF(R269>R270,R270,R269)","v":0},{"$f":"IF(S269>S270,S270,S269)","v":0},{"$f":"IF(T269>T270,T270,T269)","v":0},{"$f":"IF(U269>U270,U270,U269)","v":0},{"$f":"IF(V269>V270,V270,V269)","v":0},{"$f":"IF(W269>W270,W270,W269)","v":0},{"$f":"IF(X269>X270,X270,X269)","v":0},{"$f":"IF(Q259>Q260,Q260,Q259)","v":0},{"$f":"Q262+Q263","v":0},{"$f":"M269+N269","v":0},null,null,{"$f":"R268+R263","v":0},{"$f":"S268+S263","v":0},0,0,0,0,0]
[null,null,null,"OT",null,{"$f":"IF(R269>R270,R271,R272)","v":0},{"$f":"IF(S269>S270,S271,S272)","v":0},{"$f":"IF(T269>T270,T271,T272)","v":0},{"$f":"IF(U269>U270,U271,U272)","v":0},{"$f":"IF(V269>V270,V271,V272)","v":0},{"$f":"IF(W269>W270,W271,W272)","v":0},{"$f":"IF(X269>X270,X271,X272)","v":0},null,null,null,null,null,8,8,8,8,8,8,8]
[null,null,null,null,null,null,null,null,null,null,null,null,null,null,null,null,0,{"$f":"R269-R270","v":-8},{"$f":"S269-S270","v":-8},-8,-8,-8,-8,-8]
[null,null,null,null,null,null,null,null,null,null,null,null,null,null,null,null,null,0,0,0,0,0,0,0]
[]
[null,null,null,null,null,null,null,null,null,null,null,null,null,null,null,null,null,24,24,24,24,24,24,24]
[18,null,"Open",null,null,null,null,null,null,null,null,null,"Total Reg Hours","Total OT Hours","Total  Hours",null,{"$f":"SUM(F285:L285)","v":0},{"$f":"F278*R274","v":0},{"$f":"G278*S274","v":0},{"$f":"H278*T274","v":0},{"$f":"I278*U274","v":0},{"$f":"J278*V274","v":0},{"$f":"K278*W274","v":0},{"$f":"L278*X274","v":0},null,{"$f":"R275","v":0},{"$f":"S275","v":0},{"$f":"T275","v":0},{"$f":"U275","v":0},{"$f":"V275","v":0},{"$f":"W275","v":0},{"$f":"X275","v":0}]
[null,null,null,null,null,"Sun","Mon","Tue","Wed","Thu","Fri","Sat",null,null,null,null,40,{"$f":"F279*R274","v":0},{"$f":"G279*S274","v":0},{"$f":"H279*T274","v":0},{"$f":"I279*U274","v":0},{"$f":"J279*V274","v":0},{"$f":"K279*W274","v":0},{"$f":"L279*X274","v":0}]
[null,null,null,null,null,"First Shift Segment",null,null,null,null,null,null,null,null,null,null,{"$f":"Q275-Q276","v":-40},{"$f":"R276-R275","v":0},{"$f":"S276-S275","v":0},0,0,0,0,0,null,{"$f":"R277","v":0},{"$f":"S277","v":0},{"$f":"T277","v":0},{"$f":"U277","v":0},{"$f":"V277","v":0},{"$f":"W277","v":0},{"$f":"X277","v":0}]
[null,null,null,"Shift Start",null,null,null,null,null,null,null,null,null,null,null,null,{"$f":"SUM(F286:L286)","v":0},{"$f":"F280","v":0},{"$f":"G280","v":0},{"$f":"H280","v":0},{"$f":"I280","v":0},{"$f":"J280","v":0},{"$f":"K280","v":0},{"$f":"L280","v":0}]
[null,null,null,"Shift End",null,null,null,null,null,null,null,null,null,null,null,null,{"$f":"IF(Q275>Q276,Q277,Q287)","v":0},{"$f":"R277-R278","v":0},{"$f":"S277-S278","v":0},0,0,0,0,0,null,{"$f":"R280-R277-R275","v":0},{"$f":"S280-S277-S275","v":0},{"$f":"T280-T277-T275","v":0},{"$f":"U280-U277-U275","v":0},{"$f":"V280-V277-V275","v":0},{"$f":"W280-W277-W275","v":0},{"$f":"X280-X277-X275","v":0}]
[null,null,null,"Lunch  (1 or .5)",null,null,null,null,null,null,null,null,null,null,null,null,null,{"$f":"F282*R274","v":0},{"$f":"G282*S274","v":0},{"$f":"H282*T274","v":0},{"$f":"I282*U274","v":0},{"$f":"J282*V274","v":0},{"$f":"K282*W274","v":0},{"$f":"L282*X274","v":0},null,{"$f":"IF(Z279>AH280,Z279,AH280)","v":0},{"$f":"IF(AA279>AI280,AA279,AI280)","v":0},{"$f":"IF(AB279>AJ280,AB279,AJ280)","v":0},{"$f":"IF(AC279>AK280,AC279,AK280)","v":0},{"$f":"IF(AD279>AL280,AD279,AL280)","v":0},{"$f":"IF(AE279>AM280,AE279,AM280)","v":0},{"$f":"IF(AF279>AN280,AF279,AN280)","v":0},null,0,0,0,0,0,0,0]
[null,null,null,null,null,"Second Shift Segment",null,null,null,null,null,null,null,null,null,null,null,{"$f":"F283*R274","v":0},{"$f":"G283*S274","v":0},{"$f":"H283*T274","v":0},{"$f":"I283*U274","v":0},{"$f":"J283*V274","v":0},{"$f":"K283*W274","v":0},{"$f":"L283*X274","v":0}]
[null,null,null,"Shift Start",null,null,null,null,null,null,null,null,null,null,null,null,null,{"$f":"R281-R280","v":0},{"$f":"S281-S280","v":0},0,0,0,0,0,null,{"$f":"R282","v":0},{"$f":"S282","v":0},{"$f":"T282","v":0},{"$f":"U282","v":0},{"$f":"V282","v":0},{"$f":"W282","v":0},{"$f":"X282","v":0}]
[null,null,null,"Shift End",null,null,null,null,null,null,null,null,null,null,null,null,null,{"$f":"F284","v":0},{"$f":"G284","v":0},{"$f":"H284","v":0},{"$f":"I284","v":0},{"$f":"J284","v":0},{"$f":"K284","v":0},{"$f":"L284","v":0}]
[null,null,null,"Lunch  (1 or .5)",null,null,null,null,null,null,null,null,null,null,null,null,null,{"$f":"R282-R283","v":0},{"$f":"S282-S283","v":0},0,0,0,0,0]
[null,null,null,"Reg",null,{"$f":"IF(R285>R286,R286,R285)","v":0},{"$f":"IF(S285>S286,S286,S285)","v":0},{"$f":"IF(T285>T286,T286,T285)","v":0},{"$f":"IF(U285>U286,U286,U285)","v":0},{"$f":"IF(V285>V286,V286,V285)","v":0},{"$f":"IF(W285>W286,W286,W285)","v":0},{"$f":"IF(X285>X286,X286,X285)","v":0},{"$f":"IF(Q275>Q276,Q276,Q275)","v":0},{"$f":"Q278+Q279","v":0},{"$f":"M285+N285","v":0},null,null,{"$f":"R284+R279","v":0},{"$f":"S284+S279","v":0},0,0,0,0,0]
[null,null,null,"OT",null,{"$f":"IF(R285>R286,R287,R288)","v":0},{"$f":"IF(S285>S286,S287,S288)","v":0},{"$f":"IF(T285>T286,T287,T288)","v":0},{"$f":"IF(U285>U286,U287,U288)","v":0},{"$f":"IF(V285>V286,V287,V288)","v":0},{"$f":"IF(W285>W286,W287,W288)","v":0},{"$f":"IF(X285>X286,X287,X288)","v":0},null,null,null,null,null,8,8,8,8,8,8,8]
[null,null,null,null,null,null,null,null,null,null,null,null,null,null,null,null,0,{"$f":"R285-R286","v":-8},{"$f":"S285-S286","v":-8},-8,-8,-8,-8,-8]
[null,null,null,null,null,null,null,null,null,null,null,null,null,null,null,null,null,0,0,0,0,0,0,0]
[]
[null,null,null,null,null,null,null,null,null,null,null,null,null,null,null,null,null,24,24,24,24,24,24,24]
[19,null,"Open",null,null,null,null,null,null,null,null,null,"Total Reg Hours","Total OT Hours","Total  Hours",null,{"$f":"SUM(F301:L301)","v":0},{"$f":"F294*R290","v":0},{"$f":"G294*S290","v":0},{"$f":"H294*T290","v":0},{"$f":"I294*U290","v":0},{"$f":"J294*V290","v":0},{"$f":"K294*W290","v":0},{"$f":"L294*X290","v":0},null,{"$f":"R291","v":0},{"$f":"S291","v":0},{"$f":"T291","v":0},{"$f":"U291","v":0},{"$f":"V291","v":0},{"$f":"W291","v":0},{"$f":"X291","v":0}]
[null,null,null,null,null,"Sun","Mon","Tue","Wed","Thu","Fri","Sat",null,null,null,null,40,{"$f":"F295*R290","v":0},{"$f":"G295*S290","v":0},{"$f":"H295*T290","v":0},{"$f":"I295*U290","v":0},{"$f":"J295*V290","v":0},{"$f":"K295*W290","v":0},{"$f":"L295*X290","v":0}]
[null,null,null,null,null,"First Shift Segment",null,null,null,null,null,null,null,null,null,null,{"$f":"Q291-Q292","v":-40},{"$f":"R292-R291","v":0},{"$f":"S292-S291","v":0},0,0,0,0,0,null,{"$f":"R293","v":0},{"$f":"S293","v":0},{"$f":"T293","v":0},{"$f":"U293","v":0},{"$f":"V293","v":0},{"$f":"W293","v":0},{"$f":"X293","v":0}]
[null,null,null,"Shift Start",null,null,null,null,null,null,null,null,null,null,null,null,{"$f":"SUM(F302:L302)","v":0},{"$f":"F296","v":0},{"$f":"G296","v":0},{"$f":"H296","v":0},{"$f":"I296","v":0},{"$f":"J296","v":0},{"$f":"K296","v":0},{"$f":"L296","v":0}]
[null,null,null,"Shift End",null,null,null,null,null,null,null,null,null,null,null,null,{"$f":"IF(Q291>Q292,Q293,Q303)","v":0},{"$f":"R293-R294","v":0},{"$f":"S293-S294","v":0},0,0,0,0,0,null,{"$f":"R296-R293-R291","v":0},{"$f":"S296-S293-S291","v":0},{"$f":"T296-T293-T291","v":0},{"$f":"U296-U293-U291","v":0},{"$f":"V296-V293-V291","v":0},{"$f":"W296-W293-W291","v":0},{"$f":"X296-X293-X291","v":0}]
[null,null,null,"Lunch  (1 or .5)",null,null,null,null,null,null,null,null,null,null,null,null,null,{"$f":"F298*R290","v":0},{"$f":"G298*S290","v":0},{"$f":"H298*T290","v":0},{"$f":"I298*U290","v":0},{"$f":"J298*V290","v":0},{"$f":"K298*W290","v":0},{"$f":"L298*X290","v":0},null,{"$f":"IF(Z295>AH296,Z295,AH296)","v":0},{"$f":"IF(AA295>AI296,AA295,AI296)","v":0},{"$f":"IF(AB295>AJ296,AB295,AJ296)","v":0},{"$f":"IF(AC295>AK296,AC295,AK296)","v":0},{"$f":"IF(AD295>AL296,AD295,AL296)","v":0},{"$f":"IF(AE295>AM296,AE295,AM296)","v":0},{"$f":"IF(AF295>AN296,AF295,AN296)","v":0},null,0,0,0,0,0,0,0]
[null,null,null,null,null,"Second Shift Segment",null,null,null,null,null,null,null,null,null,null,null,{"$f":"F299*R290","v":0},{"$f":"G299*S290","v":0},{"$f":"H299*T290","v":0},{"$f":"I299*U290","v":0},{"$f":"J299*V290","v":0},{"$f":"K299*W290","v":0},{"$f":"L299*X290","v":0}]
[null,null,null,"Shift Start",null,null,null,null,null,null,null,null,null,null,null,null,null,{"$f":"R297-R296","v":0},{"$f":"S297-S296","v":0},0,0,0,0,0,null,{"$f":"R298","v":0},{"$f":"S298","v":0},{"$f":"T298","v":0},{"$f":"U298","v":0},{"$f":"V298","v":0},{"$f":"W298","v":0},{"$f":"X298","v":0}]
[null,null,null,"Shift End",null,null,null,null,null,null,null,null,null,null,null,null,null,{"$f":"F300","v":0},{"$f":"G300","v":0},{"$f":"H300","v":0},{"$f":"I300","v":0},{"$f":"J300","v":0},{"$f":"K300","v":0},{"$f":"L300","v":0}]
[null,null,null,"Lunch  (1 or .5)",null,null,null,null,null,null,null,null,null,null,null,null,null,{"$f":"R298-R299","v":0},{"$f":"S298-S299","v":0},0,0,0,0,0]
[null,null,null,"Reg",null,{"$f":"IF(R301>R302,R302,R301)","v":0},{"$f":"IF(S301>S302,S302,S301)","v":0},{"$f":"IF(T301>T302,T302,T301)","v":0},{"$f":"IF(U301>U302,U302,U301)","v":0},{"$f":"IF(V301>V302,V302,V301)","v":0},{"$f":"IF(W301>W302,W302,W301)","v":0},{"$f":"IF(X301>X302,X302,X301)","v":0},{"$f":"IF(Q291>Q292,Q292,Q291)","v":0},{"$f":"Q294+Q295","v":0},{"$f":"M301+N301","v":0},null,null,{"$f":"R300+R295","v":0},{"$f":"S300+S295","v":0},0,0,0,0,0]
[null,null,null,"OT",null,{"$f":"IF(R301>R302,R303,R304)","v":0},{"$f":"IF(S301>S302,S303,S304)","v":0},{"$f":"IF(T301>T302,T303,T304)","v":0},{"$f":"IF(U301>U302,U303,U304)","v":0},{"$f":"IF(V301>V302,V303,V304)","v":0},{"$f":"IF(W301>W302,W303,W304)","v":0},{"$f":"IF(X301>X302,X303,X304)","v":0},null,null,null,null,null,8,8,8,8,8,8,8]
[null,null,null,null,null,null,null,null,null,null,null,null,null,null,null,null,0,{"$f":"R301-R302","v":-8},{"$f":"S301-S302","v":-8},-8,-8,-8,-8,-8]
[null,null,null,null,null,null,null,null,null,null,null,null,null,null,null,null,null,0,0,0,0,0,0,0]
[]
[null,null,null,null,null,null,null,null,null,null,null,null,null,null,null,null,null,24,24,24,24,24,24,24]
[20,null,"Admin",null,null,null,null,null,null,null,null,null,"Total Reg Hours","Total OT Hours","Total  Hours",null,{"$f":"SUM(F317:L317)","v":0},{"$f":"F310*R306","v":0},{"$f":"G310*S306","v":0},{"$f":"H310*T306","v":0},{"$f":"I310*U306","v":0},{"$f":"J310*V306","v":0},{"$f":"K310*W306","v":0},{"$f":"L310*X306","v":0},null,{"$f":"R307","v":0},{"$f":"S307","v":0},0,0,0,0,0]
[null,null,null,null,null,"Sun","Mon","Tue","Wed","Thu","Fri","Sat",null,null,null,null,40,{"$f":"F311*R306","v":0},{"$f":"G311*S306","v":0},{"$f":"H311*T306","v":0},{"$f":"I311*U306","v":0},{"$f":"J311*V306","v":0},{"$f":"K311*W306","v":0},{"$f":"L311*X306","v":0}]
[null,null,null,null,null,"First Shift Segment",null,null,null,null,null,null,null,null,null,null,{"$f":"Q307-Q308","v":-40},{"$f":"R308-R307","v":0},{"$f":"S308-S307","v":0},0,0,0,0,0,null,{"$f":"R309","v":0},{"$f":"S309","v":0},0,0,0,0,0]
[null,null,null,"Shift Start",null,null,null,null,null,null,null,null,null,null,null,null,{"$f":"SUM(F318:L318)","v":0},{"$f":"F312","v":0},{"$f":"G312","v":0},{"$f":"H312","v":0},{"$f":"I312","v":0},{"$f":"J312","v":0},{"$f":"K312","v":0},{"$f":"L312","v":0}]
[null,null,null,"Shift End",null,null,null,null,null,null,null,null,null,null,null,null,{"$f":"IF(Q307>Q308,Q309,Q319)","v":0},{"$f":"R309-R310","v":0},{"$f":"S309-S310","v":0},0,0,0,0,0,null,{"$f":"R312-R309-R307","v":0},{"$f":"S312-S309-S307","v":0},0,0,0,0,0]
[null,null,null,"Lunch  (1 or .5)",null,null,null,null,null,null,null,null,null,null,null,null,null,{"$f":"F314*R306","v":0},{"$f":"G314*S306","v":0},{"$f":"H314*T306","v":0},{"$f":"I314*U306","v":0},{"$f":"J314*V306","v":0},{"$f":"K314*W306","v":0},{"$f":"L314*X306","v":0},null,{"$f":"IF(Z311>AH312,Z311,AH312)","v":0},{"$f":"IF(AA311>AI312,AA311,AI312)","v":0},0,0,0,0,0,null,0,0,0,0,0,0,0]
[null,null,null,null,null,"Second Shift Segment",null,null,null,null,null,null,null,null,null,null,null,{"$f":"F315*R306","v":0},{"$f":"G315*S306","v":0},{"$f":"H315*T306","v":0},{"$f":"I315*U306","v":0},{"$f":"J315*V306","v":0},{"$f":"K315*W306","v":0},{"$f":"L315*X306","v":0}]
[null,null,null,"Shift Start",null,null,null,null,null,null,null,null,null,null,null,null,null,{"$f":"R313-R312","v":0},{"$f":"S313-S312","v":0},0,0,0,0,0,null,{"$f":"R314","v":0},{"$f":"S314","v":0},0,0,0,0,0]
[null,null,null,"Shift End",null,null,null,null,null,null,null,null,null,null,null,null,null,{"$f":"F316","v":0},{"$f":"G316","v":0},{"$f":"H316","v":0},{"$f":"I316","v":0},{"$f":"J316","v":0},{"$f":"K316","v":0},{"$f":"L316","v":0}]
[null,null,null,"Lunch  (1 or .5)",null,null,null,null,null,null,null,null,null,null,null,null,null,{"$f":"R314-R315","v":0},{"$f":"S314-S315","v":0},0,0,0,0,0]
[null,null,null,"Reg",null,{"$f":"IF(R317>R318,R318,R317)","v":0},{"$f":"IF(S317>S318,S318,S317)","v":0},{"$f":"IF(T317>T318,T318,T317)","v":0},{"$f":"IF(U317>U318,U318,U317)","v":0},{"$f":"IF(V317>V318,V318,V317)","v":0},{"$f":"IF(W317>W318,W318,W317)","v":0},{"$f":"IF(X317>X318,X318,X317)","v":0},{"$f":"IF(Q307>Q308,Q308,Q307)","v":0},{"$f":"Q310+Q311","v":0},{"$f":"M317+N317","v":0},null,null,{"$f":"R316+R311","v":0},{"$f":"S316+S311","v":0},0,0,0,0,0]
[null,null,null,"OT",null,{"$f":"IF(R317>R318,R319,R320)","v":0},{"$f":"IF(S317>S318,S319,S320)","v":0},{"$f":"IF(T317>T318,T319,T320)","v":0},{"$f":"IF(U317>U318,U319,U320)","v":0},{"$f":"IF(V317>V318,V319,V320)","v":0},{"$f":"IF(W317>W318,W319,W320)","v":0},{"$f":"IF(X317>X318,X319,X320)","v":0},null,null,null,null,null,8,8,8,8,8,8,8]
[null,null,null,null,null,null,null,null,null,null,null,null,null,null,null,null,0,{"$f":"R317-R318","v":-8},{"$f":"S317-S318","v":-8},-8,-8,-8,-8,-8]
[null,null,null,null,null,null,null,null,null,null,null,null,null,null,null,null,null,0,0,0,0,0,0,0]
[]
[]
[null,null,null,null,null,null,null,null,null,null,null,null,"Total Schedule Hours (not including Admin)"]
[null,null,null,null,null,null,null,null,null,null,null,null,"Total Reg Hours","Total OT Hours","Total  Hours"]
[null,null,null,null,null,null,null,null,null,null,null,null,{"$f":"M13+M29+M45+M61+M77+M93+M109+M125+M141+M157+M173+M189+M205+M221+M237+M253+M269+M285+M301","v":0},{"$f":"N13+N29+N45+N61+N77+N93+N109+N125+N141+N157+N173+N189+N205+N221+N237+N253+N269+N285+N301","v":0},{"$f":"SUM(M325:N325)","v":0},null,{"$f":"C3","v":0},{"$f":"C19","v":0},{"$f":"C35","v":0},{"$f":"C51","v":0},{"$f":"C67","v":0},{"$f":"C83","v":0},{"$f":"C99","v":0},{"$f":"C115","v":0},{"$f":"C131","v":0},{"$f":"C147","v":0},{"$f":"C163","v":0},{"$f":"C179","v":0},{"$f":"C195","v":0},{"$f":"C211","v":"Open"},{"$f":"C227","v":"Open"},{"$f":"C243","v":"Open"},{"$f":"C259","v":"Open"},{"$f":"C275","v":"Open"},{"$f":"C291","v":"Open"},{"$f":"C307","v":"Admin"}]
[]
[]
[null,null,null,null,null,null,null,null,null,null,null,null,"Total Actual Hours         (not including Admin)"]
[null,null,null,null,null,null,null,null,null,null,null,null,"Total Reg Hours","Total OT Hours","Total  Hours"]
[]
[null,null,null,null,null,null,null,null,null,null,null,null,null,null,null,null,{"$f":"C9","v":0},{"$f":"C25","v":0},{"$f":"C41","v":0},{"$f":"C57","v":0},{"$f":"C73","v":0},{"$f":"C89","v":0},{"$f":"C105","v":0},{"$f":"C121","v":0},{"$f":"C137","v":0},{"$f":"C313","v":0}]

{"sheet":"Charts","index":3,"n_rows":153,"n_cols":142,"rows_kept":153,"cut":false,"hidden":false,"merged":[]}
[null,null,{"$f":"'Enter Data'!C3","v":0},{"$f":"'Enter Data'!C19","v":0},{"$f":"'Enter Data'!C35","v":0},{"$f":"'Enter Data'!C51","v":0},{"$f":"'Enter Data'!C67","v":0},{"$f":"'Enter Data'!C83","v":0},{"$f":"'Enter Data'!C99","v":0},{"$f":"'Enter Data'!C115","v":0},{"$f":"'Enter Data'!C131","v":0},{"$f":"'Enter Data'!Z325","v":0},{"$f":"'Enter Data'!AA325","v":0},{"$f":"'Enter Data'!AB325","v":0},{"$f":"'Enter Data'!AC325","v":0},{"$f":"'Enter Data'!AD325","v":"Open"},{"$f":"'Enter Data'!AE325","v":"Open"},{"$f":"'Enter Data'!AF325","v":"Open"},{"$f":"'Enter Data'!AG325","v":"Open"},{"$f":"'Enter Data'!AH325","v":"Open"},{"$f":"'Enter Data'!AI325","v":"Open"},{"$f":"'Enter Data'!AJ325","v":"Admin"}]
[null,null,{"$f":"'Enter Data'!Z3","v":0},{"$f":"'Enter Data'!Z19","v":0},{"$f":"'Enter Data'!Z35","v":0},{"$f":"'Enter Data'!Z51","v":0},{"$f":"'Enter Data'!Z67","v":0},{"$f":"'Enter Data'!Z83","v":0},{"$f":"'Enter Data'!Z99","v":0},{"$f":"'Enter Data'!Z115","v":0},{"$f":"'Enter Data'!Z131","v":0},{"$f":"'Enter Data'!Z147","v":0},{"$f":"'Enter Data'!Z163","v":0},{"$f":"'Enter Data'!Z179","v":0},{"$f":"'Enter Data'!Z195","v":0},{"$f":"'Enter Data'!Z211","v":0},{"$f":"'Enter Data'!Z227","v":0},{"$f":"'Enter Data'!Z243","v":0},{"$f":"'Enter Data'!Z259","v":0},{"$f":"'Enter Data'!Z275","v":0},{"$f":"'Enter Data'!Z291","v":0},{"$f":"'Enter Data'!Z307","v":0}]
[null,null,{"$f":"'Enter Data'!Z5","v":0},{"$f":"'Enter Data'!Z21","v":0},{"$f":"'Enter Data'!Z37","v":0},{"$f":"'Enter Data'!Z53","v":0},{"$f":"'Enter Data'!Z69","v":0},{"$f":"'Enter Data'!Z85","v":0},{"$f":"'Enter Data'!Z101","v":0},{"$f":"'Enter Data'!Z117","v":0},{"$f":"'Enter Data'!Z133","v":0},{"$f":"'Enter Data'!Z149","v":0},{"$f":"'Enter Data'!Z165","v":0},{"$f":"'Enter Data'!Z181","v":0},{"$f":"'Enter Data'!Z197","v":0},{"$f":"'Enter Data'!Z213","v":0},{"$f":"'Enter Data'!Z229","v":0},{"$f":"'Enter Data'!Z245","v":0},{"$f":"'Enter Data'!Z261","v":0},{"$f":"'Enter Data'!Z277","v":0},{"$f":"'Enter Data'!Z293","v":0},{"$f":"'Enter Data'!Z309","v":0}]
[null,null,{"$f":"'Enter Data'!Z8","v":0},{"$f":"'Enter Data'!Z24","v":0},{"$f":"'Enter Data'!Z40","v":0},{"$f":"'Enter Data'!Z56","v":0},{"$f":"'Enter Data'!Z72","v":0},{"$f":"'Enter Data'!Z88","v":0},{"$f":"'Enter Data'!Z104","v":0},{"$f":"'Enter Data'!Z120","v":0},{"$f":"'Enter Data'!Z136","v":0},{"$f":"'Enter Data'!Z152","v":0},{"$f":"'Enter Data'!Z168","v":0},{"$f":"'Enter Data'!Z184","v":0},{"$f":"'Enter Data'!Z200","v":0},{"$f":"'Enter Data'!Z216","v":0},{"$f":"'Enter Data'!Z232","v":0},{"$f":"'Enter Data'!Z248","v":0},{"$f":"'Enter Data'!Z264","v":0},{"$f":"'Enter Data'!Z280","v":0},{"$f":"'Enter Data'!Z296","v":0},{"$f":"'Enter Data'!Z312","v":0}]
[null,null,{"$f":"'Enter Data'!Z10","v":0},{"$f":"'Enter Data'!Z26","v":0},{"$f":"'Enter Data'!Z42","v":0},{"$f":"'Enter Data'!Z58","v":0},{"$f":"'Enter Data'!Z74","v":0},{"$f":"'Enter Data'!Z90","v":0},{"$f":"'Enter Data'!Z106","v":0},{"$f":"'Enter Data'!Z122","v":0},{"$f":"'Enter Data'!Z138","v":0},{"$f":"'Enter Data'!Z154","v":0},{"$f":"'Enter Data'!Z170","v":0},{"$f":"'Enter Data'!Z186","v":0},{"$f":"'Enter Data'!Z202","v":0},{"$f":"'Enter Data'!Z218","v":0},{"$f":"'Enter Data'!Z234","v":0},{"$f":"'Enter Data'!Z250","v":0},{"$f":"'Enter Data'!Z266","v":0},{"$f":"'Enter Data'!Z282","v":0},{"$f":"'Enter Data'!Z298","v":0},{"$f":"'Enter Data'!Z314","v":0}]
[]
[]
[]
[]
[]
[]
[]
[]
[]
[]
[]
[]
[]
[]
[]
[]
[]
[]
[null,null,null,null,null,null,null,null,null,null,null,null,null,null,null,null,null,null,null,null,null,null,{"$f":"'Enter Data'!Q325","v":0},{"$f":"'Enter Data'!R325","v":0},{"$f":"'Enter Data'!S325","v":0},{"$f":"'Enter Data'!T325","v":0},{"$f":"'Enter Data'!U325","v":0},{"$f":"'Enter Data'!V325","v":0},{"$f":"'Enter Data'!W325","v":0},{"$f":"'Enter Data'!X325","v":0},{"$f":"'Enter Data'!Y325","v":0},{"$f":"'Enter Data'!Z325","v":0},{"$f":"'Enter Data'!AA325","v":0},{"$f":"'Enter Data'!AB325","v":0},{"$f":"'Enter Data'!AC325","v":0},{"$f":"'Enter Data'!AD325","v":"Open"},{"$f":"'Enter Data'!AE325","v":"Open"},{"$f":"'Enter Data'!AF325","v":"Open"},{"$f":"'Enter Data'!AG325","v":"Open"},{"$f":"'Enter Data'!AH325","v":"Open"},{"$f":"'Enter Data'!AI325","v":"Open"},{"$f":"'Enter Data'!AJ325","v":"Admin"}]
[null,null,null,null,null,null,null,null,null,null,null,null,null,null,null,null,null,null,null,null,null,null,{"$f":"'Enter Data'!AA3","v":0},{"$f":"'Enter Data'!AA19","v":0},{"$f":"'Enter Data'!AA35","v":0},{"$f":"'Enter Data'!AA51","v":0},{"$f":"'Enter Data'!AA67","v":0},{"$f":"'Enter Data'!AA83","v":0},{"$f":"'Enter Data'!AA99","v":0},{"$f":"'Enter Data'!AA115","v":0},{"$f":"'Enter Data'!AA131","v":0},{"$f":"'Enter Data'!AA147","v":0},{"$f":"'Enter Data'!AA163","v":0},{"$f":"'Enter Data'!AA179","v":0},{"$f":"'Enter Data'!AA195","v":0},{"$f":"'Enter Data'!AA211","v":0},{"$f":"'Enter Data'!AA227","v":0},{"$f":"'Enter Data'!AA243","v":0},{"$f":"'Enter Data'!AA259","v":0},{"$f":"'Enter Data'!AA275","v":0},{"$f":"'Enter Data'!AA291","v":0},{"$f":"'Enter Data'!AA307","v":0}]
[null,null,null,null,null,null,null,null,null,null,null,null,null,null,null,null,null,null,null,null,null,null,{"$f":"'Enter Data'!AA5","v":0},{"$f":"'Enter Data'!AA21","v":0},{"$f":"'Enter Data'!AA37","v":0},{"$f":"'Enter Data'!AA53","v":0},{"$f":"'Enter Data'!AA69","v":0},{"$f":"'Enter Data'!AA85","v":0},{"$f":"'Enter Data'!AA101","v":0},{"$f":"'Enter Data'!AA117","v":0},{"$f":"'Enter Data'!AA133","v":0},{"$f":"'Enter Data'!AA149","v":0},{"$f":"'Enter Data'!AA165","v":0},{"$f":"'Enter Data'!AA181","v":0},{"$f":"'Enter Data'!AA197","v":0},{"$f":"'Enter Data'!AA213","v":0},{"$f":"'Enter Data'!AA229","v":0},{"$f":"'Enter Data'!AA245","v":0},{"$f":"'Enter Data'!AA261","v":0},{"$f":"'Enter Data'!AA277","v":0},{"$f":"'Enter Data'!AA293","v":0},{"$f":"'Enter Data'!AA309","v":0}]
[null,null,null,null,null,null,null,null,null,null,null,null,null,null,null,null,null,null,null,null,null,null,{"$f":"'Enter Data'!AA8","v":0},{"$f":"'Enter Data'!AA24","v":0},{"$f":"'Enter Data'!AA40","v":0},{"$f":"'Enter Data'!AA56","v":0},{"$f":"'Enter Data'!AA72","v":0},{"$f":"'Enter Data'!AA88","v":0},{"$f":"'Enter Data'!AA104","v":0},{"$f":"'Enter Data'!AA120","v":0},{"$f":"'Enter Data'!AA136","v":0},{"$f":"'Enter Data'!AA152","v":0},{"$f":"'Enter Data'!AA168","v":0},{"$f":"'Enter Data'!AA184","v":0},{"$f":"'Enter Data'!AA200","v":0},{"$f":"'Enter Data'!AA216","v":0},{"$f":"'Enter Data'!AA232","v":0},{"$f":"'Enter Data'!AA248","v":0},{"$f":"'Enter Data'!AA264","v":0},{"$f":"'Enter Data'!AA280","v":0},{"$f":"'Enter Data'!AA296","v":0},{"$f":"'Enter Data'!AA312","v":0}]
[null,null,null,null,null,null,null,null,null,null,null,null,null,null,null,null,null,null,null,null,null,null,{"$f":"'Enter Data'!AA10","v":0},{"$f":"'Enter Data'!AA26","v":0},{"$f":"'Enter Data'!AA42","v":0},{"$f":"'Enter Data'!AA58","v":0},{"$f":"'Enter Data'!AA74","v":0},{"$f":"'Enter Data'!AA90","v":0},{"$f":"'Enter Data'!AA106","v":0},{"$f":"'Enter Data'!AA122","v":0},{"$f":"'Enter Data'!AA138","v":0},{"$f":"'Enter Data'!AA154","v":0},{"$f":"'Enter Data'!AA170","v":0},{"$f":"'Enter Data'!AA186","v":0},{"$f":"'Enter Data'!AA202","v":0},{"$f":"'Enter Data'!AA218","v":0},{"$f":"'Enter Data'!AA234","v":0},{"$f":"'Enter Data'!AA250","v":0},{"$f":"'Enter Data'!AA266","v":0},{"$f":"'Enter Data'!AA282","v":0},{"$f":"'Enter Data'!AA298","v":0},{"$f":"'Enter Data'!AA314","v":0}]
[]
[]
[]
[]
[]
[]
[]
[]
[]
[]
[]
[]
[]
[]
[]
[]
[]
[]
[]
[]
[]
[]
[]
[]
[]
[]
[null,null,null,null,null,null,null,null,null,null,null,null,null,null,null,null,null,null,null,null,null,null,null,null,null,null,null,null,null,null,null,null,null,null,null,null,null,null,null,null,null,null,{"$f":"'Enter Data'!Q325","v":0},{"$f":"'Enter Data'!R325","v":0},{"$f":"'Enter Data'!S325","v":0},{"$f":"'Enter Data'!T325","v":0},{"$f":"'Enter Data'!U325","v":0},{"$f":"'Enter Data'!V325","v":0},{"$f":"'Enter Data'!W325","v":0},{"$f":"'Enter Data'!X325","v":0},{"$f":"'Enter Data'!Y325","v":0},{"$f":"'Enter Data'!Z325","v":0},{"$f":"'Enter Data'!AA325","v":0},{"$f":"'Enter Data'!AB325","v":0},{"$f":"'Enter Data'!AC325","v":0},{"$f":"'Enter Data'!AD325","v":"Open"},{"$f":"'Enter Data'!AE325","v":"Open"},{"$f":"'Enter Data'!AF325","v":"Open"},{"$f":"'Enter Data'!AG325","v":"Open"},{"$f":"'Enter Data'!AH325","v":"Open"},{"$f":"'Enter Data'!AI325","v":"Open"},{"$f":"'Enter Data'!AJ325","v":"Admin"}]
[null,null,null,null,null,null,null,null,null,null,null,null,null,null,null,null,null,null,null,null,null,null,null,null,null,null,null,null,null,null,null,null,null,null,null,null,null,null,null,null,null,null,{"$f":"'Enter Data'!AB3","v":0},{"$f":"'Enter Data'!AB19","v":0},{"$f":"'Enter Data'!AB35","v":0},{"$f":"'Enter Data'!AB51","v":0},{"$f":"'Enter Data'!AB67","v":0},{"$f":"'Enter Data'!AB83","v":0},{"$f":"'Enter Data'!AB99","v":0},{"$f":"'Enter Data'!AB115","v":0},{"$f":"'Enter Data'!AB131","v":0},{"$f":"'Enter Data'!AB147","v":0},{"$f":"'Enter Data'!AB163","v":0},{"$f":"'Enter Data'!AB179","v":0},{"$f":"'Enter Data'!AB195","v":0},{"$f":"'Enter Data'!AB211","v":0},{"$f":"'Enter Data'!AB227","v":0},{"$f":"'Enter Data'!AB243","v":0},{"$f":"'Enter Data'!AB259","v":0},{"$f":"'Enter Data'!AB275","v":0},{"$f":"'Enter Data'!AB291","v":0},{"$f":"'Enter Data'!AB307","v":0}]
[null,null,null,null,null,null,null,null,null,null,null,null,null,null,null,null,null,null,null,null,null,null,null,null,null,null,null,null,null,null,null,null,null,null,null,null,null,null,null,null,null,null,{"$f":"'Enter Data'!AB5","v":0},{"$f":"'Enter Data'!AB21","v":0},{"$f":"'Enter Data'!AB37","v":0},{"$f":"'Enter Data'!AB53","v":0},{"$f":"'Enter Data'!AB69","v":0},{"$f":"'Enter Data'!AB85","v":0},{"$f":"'Enter Data'!AB101","v":0},{"$f":"'Enter Data'!AB117","v":0},{"$f":"'Enter Data'!AB133","v":0},{"$f":"'Enter Data'!AB149","v":0},{"$f":"'Enter Data'!AB165","v":0},{"$f":"'Enter Data'!AB181","v":0},{"$f":"'Enter Data'!AB197","v":0},{"$f":"'Enter Data'!AB213","v":0},{"$f":"'Enter Data'!AB229","v":0},{"$f":"'Enter Data'!AB245","v":0},{"$f":"'Enter Data'!AB261","v":0},{"$f":"'Enter Data'!AB277","v":0},{"$f":"'Enter Data'!AB293","v":0},{"$f":"'Enter Data'!AB309","v":0}]
[null,null,null,null,null,null,null,null,null,null,null,null,null,null,null,null,null,null,null,null,null,null,null,null,null,null,null,null,null,null,null,null,null,null,null,null,null,null,null,null,null,null,{"$f":"'Enter Data'!AB8","v":0},{"$f":"'Enter Data'!AB24","v":0},{"$f":"'Enter Data'!AB40","v":0},{"$f":"'Enter Data'!AB56","v":0},{"$f":"'Enter Data'!AB72","v":0},{"$f":"'Enter Data'!AB88","v":0},{"$f":"'Enter Data'!AB104","v":0},{"$f":"'Enter Data'!AB120","v":0},{"$f":"'Enter Data'!AB136","v":0},{"$f":"'Enter Data'!AB152","v":0},{"$f":"'Enter Data'!AB168","v":0},{"$f":"'Enter Data'!AB184","v":0},{"$f":"'Enter Data'!AB200","v":0},{"$f":"'Enter Data'!AB216","v":0},{"$f":"'Enter Data'!AB232","v":0},{"$f":"'Enter Data'!AB248","v":0},{"$f":"'Enter Data'!AB264","v":0},{"$f":"'Enter Data'!AB280","v":0},{"$f":"'Enter Data'!AB296","v":0},{"$f":"'Enter Data'!AB312","v":0}]
[null,null,null,null,null,null,null,null,null,null,null,null,null,null,null,null,null,null,null,null,null,null,null,null,null,null,null,null,null,null,null,null,null,null,null,null,null,null,null,null,null,null,{"$f":"'Enter Data'!AB10","v":0},{"$f":"'Enter Data'!AB26","v":0},{"$f":"'Enter Data'!AB42","v":0},{"$f":"'Enter Data'!AB58","v":0},{"$f":"'Enter Data'!AB74","v":0},{"$f":"'Enter Data'!AB90","v":0},{"$f":"'Enter Data'!AB106","v":0},{"$f":"'Enter Data'!AB122","v":0},{"$f":"'Enter Data'!AB138","v":0},{"$f":"'Enter Data'!AB154","v":0},{"$f":"'Enter Data'!AB170","v":0},{"$f":"'Enter Data'!AB186","v":0},{"$f":"'Enter Data'!AB202","v":0},{"$f":"'Enter Data'!AB218","v":0},{"$f":"'Enter Data'!AB234","v":0},{"$f":"'Enter Data'!AB250","v":0},{"$f":"'Enter Data'!AB266","v":0},{"$f":"'Enter Data'!AB282","v":0},{"$f":"'Enter Data'!AB298","v":0},{"$f":"'Enter Data'!AB314","v":0}]
[]
[]
[]
[]
[]
[]
[]
[]
[]
[]
[]
[]
[]
[]
[]
[]
[]
[]
[]
[]
[]
[]
[]
[null,null,null,null,null,null,null,null,null,null,null,null,null,null,null,null,null,null,null,null,null,null,null,null,null,null,null,null,null,null,null,null,null,null,null,null,null,null,null,null,null,null,null,null,null,null,null,null,null,null,null,null,null,null,null,null,null,null,null,null,null,null,{"$f":"'Enter Data'!Q325","v":0},{"$f":"'Enter Data'!R325","v":0},{"$f":"'Enter Data'!S325","v":0},{"$f":"'Enter Data'!T325","v":0},{"$f":"'Enter Data'!U325","v":0},{"$f":"'Enter Data'!V325","v":0},{"$f":"'Enter Data'!W325","v":0},{"$f":"'Enter Data'!X325","v":0},{"$f":"'Enter Data'!Y325","v":0},{"$f":"'Enter Data'!Z325","v":0},{"$f":"'Enter Data'!AA325","v":0},{"$f":"'Enter Data'!AB325","v":0},{"$f":"'Enter Data'!AC325","v":0},{"$f":"'Enter Data'!AD325","v":"Open"},{"$f":"'Enter Data'!AE325","v":"Open"},{"$f":"'Enter Data'!AF325","v":"Open"},{"$f":"'Enter Data'!AG325","v":"Open"},{"$f":"'Enter Data'!AH325","v":"Open"},{"$f":"'Enter Data'!AI325","v":"Open"},{"$f":"'Enter Data'!AJ325","v":"Admin"}]
[null,null,null,null,null,null,null,null,null,null,null,null,null,null,null,null,null,null,null,null,null,null,null,null,null,null,null,null,null,null,null,null,null,null,null,null,null,null,null,null,null,null,null,null,null,null,null,null,null,null,null,null,null,null,null,null,null,null,null,null,null,null,{"$f":"'Enter Data'!AC3","v":0},{"$f":"'Enter Data'!AC19","v":0},{"$f":"'Enter Data'!AC35","v":0},{"$f":"'Enter Data'!AC51","v":0},{"$f":"'Enter Data'!AC67","v":0},{"$f":"'Enter Data'!AC83","v":0},{"$f":"'Enter Data'!AC99","v":0},{"$f":"'Enter Data'!AC115","v":0},{"$f":"'Enter Data'!AC131","v":0},{"$f":"'Enter Data'!AC147","v":0},{"$f":"'Enter Data'!AC163","v":0},{"$f":"'Enter Data'!AC179","v":0},{"$f":"'Enter Data'!AC195","v":0},{"$f":"'Enter Data'!AC211","v":0},{"$f":"'Enter Data'!AC227","v":0},{"$f":"'Enter Data'!AC243","v":0},{"$f":"'Enter Data'!AC259","v":0},{"$f":"'Enter Data'!AC275","v":0},{"$f":"'Enter Data'!AC291","v":0},{"$f":"'Enter Data'!AC307","v":0}]
[null,null,null,null,null,null,null,null,null,null,null,null,null,null,null,null,null,null,null,null,null,null,null,null,null,null,null,null,null,null,null,null,null,null,null,null,null,null,null,null,null,null,null,null,null,null,null,null,null,null,null,null,null,null,null,null,null,null,null,null,null,null,{"$f":"'Enter Data'!AC5","v":0},{"$f":"'Enter Data'!AC21","v":0},{"$f":"'Enter Data'!AC37","v":0},{"$f":"'Enter Data'!AC53","v":0},{"$f":"'Enter Data'!AC69","v":0},{"$f":"'Enter Data'!AC85","v":0},{"$f":"'Enter Data'!AC101","v":0},{"$f":"'Enter Data'!AC117","v":0},{"$f":"'Enter Data'!AC133","v":0},{"$f":"'Enter Data'!AC149","v":0},{"$f":"'Enter Data'!AC165","v":0},{"$f":"'Enter Data'!AC181","v":0},{"$f":"'Enter Data'!AC197","v":0},{"$f":"'Enter Data'!AC213","v":0},{"$f":"'Enter Data'!AC229","v":0},{"$f":"'Enter Data'!AC245","v":0},{"$f":"'Enter Data'!AC261","v":0},{"$f":"'Enter Data'!AC277","v":0},{"$f":"'Enter Data'!AC293","v":0},{"$f":"'Enter Data'!AC309","v":0}]
[null,null,null,null,null,null,null,null,null,null,null,null,null,null,null,null,null,null,null,null,null,null,null,null,null,null,null,null,null,null,null,null,null,null,null,null,null,null,null,null,null,null,null,null,null,null,null,null,null,null,null,null,null,null,null,null,null,null,null,null,null,null,{"$f":"'Enter Data'!AC8","v":0},{"$f":"'Enter Data'!AC24","v":0},{"$f":"'Enter Data'!AC40","v":0},{"$f":"'Enter Data'!AC56","v":0},{"$f":"'Enter Data'!AC72","v":0},{"$f":"'Enter Data'!AC88","v":0},{"$f":"'Enter Data'!AC104","v":0},{"$f":"'Enter Data'!AC120","v":0},{"$f":"'Enter Data'!AC136","v":0},{"$f":"'Enter Data'!AC152","v":0},{"$f":"'Enter Data'!AC168","v":0},{"$f":"'Enter Data'!AC184","v":0},{"$f":"'Enter Data'!AC200","v":0},{"$f":"'Enter Data'!AC216","v":0},{"$f":"'Enter Data'!AC232","v":0},{"$f":"'Enter Data'!AC248","v":0},{"$f":"'Enter Data'!AC264","v":0},{"$f":"'Enter Data'!AC280","v":0},{"$f":"'Enter Data'!AC296","v":0},{"$f":"'Enter Data'!AC312","v":0}]
[null,null,null,null,null,null,null,null,null,null,null,null,null,null,null,null,null,null,null,null,null,null,null,null,null,null,null,null,null,null,null,null,null,null,null,null,null,null,null,null,null,null,null,null,null,null,null,null,null,null,null,null,null,null,null,null,null,null,null,null,null,null,{"$f":"'Enter Data'!AC10","v":0},{"$f":"'Enter Data'!AC26","v":0},{"$f":"'Enter Data'!AC42","v":0},{"$f":"'Enter Data'!AC58","v":0},{"$f":"'Enter Data'!AC74","v":0},{"$f":"'Enter Data'!AC90","v":0},{"$f":"'Enter Data'!AC106","v":0},{"$f":"'Enter Data'!AC122","v":0},{"$f":"'Enter Data'!AC138","v":0},{"$f":"'Enter Data'!AC154","v":0},{"$f":"'Enter Data'!AC170","v":0},{"$f":"'Enter Data'!AC186","v":0},{"$f":"'Enter Data'!AC202","v":0},{"$f":"'Enter Data'!AC218","v":0},{"$f":"'Enter Data'!AC234","v":0},{"$f":"'Enter Data'!AC250","v":0},{"$f":"'Enter Data'!AC266","v":0},{"$f":"'Enter Data'!AC282","v":0},{"$f":"'Enter Data'!AC298","v":0},{"$f":"'Enter Data'!AC314","v":0}]
[]
[]
[]
[]
[]
[]
[]
[]
[]
[]
[]
[]
[null,null,null,null,null,null,null,null,null,null,null,null,null,null,null,null,null,null,null,null,null,null,null,null,null,null,null,null,null,null,null,null,null,null,null,null,null,null,null,null,null,null,null,null,null,null,null,null,null,null,null,null,null,null,null,null,null,null,null,null,null,null,null,null,null,null,null,null,null,null,null,null,null,null,null,null,null,null,null,null,null,null,{"$f":"'Enter Data'!Q325","v":0},{"$f":"'Enter Data'!R325","v":0},{"$f":"'Enter Data'!S325","v":0},{"$f":"'Enter Data'!T325","v":0},{"$f":"'Enter Data'!U325","v":0},{"$f":"'Enter Data'!V325","v":0},{"$f":"'Enter Data'!W325","v":0},{"$f":"'Enter Data'!X325","v":0},{"$f":"'Enter Data'!Y325","v":0},{"$f":"'Enter Data'!Z325","v":0},{"$f":"'Enter Data'!AA325","v":0},{"$f":"'Enter Data'!AB325","v":0},{"$f":"'Enter Data'!AC325","v":0},{"$f":"'Enter Data'!AD325","v":"Open"},{"$f":"'Enter Data'!AE325","v":"Open"},{"$f":"'Enter Data'!AF325","v":"Open"},{"$f":"'Enter Data'!AG325","v":"Open"},{"$f":"'Enter Data'!AH325","v":"Open"},{"$f":"'Enter Data'!AI325","v":"Open"},{"$f":"'Enter Data'!AJ325","v":"Admin"}]
[null,null,null,null,null,null,null,null,null,null,null,null,null,null,null,null,null,null,null,null,null,null,null,null,null,null,null,null,null,null,null,null,null,null,null,null,null,null,null,null,null,null,null,null,null,null,null,null,null,null,null,null,null,null,null,null,null,null,null,null,null,null,null,null,null,null,null,null,null,null,null,null,null,null,null,null,null,null,null,null,null,null,{"$f":"'Enter Data'!AD3","v":0},{"$f":"'Enter Data'!AD19","v":0},{"$f":"'Enter Data'!AD35","v":0},{"$f":"'Enter Data'!AD51","v":0},{"$f":"'Enter Data'!AD67","v":0},{"$f":"'Enter Data'!AD83","v":0},{"$f":"'Enter Data'!AD99","v":0},{"$f":"'Enter Data'!AD115","v":0},{"$f":"'Enter Data'!AD131","v":0},{"$f":"'Enter Data'!AD147","v":0},{"$f":"'Enter Data'!AD163","v":0},{"$f":"'Enter Data'!AD179","v":0},{"$f":"'Enter Data'!AD195","v":0},{"$f":"'Enter Data'!AD211","v":0},{"$f":"'Enter Data'!AD227","v":0},{"$f":"'Enter Data'!AD243","v":0},{"$f":"'Enter Data'!AD259","v":0},{"$f":"'Enter Data'!AD275","v":0},{"$f":"'Enter Data'!AD291","v":0},{"$f":"'Enter Data'!AD307","v":0}]
[null,null,null,null,null,null,null,null,null,null,null,null,null,null,null,null,null,null,null,null,null,null,null,null,null,null,null,null,null,null,null,null,null,null,null,null,null,null,null,null,null,null,null,null,null,null,null,null,null,null,null,null,null,null,null,null,null,null,null,null,null,null,null,null,null,null,null,null,null,null,null,null,null,null,null,null,null,null,null,null,null,null,{"$f":"'Enter Data'!AD5","v":0},{"$f":"'Enter Data'!AD21","v":0},{"$f":"'Enter Data'!AD37","v":0},{"$f":"'Enter Data'!AD53","v":0},{"$f":"'Enter Data'!AD69","v":0},{"$f":"'Enter Data'!AD85","v":0},{"$f":"'Enter Data'!AD101","v":0},{"$f":"'Enter Data'!AD117","v":0},{"$f":"'Enter Data'!AD133","v":0},{"$f":"'Enter Data'!AD149","v":0},{"$f":"'Enter Data'!AD165","v":0},{"$f":"'Enter Data'!AD181","v":0},{"$f":"'Enter Data'!AD197","v":0},{"$f":"'Enter Data'!AD213","v":0},{"$f":"'Enter Data'!AD229","v":0},{"$f":"'Enter Data'!AD245","v":0},{"$f":"'Enter Data'!AD261","v":0},{"$f":"'Enter Data'!AD277","v":0},{"$f":"'Enter Data'!AD293","v":0},{"$f":"'Enter Data'!AD309","v":0}]
[null,null,null,null,null,null,null,null,null,null,null,null,null,null,null,null,null,null,null,null,null,null,null,null,null,null,null,null,null,null,null,null,null,null,null,null,null,null,null,null,null,null,null,null,null,null,null,null,null,null,null,null,null,null,null,null,null,null,null,null,null,null,null,null,null,null,null,null,null,null,null,null,null,null,null,null,null,null,null,null,null,null,{"$f":"'Enter Data'!AD8","v":0},{"$f":"'Enter Data'!AD24","v":0},{"$f":"'Enter Data'!AD40","v":0},{"$f":"'Enter Data'!AD56","v":0},{"$f":"'Enter Data'!AD72","v":0},{"$f":"'Enter Data'!AD88","v":0},{"$f":"'Enter Data'!AD104","v":0},{"$f":"'Enter Data'!AD120","v":0},{"$f":"'Enter Data'!AD136","v":0},{"$f":"'Enter Data'!AD152","v":0},{"$f":"'Enter Data'!AD168","v":0},{"$f":"'Enter Data'!AD184","v":0},{"$f":"'Enter Data'!AD200","v":0},{"$f":"'Enter Data'!AD216","v":0},{"$f":"'Enter Data'!AD232","v":0},{"$f":"'Enter Data'!AD248","v":0},{"$f":"'Enter Data'!AD264","v":0},{"$f":"'Enter Data'!AD280","v":0},{"$f":"'Enter Data'!AD296","v":0},{"$f":"'Enter Data'!AD312","v":0}]
[null,null,null,null,null,null,null,null,null,null,null,null,null,null,null,null,null,null,null,null,null,null,null,null,null,null,null,null,null,null,null,null,null,null,null,null,null,null,null,null,null,null,null,null,null,null,null,null,null,null,null,null,null,null,null,null,null,null,null,null,null,null,null,null,null,null,null,null,null,null,null,null,null,null,null,null,null,null,null,null,null,null,{"$f":"'Enter Data'!AD10","v":0},{"$f":"'Enter Data'!AD26","v":0},{"$f":"'Enter Data'!AD42","v":0},{"$f":"'Enter Data'!AD58","v":0},{"$f":"'Enter Data'!AD74","v":0},{"$f":"'Enter Data'!AD90","v":0},{"$f":"'Enter Data'!AD106","v":0},{"$f":"'Enter Data'!AD122","v":0},{"$f":"'Enter Data'!AD138","v":0},{"$f":"'Enter Data'!AD154","v":0},{"$f":"'Enter Data'!AD170","v":0},{"$f":"'Enter Data'!AD186","v":0},{"$f":"'Enter Data'!AD202","v":0},{"$f":"'Enter Data'!AD218","v":0},{"$f":"'Enter Data'!AD234","v":0},{"$f":"'Enter Data'!AD250","v":0},{"$f":"'Enter Data'!AD266","v":0},{"$f":"'Enter Data'!AD282","v":0},{"$f":"'Enter Data'!AD298","v":0},{"$f":"'Enter Data'!AD314","v":0}]
[]
[]
[]
[]
[]
[]
[]
[]
[]
[]
[]
[]
[]
[]
[]
[]
[]
[]
[]
[]
[null,null,null,null,null,null,null,null,null,null,null,null,null,null,null,null,null,null,null,null,null,null,null,null,null,null,null,null,null,null,null,null,null,null,null,null,null,null,null,null,null,null,null,null,null,null,null,null,null,null,null,null,null,null,null,null,null,null,null,null,null,null,null,null,null,null,null,null,null,null,null,null,null,null,null,null,null,null,null,null,null,null,null,null,null,null,null,null,null,null,null,null,null,null,null,null,null,null,null,null,null,null,{"$f":"'Enter Data'!Q325","v":0},{"$f":"'Enter Data'!R325","v":0},{"$f":"'Enter Data'!S325","v":0},{"$f":"'Enter Data'!T325","v":0},{"$f":"'Enter Data'!U325","v":0},{"$f":"'Enter Data'!V325","v":0},{"$f":"'Enter Data'!W325","v":0},{"$f":"'Enter Data'!X325","v":0},{"$f":"'Enter Data'!Y325","v":0},{"$f":"'Enter Data'!Z325","v":0},{"$f":"'Enter Data'!AA325","v":0},{"$f":"'Enter Data'!AB325","v":0},{"$f":"'Enter Data'!AC325","v":0},{"$f":"'Enter Data'!AD325","v":"Open"},{"$f":"'Enter Data'!AE325","v":"Open"},{"$f":"'Enter Data'!AF325","v":"Open"},{"$f":"'Enter Data'!AG325","v":"Open"},{"$f":"'Enter Data'!AH325","v":"Open"},{"$f":"'Enter Data'!AI325","v":"Open"},{"$f":"'Enter Data'!AJ325","v":"Admin"}]
[null,null,null,null,null,null,null,null,null,null,null,null,null,null,null,null,null,null,null,null,null,null,null,null,null,null,null,null,null,null,null,null,null,null,null,null,null,null,null,null,null,null,null,null,null,null,null,null,null,null,null,null,null,null,null,null,null,null,null,null,null,null,null,null,null,null,null,null,null,null,null,null,null,null,null,null,null,null,null,null,null,null,null,null,null,null,null,null,null,null,null,null,null,null,null,null,null,null,null,null,null,null,{"$f":"'Enter Data'!AE3","v":0},{"$f":"'Enter Data'!AE19","v":0},{"$f":"'Enter Data'!AE35","v":0},{"$f":"'Enter Data'!AE51","v":0},{"$f":"'Enter Data'!AE67","v":0},{"$f":"'Enter Data'!AE83","v":0},{"$f":"'Enter Data'!AE99","v":0},{"$f":"'Enter Data'!AE115","v":0},{"$f":"'Enter Data'!AE131","v":0},{"$f":"'Enter Data'!AE147","v":0},{"$f":"'Enter Data'!AE163","v":0},{"$f":"'Enter Data'!AE179","v":0},{"$f":"'Enter Data'!AE195","v":0},{"$f":"'Enter Data'!AE211","v":0},{"$f":"'Enter Data'!AE227","v":0},{"$f":"'Enter Data'!AE243","v":0},{"$f":"'Enter Data'!AE259","v":0},{"$f":"'Enter Data'!AE275","v":0},{"$f":"'Enter Data'!AE291","v":0},{"$f":"'Enter Data'!AE307","v":0}]
[null,null,null,null,null,null,null,null,null,null,null,null,null,null,null,null,null,null,null,null,null,null,null,null,null,null,null,null,null,null,null,null,null,null,null,null,null,null,null,null,null,null,null,null,null,null,null,null,null,null,null,null,null,null,null,null,null,null,null,null,null,null,null,null,null,null,null,null,null,null,null,null,null,null,null,null,null,null,null,null,null,null,null,null,null,null,null,null,null,null,null,null,null,null,null,null,null,null,null,null,null,null,{"$f":"'Enter Data'!AE5","v":0},{"$f":"'Enter Data'!AE21","v":0},{"$f":"'Enter Data'!AE37","v":0},{"$f":"'Enter Data'!AE53","v":0},{"$f":"'Enter Data'!AE69","v":0},{"$f":"'Enter Data'!AE85","v":0},{"$f":"'Enter Data'!AE101","v":0},{"$f":"'Enter Data'!AE117","v":0},{"$f":"'Enter Data'!AE133","v":0},{"$f":"'Enter Data'!AE149","v":0},{"$f":"'Enter Data'!AE165","v":0},{"$f":"'Enter Data'!AE181","v":0},{"$f":"'Enter Data'!AE197","v":0},{"$f":"'Enter Data'!AE213","v":0},{"$f":"'Enter Data'!AE229","v":0},{"$f":"'Enter Data'!AE245","v":0},{"$f":"'Enter Data'!AE261","v":0},{"$f":"'Enter Data'!AE277","v":0},{"$f":"'Enter Data'!AE293","v":0},{"$f":"'Enter Data'!AE309","v":0}]
[null,null,null,null,null,null,null,null,null,null,null,null,null,null,null,null,null,null,null,null,null,null,null,null,null,null,null,null,null,null,null,null,null,null,null,null,null,null,null,null,null,null,null,null,null,null,null,null,null,null,null,null,null,null,null,null,null,null,null,null,null,null,null,null,null,null,null,null,null,null,null,null,null,null,null,null,null,null,null,null,null,null,null,null,null,null,null,null,null,null,null,null,null,null,null,null,null,null,null,null,null,null,{"$f":"'Enter Data'!AE8","v":0},{"$f":"'Enter Data'!AE24","v":0},{"$f":"'Enter Data'!AE40","v":0},{"$f":"'Enter Data'!AE56","v":0},{"$f":"'Enter Data'!AE72","v":0},{"$f":"'Enter Data'!AE88","v":0},{"$f":"'Enter Data'!AE104","v":0},{"$f":"'Enter Data'!AE120","v":0},{"$f":"'Enter Data'!AE136","v":0},{"$f":"'Enter Data'!AE152","v":0},{"$f":"'Enter Data'!AE168","v":0},{"$f":"'Enter Data'!AE184","v":0},{"$f":"'Enter Data'!AE200","v":0},{"$f":"'Enter Data'!AE216","v":0},{"$f":"'Enter Data'!AE232","v":0},{"$f":"'Enter Data'!AE248","v":0},{"$f":"'Enter Data'!AE264","v":0},{"$f":"'Enter Data'!AE280","v":0},{"$f":"'Enter Data'!AE296","v":0},{"$f":"'Enter Data'!AE312","v":0}]
[null,null,null,null,null,null,null,null,null,null,null,null,null,null,null,null,null,null,null,null,null,null,null,null,null,null,null,null,null,null,null,null,null,null,null,null,null,null,null,null,null,null,null,null,null,null,null,null,null,null,null,null,null,null,null,null,null,null,null,null,null,null,null,null,null,null,null,null,null,null,null,null,null,null,null,null,null,null,null,null,null,null,null,null,null,null,null,null,null,null,null,null,null,null,null,null,null,null,null,null,null,null,{"$f":"'Enter Data'!AE10","v":0},{"$f":"'Enter Data'!AE26","v":0},{"$f":"'Enter Data'!AE42","v":0},{"$f":"'Enter Data'!AE58","v":0},{"$f":"'Enter Data'!AE74","v":0},{"$f":"'Enter Data'!AE90","v":0},{"$f":"'Enter Data'!AE106","v":0},{"$f":"'Enter Data'!AE122","v":0},{"$f":"'Enter Data'!AE138","v":0},{"$f":"'Enter Data'!AE154","v":0},{"$f":"'Enter Data'!AE170","v":0},{"$f":"'Enter Data'!AE186","v":0},{"$f":"'Enter Data'!AE202","v":0},{"$f":"'Enter Data'!AE218","v":0},{"$f":"'Enter Data'!AE234","v":0},{"$f":"'Enter Data'!AE250","v":0},{"$f":"'Enter Data'!AE266","v":0},{"$f":"'Enter Data'!AE282","v":0},{"$f":"'Enter Data'!AE298","v":0},{"$f":"'Enter Data'!AE314","v":0}]
[]
[]
[]
[]
[]
[]
[]
[]
[]
[]
[]
[]
[]
[]
[]
[]
[]
[]
[]
[null,null,null,null,null,null,null,null,null,null,null,null,null,null,null,null,null,null,null,null,null,null,null,null,null,null,null,null,null,null,null,null,null,null,null,null,null,null,null,null,null,null,null,null,null,null,null,null,null,null,null,null,null,null,null,null,null,null,null,null,null,null,null,null,null,null,null,null,null,null,null,null,null,null,null,null,null,null,null,null,null,null,null,null,null,null,null,null,null,null,null,null,null,null,null,null,null,null,null,null,null,null,null,null,null,null,null,null,null,null,null,null,null,null,null,null,null,null,null,null,null,null,{"$f":"'Enter Data'!Q325","v":0},{"$f":"'Enter Data'!R325","v":0},{"$f":"'Enter Data'!S325","v":0},{"$f":"'Enter Data'!T325","v":0},{"$f":"'Enter Data'!U325","v":0},{"$f":"'Enter Data'!V325","v":0},{"$f":"'Enter Data'!W325","v":0},{"$f":"'Enter Data'!X325","v":0},{"$f":"'Enter Data'!Y325","v":0},{"$f":"'Enter Data'!Z325","v":0},{"$f":"'Enter Data'!AA325","v":0},{"$f":"'Enter Data'!AB325","v":0},{"$f":"'Enter Data'!AC325","v":0},{"$f":"'Enter Data'!AD325","v":"Open"},{"$f":"'Enter Data'!AE325","v":"Open"},{"$f":"'Enter Data'!AF325","v":"Open"},{"$f":"'Enter Data'!AG325","v":"Open"},{"$f":"'Enter Data'!AH325","v":"Open"},{"$f":"'Enter Data'!AI325","v":"Open"},{"$f":"'Enter Data'!AJ325","v":"Admin"}]
[null,null,null,null,null,null,null,null,null,null,null,null,null,null,null,null,null,null,null,null,null,null,null,null,null,null,null,null,null,null,null,null,null,null,null,null,null,null,null,null,null,null,null,null,null,null,null,null,null,null,null,null,null,null,null,null,null,null,null,null,null,null,null,null,null,null,null,null,null,null,null,null,null,null,null,null,null,null,null,null,null,null,null,null,null,null,null,null,null,null,null,null,null,null,null,null,null,null,null,null,null,null,null,null,null,null,null,null,null,null,null,null,null,null,null,null,null,null,null,null,null,null,{"$f":"'Enter Data'!AF3","v":0},{"$f":"'Enter Data'!AF19","v":0},{"$f":"'Enter Data'!AF35","v":0},{"$f":"'Enter Data'!AF51","v":0},{"$f":"'Enter Data'!AF67","v":0},{"$f":"'Enter Data'!AF83","v":0},{"$f":"'Enter Data'!AF99","v":0},{"$f":"'Enter Data'!AF115","v":0},{"$f":"'Enter Data'!AF131","v":0},{"$f":"'Enter Data'!AF147","v":0},{"$f":"'Enter Data'!AF163","v":0},{"$f":"'Enter Data'!AF179","v":0},{"$f":"'Enter Data'!AF195","v":0},{"$f":"'Enter Data'!AF211","v":0},{"$f":"'Enter Data'!AF227","v":0},{"$f":"'Enter Data'!AF243","v":0},{"$f":"'Enter Data'!AF259","v":0},{"$f":"'Enter Data'!AF275","v":0},{"$f":"'Enter Data'!AF291","v":0},{"$f":"'Enter Data'!AF307","v":0}]
[null,null,null,null,null,null,null,null,null,null,null,null,null,null,null,null,null,null,null,null,null,null,null,null,null,null,null,null,null,null,null,null,null,null,null,null,null,null,null,null,null,null,null,null,null,null,null,null,null,null,null,null,null,null,null,null,null,null,null,null,null,null,null,null,null,null,null,null,null,null,null,null,null,null,null,null,null,null,null,null,null,null,null,null,null,null,null,null,null,null,null,null,null,null,null,null,null,null,null,null,null,null,null,null,null,null,null,null,null,null,null,null,null,null,null,null,null,null,null,null,null,null,{"$f":"'Enter Data'!AF5","v":0},{"$f":"'Enter Data'!AF21","v":0},{"$f":"'Enter Data'!AF37","v":0},{"$f":"'Enter Data'!AF53","v":0},{"$f":"'Enter Data'!AF69","v":0},{"$f":"'Enter Data'!AF85","v":0},{"$f":"'Enter Data'!AF101","v":0},{"$f":"'Enter Data'!AF117","v":0},{"$f":"'Enter Data'!AF133","v":0},{"$f":"'Enter Data'!AF149","v":0},{"$f":"'Enter Data'!AF165","v":0},{"$f":"'Enter Data'!AF181","v":0},{"$f":"'Enter Data'!AF197","v":0},{"$f":"'Enter Data'!AF213","v":0},{"$f":"'Enter Data'!AF229","v":0},{"$f":"'Enter Data'!AF245","v":0},{"$f":"'Enter Data'!AF261","v":0},{"$f":"'Enter Data'!AF277","v":0},{"$f":"'Enter Data'!AF293","v":0},{"$f":"'Enter Data'!AF309","v":0}]
[null,null,null,null,null,null,null,null,null,null,null,null,null,null,null,null,null,null,null,null,null,null,null,null,null,null,null,null,null,null,null,null,null,null,null,null,null,null,null,null,null,null,null,null,null,null,null,null,null,null,null,null,null,null,null,null,null,null,null,null,null,null,null,null,null,null,null,null,null,null,null,null,null,null,null,null,null,null,null,null,null,null,null,null,null,null,null,null,null,null,null,null,null,null,null,null,null,null,null,null,null,null,null,null,null,null,null,null,null,null,null,null,null,null,null,null,null,null,null,null,null,null,{"$f":"'Enter Data'!AF8","v":0},{"$f":"'Enter Data'!AF24","v":0},{"$f":"'Enter Data'!AF40","v":0},{"$f":"'Enter Data'!AF56","v":0},{"$f":"'Enter Data'!AF72","v":0},{"$f":"'Enter Data'!AF88","v":0},{"$f":"'Enter Data'!AF104","v":0},{"$f":"'Enter Data'!AF120","v":0},{"$f":"'Enter Data'!AF136","v":0},{"$f":"'Enter Data'!AF152","v":0},{"$f":"'Enter Data'!AF168","v":0},{"$f":"'Enter Data'!AF184","v":0},{"$f":"'Enter Data'!AF200","v":0},{"$f":"'Enter Data'!AF216","v":0},{"$f":"'Enter Data'!AF232","v":0},{"$f":"'Enter Data'!AF248","v":0},{"$f":"'Enter Data'!AF264","v":0},{"$f":"'Enter Data'!AF280","v":0},{"$f":"'Enter Data'!AF296","v":0},{"$f":"'Enter Data'!AF312","v":0}]
[null,null,null,null,null,null,null,null,null,null,null,null,null,null,null,null,null,null,null,null,null,null,null,null,null,null,null,null,null,null,null,null,null,null,null,null,null,null,null,null,null,null,null,null,null,null,null,null,null,null,null,null,null,null,null,null,null,null,null,null,null,null,null,null,null,null,null,null,null,null,null,null,null,null,null,null,null,null,null,null,null,null,null,null,null,null,null,null,null,null,null,null,null,null,null,null,null,null,null,null,null,null,null,null,null,null,null,null,null,null,null,null,null,null,null,null,null,null,null,null,null,null,{"$f":"'Enter Data'!AF10","v":0},{"$f":"'Enter Data'!AF26","v":0},{"$f":"'Enter Data'!AF42","v":0},{"$f":"'Enter Data'!AF58","v":0},{"$f":"'Enter Data'!AF74","v":0},{"$f":"'Enter Data'!AF90","v":0},{"$f":"'Enter Data'!AF106","v":0},{"$f":"'Enter Data'!AF122","v":0},{"$f":"'Enter Data'!AF138","v":0},{"$f":"'Enter Data'!AF154","v":0},{"$f":"'Enter Data'!AF170","v":0},{"$f":"'Enter Data'!AF186","v":0},{"$f":"'Enter Data'!AF202","v":0},{"$f":"'Enter Data'!AF218","v":0},{"$f":"'Enter Data'!AF234","v":0},{"$f":"'Enter Data'!AF250","v":0},{"$f":"'Enter Data'!AF266","v":0},{"$f":"'Enter Data'!AF282","v":0},{"$f":"'Enter Data'!AF298","v":0},{"$f":"'Enter Data'!AF314","v":0}]

{"sheet":"Printable Schedule","index":4,"n_rows":89,"n_cols":18,"rows_kept":89,"cut":false,"hidden":false,"merged":[[2,7,2,8],[2,9,2,10],[2,11,2,12],[2,13,2,14],[88,2,88,17],[22,17,24,17],[26,2,28,2],[26,17,28,17],[30,2,32,2],[30,17,32,17],[34,2,36,2],[34,17,36,17],[22,2,24,2],[38,2,40,2],[38,17,40,17],[83,2,85,2],[83,17,85,17],[0,2,0,17],[6,17,8,17],[10,2,12,2],[10,17,12,17],[14,2,16,2],[14,17,16,17],[18,2,20,2],[18,17,20,17],[6,2,8,2],[2,15,2,16],[2,3,2,4],[2,5,2,6],[42,2,44,2],[42,17,44,17],[47,2,49,2],[47,17,49,17],[51,2,53,2],[51,17,53,17],[55,2,57,2],[55,17,57,17],[63,2,65,2],[63,17,65,17],[67,2,69,2],[67,17,69,17],[59,2,61,2],[59,17,61,17],[75,2,77,2],[75,17,77,17],[71,2,73,2],[71,17,73,17],[79,2,81,2],[79,17,81,17]]}
[null,null,"Facility Name - Weekly Schedule"]
[]
[null,null,null,"Sunday",null,"Monday",null,"Tuesday",null,"Wednesday",null,"Thursday",null,"Friday",null,"Saturday",null,"Total Hours"]
[]
[null,null,null,"In","Out","In","Out","In","Out","In","Out","In","Out","In","Out","In","Out"]
[]
[null,null,{"$f":"'Enter Data'!C3","v":0},{"$f":"'Enter Data'!F6","v":0},{"$f":"'Enter Data'!F7","v":0},{"$f":"'Enter Data'!G6","v":0},{"$f":"'Enter Data'!G7","v":0},{"$f":"'Enter Data'!H6","v":0},{"$f":"'Enter Data'!H7","v":0},{"$f":"'Enter Data'!I6","v":0},{"$f":"'Enter Data'!I7","v":0},{"$f":"'Enter Data'!J6","v":0},{"$f":"'Enter Data'!J7","v":0},{"$f":"'Enter Data'!K6","v":0},{"$f":"'Enter Data'!K7","v":0},{"$f":"'Enter Data'!L6","v":0},{"$f":"'Enter Data'!L7","v":0},{"$f":"'Enter Data'!O13","v":0}]
[null,null,null,{"$f":"'Enter Data'!F10","v":0},{"$f":"'Enter Data'!F11","v":0},{"$f":"'Enter Data'!G10","v":0},{"$f":"'Enter Data'!G11","v":0},{"$f":"'Enter Data'!H10","v":0},{"$f":"'Enter Data'!H11","v":0},{"$f":"'Enter Data'!I10","v":0},{"$f":"'Enter Data'!I11","v":0},{"$f":"'Enter Data'!J10","v":0},{"$f":"'Enter Data'!J11","v":0},{"$f":"'Enter Data'!K10","v":0},{"$f":"'Enter Data'!K11","v":0},{"$f":"'Enter Data'!L10","v":0},{"$f":"'Enter Data'!L11","v":0}]
[null,null,null,{"$f":"'Enter Data'!F8+'Enter Data'!F12","v":0},"Hr Lunch",{"$f":"'Enter Data'!G8+'Enter Data'!G12","v":0},"Hr Lunch",{"$f":"'Enter Data'!H8+'Enter Data'!H12","v":0},"Hr Lunch",{"$f":"'Enter Data'!I8+'Enter Data'!I12","v":0},"Hr Lunch",{"$f":"'Enter Data'!J8+'Enter Data'!J12","v":0},"Hr Lunch",{"$f":"'Enter Data'!K8+'Enter Data'!K12","v":0},"Hr Lunch",{"$f":"'Enter Data'!L8+'Enter Data'!L12","v":0},"Hr Lunch"]
[]
[null,null,{"$f":"'Enter Data'!C19","v":0},{"$f":"'Enter Data'!F22","v":0},{"$f":"'Enter Data'!F23","v":0},{"$f":"'Enter Data'!G22","v":0},{"$f":"'Enter Data'!G23","v":0},{"$f":"'Enter Data'!H22","v":0},{"$f":"'Enter Data'!H23","v":0},{"$f":"'Enter Data'!I22","v":0},{"$f":"'Enter Data'!I23","v":0},{"$f":"'Enter Data'!J22","v":0},{"$f":"'Enter Data'!J23","v":0},{"$f":"'Enter Data'!K22","v":0},{"$f":"'Enter Data'!K23","v":0},{"$f":"'Enter Data'!L22","v":0},{"$f":"'Enter Data'!L23","v":0},{"$f":"'Enter Data'!O29","v":0}]
[null,null,null,{"$f":"'Enter Data'!F26","v":0},{"$f":"'Enter Data'!F27","v":0},{"$f":"'Enter Data'!G26","v":0},{"$f":"'Enter Data'!G27","v":0},{"$f":"'Enter Data'!H26","v":0},{"$f":"'Enter Data'!H27","v":0},{"$f":"'Enter Data'!I26","v":0},{"$f":"'Enter Data'!I27","v":0},{"$f":"'Enter Data'!J26","v":0},{"$f":"'Enter Data'!J27","v":0},{"$f":"'Enter Data'!K26","v":0},{"$f":"'Enter Data'!K27","v":0},{"$f":"'Enter Data'!L26","v":0},{"$f":"'Enter Data'!L27","v":0}]
[null,null,null,{"$f":"'Enter Data'!F24+'Enter Data'!F28","v":0},"Hr Lunch",{"$f":"'Enter Data'!G24+'Enter Data'!G28","v":0},"Hr Lunch",{"$f":"'Enter Data'!H24+'Enter Data'!H28","v":0},"Hr Lunch",{"$f":"'Enter Data'!I24+'Enter Data'!I28","v":0},"Hr Lunch",{"$f":"'Enter Data'!J24+'Enter Data'!J28","v":0},"Hr Lunch",{"$f":"'Enter Data'!K24+'Enter Data'!K28","v":0},"Hr Lunch",{"$f":"'Enter Data'!L24+'Enter Data'!L28","v":0},"Hr Lunch"]
[]
[null,null,{"$f":"'Enter Data'!C35","v":0},{"$f":"'Enter Data'!F38","v":0},{"$f":"'Enter Data'!F39","v":0},{"$f":"'Enter Data'!G38","v":0},{"$f":"'Enter Data'!G39","v":0},{"$f":"'Enter Data'!H38","v":0},{"$f":"'Enter Data'!H39","v":0},{"$f":"'Enter Data'!I38","v":0},{"$f":"'Enter Data'!I39","v":0},{"$f":"'Enter Data'!J38","v":0},{"$f":"'Enter Data'!J39","v":0},{"$f":"'Enter Data'!K38","v":0},{"$f":"'Enter Data'!K39","v":0},{"$f":"'Enter Data'!L38","v":0},{"$f":"'Enter Data'!L39","v":0},{"$f":"'Enter Data'!O45","v":0}]
[null,null,null,{"$f":"'Enter Data'!F42","v":0},{"$f":"'Enter Data'!F43","v":0},{"$f":"'Enter Data'!G42","v":0},{"$f":"'Enter Data'!G43","v":0},{"$f":"'Enter Data'!H42","v":0},{"$f":"'Enter Data'!H43","v":0},{"$f":"'Enter Data'!I42","v":0},{"$f":"'Enter Data'!I43","v":0},{"$f":"'Enter Data'!J42","v":0},{"$f":"'Enter Data'!J43","v":0},{"$f":"'Enter Data'!K42","v":0},{"$f":"'Enter Data'!K43","v":0},{"$f":"'Enter Data'!L42","v":0},{"$f":"'Enter Data'!L43","v":0}]
[null,null,null,{"$f":"'Enter Data'!F40+'Enter Data'!F44","v":0},"Hr Lunch",{"$f":"'Enter Data'!G40+'Enter Data'!G44","v":0},"Hr Lunch",{"$f":"'Enter Data'!H40+'Enter Data'!H44","v":0},"Hr Lunch",{"$f":"'Enter Data'!I40+'Enter Data'!I44","v":0},"Hr Lunch",{"$f":"'Enter Data'!J40+'Enter Data'!J44","v":0},"Hr Lunch",{"$f":"'Enter Data'!K40+'Enter Data'!K44","v":0},"Hr Lunch",{"$f":"'Enter Data'!L40+'Enter Data'!L44","v":0},"Hr Lunch"]
[]
[null,null,{"$f":"'Enter Data'!C51","v":0},{"$f":"'Enter Data'!F54","v":0},{"$f":"'Enter Data'!F55","v":0},{"$f":"'Enter Data'!G54","v":0},{"$f":"'Enter Data'!G55","v":0},{"$f":"'Enter Data'!H54","v":0},{"$f":"'Enter Data'!H55","v":0},{"$f":"'Enter Data'!I54","v":0},{"$f":"'Enter Data'!I55","v":0},{"$f":"'Enter Data'!J54","v":0},{"$f":"'Enter Data'!J55","v":0},{"$f":"'Enter Data'!K54","v":0},{"$f":"'Enter Data'!K55","v":0},{"$f":"'Enter Data'!L54","v":0},{"$f":"'Enter Data'!L55","v":0},{"$f":"'Enter Data'!O61","v":0}]
[null,null,null,{"$f":"'Enter Data'!F58","v":0},{"$f":"'Enter Data'!F59","v":0},{"$f":"'Enter Data'!G58","v":0},{"$f":"'Enter Data'!G59","v":0},{"$f":"'Enter Data'!H58","v":0},{"$f":"'Enter Data'!H59","v":0},{"$f":"'Enter Data'!I58","v":0},{"$f":"'Enter Data'!I59","v":0},{"$f":"'Enter Data'!J58","v":0},{"$f":"'Enter Data'!J59","v":0},{"$f":"'Enter Data'!K58","v":0},{"$f":"'Enter Data'!K59","v":0},{"$f":"'Enter Data'!L58","v":0},{"$f":"'Enter Data'!L59","v":0}]
[null,null,null,{"$f":"'Enter Data'!F56+'Enter Data'!F60","v":0},"Hr Lunch",{"$f":"'Enter Data'!G56+'Enter Data'!G60","v":0},"Hr Lunch",{"$f":"'Enter Data'!H56+'Enter Data'!H60","v":0},"Hr Lunch",{"$f":"'Enter Data'!I56+'Enter Data'!I60","v":0},"Hr Lunch",{"$f":"'Enter Data'!J56+'Enter Data'!J60","v":0},"Hr Lunch",{"$f":"'Enter Data'!K56+'Enter Data'!K60","v":0},"Hr Lunch",{"$f":"'Enter Data'!L56+'Enter Data'!L60","v":0},"Hr Lunch"]
[]
[null,null,{"$f":"'Enter Data'!C67","v":0},{"$f":"'Enter Data'!F70","v":0},{"$f":"'Enter Data'!F71","v":0},{"$f":"'Enter Data'!G70","v":0},{"$f":"'Enter Data'!G71","v":0},{"$f":"'Enter Data'!H70","v":0},{"$f":"'Enter Data'!H71","v":0},{"$f":"'Enter Data'!I70","v":0},{"$f":"'Enter Data'!I71","v":0},{"$f":"'Enter Data'!J70","v":0},{"$f":"'Enter Data'!J71","v":0},{"$f":"'Enter Data'!K70","v":0},{"$f":"'Enter Data'!K71","v":0},{"$f":"'Enter Data'!L70","v":0},{"$f":"'Enter Data'!L71","v":0},{"$f":"'Enter Data'!O77","v":0}]
[null,null,null,{"$f":"'Enter Data'!F74","v":0},{"$f":"'Enter Data'!F75","v":0},{"$f":"'Enter Data'!G74","v":0},{"$f":"'Enter Data'!G75","v":0},{"$f":"'Enter Data'!H74","v":0},{"$f":"'Enter Data'!H75","v":0},{"$f":"'Enter Data'!I74","v":0},{"$f":"'Enter Data'!I75","v":0},{"$f":"'Enter Data'!J74","v":0},{"$f":"'Enter Data'!J75","v":0},{"$f":"'Enter Data'!K74","v":0},{"$f":"'Enter Data'!K75","v":0},{"$f":"'Enter Data'!L74","v":0},{"$f":"'Enter Data'!L75","v":0}]
[null,null,null,{"$f":"'Enter Data'!F72+'Enter Data'!F76","v":0},"Hr Lunch",{"$f":"'Enter Data'!G72+'Enter Data'!G76","v":0},"Hr Lunch",{"$f":"'Enter Data'!H72+'Enter Data'!H76","v":0},"Hr Lunch",{"$f":"'Enter Data'!I72+'Enter Data'!I76","v":0},"Hr Lunch",{"$f":"'Enter Data'!J72+'Enter Data'!J76","v":0},"Hr Lunch",{"$f":"'Enter Data'!K72+'Enter Data'!K76","v":0},"Hr Lunch",{"$f":"'Enter Data'!L72+'Enter Data'!L76","v":0},"Hr Lunch"]
[]
[null,null,{"$f":"'Enter Data'!C83","v":0},{"$f":"'Enter Data'!F86","v":0},{"$f":"'Enter Data'!F87","v":0},{"$f":"'Enter Data'!G86","v":0},{"$f":"'Enter Data'!G87","v":0},{"$f":"'Enter Data'!H86","v":0},{"$f":"'Enter Data'!H87","v":0},{"$f":"'Enter Data'!I86","v":0},{"$f":"'Enter Data'!I87","v":0},{"$f":"'Enter Data'!J86","v":0},{"$f":"'Enter Data'!J87","v":0},{"$f":"'Enter Data'!K86","v":0},{"$f":"'Enter Data'!K87","v":0},{"$f":"'Enter Data'!L86","v":0},{"$f":"'Enter Data'!L87","v":0},{"$f":"'Enter Data'!O93","v":0}]
[null,null,null,{"$f":"'Enter Data'!F90","v":0},{"$f":"'Enter Data'!F91","v":0},{"$f":"'Enter Data'!G90","v":0},{"$f":"'Enter Data'!G91","v":0},{"$f":"'Enter Data'!H90","v":0},{"$f":"'Enter Data'!H91","v":0},{"$f":"'Enter Data'!I90","v":0},{"$f":"'Enter Data'!I91","v":0},{"$f":"'Enter Data'!J90","v":0},{"$f":"'Enter Data'!J91","v":0},{"$f":"'Enter Data'!K90","v":0},{"$f":"'Enter Data'!K91","v":0},{"$f":"'Enter Data'!L90","v":0},{"$f":"'Enter Data'!L91","v":0}]
[null,null,null,{"$f":"'Enter Data'!F88+'Enter Data'!F92","v":0},"Hr Lunch",{"$f":"'Enter Data'!G88+'Enter Data'!G92","v":0},"Hr Lunch",{"$f":"'Enter Data'!H88+'Enter Data'!H92","v":0},"Hr Lunch",{"$f":"'Enter Data'!I88+'Enter Data'!I92","v":0},"Hr Lunch",{"$f":"'Enter Data'!J88+'Enter Data'!J92","v":0},"Hr Lunch",{"$f":"'Enter Data'!K88+'Enter Data'!K92","v":0},"Hr Lunch",{"$f":"'Enter Data'!L88+'Enter Data'!L92","v":0},"Hr Lunch"]
[]
[null,null,{"$f":"'Enter Data'!C99","v":0},{"$f":"'Enter Data'!F102","v":0},{"$f":"'Enter Data'!F103","v":0},{"$f":"'Enter Data'!G102","v":0},{"$f":"'Enter Data'!G103","v":0},{"$f":"'Enter Data'!H102","v":0},{"$f":"'Enter Data'!H103","v":0},{"$f":"'Enter Data'!I102","v":0},{"$f":"'Enter Data'!I103","v":0},{"$f":"'Enter Data'!J102","v":0},{"$f":"'Enter Data'!J103","v":0},{"$f":"'Enter Data'!K102","v":0},{"$f":"'Enter Data'!K103","v":0},{"$f":"'Enter Data'!L102","v":0},{"$f":"'Enter Data'!L103","v":0},{"$f":"'Enter Data'!O109","v":0}]
[null,null,null,{"$f":"'Enter Data'!F106","v":0},{"$f":"'Enter Data'!F107","v":0},{"$f":"'Enter Data'!G106","v":0},{"$f":"'Enter Data'!G107","v":0},{"$f":"'Enter Data'!H106","v":0},{"$f":"'Enter Data'!H107","v":0},{"$f":"'Enter Data'!I106","v":0},{"$f":"'Enter Data'!I107","v":0},{"$f":"'Enter Data'!J106","v":0},{"$f":"'Enter Data'!J107","v":0},{"$f":"'Enter Data'!K106","v":0},{"$f":"'Enter Data'!K107","v":0},{"$f":"'Enter Data'!L106","v":0},{"$f":"'Enter Data'!L107","v":0}]
[null,null,null,{"$f":"'Enter Data'!F104+'Enter Data'!F108","v":0},"Hr Lunch",{"$f":"'Enter Data'!G104+'Enter Data'!G108","v":0},"Hr Lunch",{"$f":"'Enter Data'!H104+'Enter Data'!H108","v":0},"Hr Lunch",{"$f":"'Enter Data'!I104+'Enter Data'!I108","v":0},"Hr Lunch",{"$f":"'Enter Data'!J104+'Enter Data'!J108","v":0},"Hr Lunch",{"$f":"'Enter Data'!K104+'Enter Data'!K108","v":0},"Hr Lunch",{"$f":"'Enter Data'!L104+'Enter Data'!L108","v":0},"Hr Lunch"]
[]
[null,null,{"$f":"'Enter Data'!C115","v":0},{"$f":"'Enter Data'!F118","v":0},{"$f":"'Enter Data'!F119","v":0},{"$f":"'Enter Data'!G118","v":0},{"$f":"'Enter Data'!G119","v":0},{"$f":"'Enter Data'!H118","v":0},{"$f":"'Enter Data'!H119","v":0},{"$f":"'Enter Data'!I118","v":0},{"$f":"'Enter Data'!I119","v":0},{"$f":"'Enter Data'!J118","v":0},{"$f":"'Enter Data'!J119","v":0},{"$f":"'Enter Data'!K118","v":0},{"$f":"'Enter Data'!K119","v":0},{"$f":"'Enter Data'!L118","v":0},{"$f":"'Enter Data'!L119","v":0},{"$f":"'Enter Data'!O125","v":0}]
[null,null,null,{"$f":"'Enter Data'!F122","v":0},{"$f":"'Enter Data'!F123","v":0},{"$f":"'Enter Data'!G122","v":0},{"$f":"'Enter Data'!G123","v":0},{"$f":"'Enter Data'!H122","v":0},{"$f":"'Enter Data'!H123","v":0},{"$f":"'Enter Data'!I122","v":0},{"$f":"'Enter Data'!I123","v":0},{"$f":"'Enter Data'!J122","v":0},{"$f":"'Enter Data'!J123","v":0},{"$f":"'Enter Data'!K122","v":0},{"$f":"'Enter Data'!K123","v":0},{"$f":"'Enter Data'!L122","v":0},{"$f":"'Enter Data'!L123","v":0}]
[null,null,null,{"$f":"'Enter Data'!F120+'Enter Data'!F124","v":0},"Hr Lunch",{"$f":"'Enter Data'!G120+'Enter Data'!G124","v":0},"Hr Lunch",{"$f":"'Enter Data'!H120+'Enter Data'!H124","v":0},"Hr Lunch",{"$f":"'Enter Data'!I120+'Enter Data'!I124","v":0},"Hr Lunch",{"$f":"'Enter Data'!J120+'Enter Data'!J124","v":0},"Hr Lunch",{"$f":"'Enter Data'!K120+'Enter Data'!K124","v":0},"Hr Lunch",{"$f":"'Enter Data'!L120+'Enter Data'!L124","v":0},"Hr Lunch"]
[]
[null,null,{"$f":"'Enter Data'!C131","v":0},{"$f":"'Enter Data'!F134","v":0},{"$f":"'Enter Data'!F135","v":0},{"$f":"'Enter Data'!G134","v":0},{"$f":"'Enter Data'!G135","v":0},{"$f":"'Enter Data'!H134","v":0},{"$f":"'Enter Data'!H135","v":0},{"$f":"'Enter Data'!I134","v":0},{"$f":"'Enter Data'!I135","v":0},{"$f":"'Enter Data'!J134","v":0},{"$f":"'Enter Data'!J135","v":0},{"$f":"'Enter Data'!K134","v":0},{"$f":"'Enter Data'!K135","v":0},{"$f":"'Enter Data'!L134","v":0},{"$f":"'Enter Data'!L135","v":0},{"$f":"'Enter Data'!O141","v":0}]
[null,null,null,{"$f":"'Enter Data'!F138","v":0},{"$f":"'Enter Data'!F139","v":0},{"$f":"'Enter Data'!G138","v":0},{"$f":"'Enter Data'!G139","v":0},{"$f":"'Enter Data'!H138","v":0},{"$f":"'Enter Data'!H139","v":0},{"$f":"'Enter Data'!I138","v":0},{"$f":"'Enter Data'!I139","v":0},{"$f":"'Enter Data'!J138","v":0},{"$f":"'Enter Data'!J139","v":0},{"$f":"'Enter Data'!K138","v":0},{"$f":"'Enter Data'!K139","v":0},{"$f":"'Enter Data'!L138","v":0},{"$f":"'Enter Data'!L139","v":0}]
[null,null,null,{"$f":"'Enter Data'!F136+'Enter Data'!F140","v":0},"Hr Lunch",{"$f":"'Enter Data'!G136+'Enter Data'!G140","v":0},"Hr Lunch",{"$f":"'Enter Data'!H136+'Enter Data'!H140","v":0},"Hr Lunch",{"$f":"'Enter Data'!I136+'Enter Data'!I140","v":0},"Hr Lunch",{"$f":"'Enter Data'!J136+'Enter Data'!J140","v":0},"Hr Lunch",{"$f":"'Enter Data'!K136+'Enter Data'!K140","v":0},"Hr Lunch",{"$f":"'Enter Data'!L136+'Enter Data'!L140","v":0},"Hr Lunch"]
[]
[null,null,{"$f":"'Enter Data'!C147","v":0},{"$f":"'Enter Data'!F150","v":0},{"$f":"'Enter Data'!F151","v":0},{"$f":"'Enter Data'!G150","v":0},{"$f":"'Enter Data'!G151","v":0},{"$f":"'Enter Data'!H150","v":0},{"$f":"'Enter Data'!H151","v":0},{"$f":"'Enter Data'!I150","v":0},{"$f":"'Enter Data'!I151","v":0},{"$f":"'Enter Data'!J150","v":0},{"$f":"'Enter Data'!J151","v":0},{"$f":"'Enter Data'!K150","v":0},{"$f":"'Enter Data'!K151","v":0},{"$f":"'Enter Data'!L150","v":0},{"$f":"'Enter Data'!L151","v":0},{"$f":"'Enter Data'!O157","v":0}]
[null,null,null,{"$f":"'Enter Data'!F154","v":0},{"$f":"'Enter Data'!F155","v":0},{"$f":"'Enter Data'!G154","v":0},{"$f":"'Enter Data'!G155","v":0},{"$f":"'Enter Data'!H154","v":0},{"$f":"'Enter Data'!H155","v":0},{"$f":"'Enter Data'!I154","v":0},{"$f":"'Enter Data'!I155","v":0},{"$f":"'Enter Data'!J154","v":0},{"$f":"'Enter Data'!J155","v":0},{"$f":"'Enter Data'!K154","v":0},{"$f":"'Enter Data'!K155","v":0},{"$f":"'Enter Data'!L154","v":0},{"$f":"'Enter Data'!L155","v":0}]
[null,null,null,{"$f":"'Enter Data'!F152+'Enter Data'!F156","v":0},"Hr Lunch",{"$f":"'Enter Data'!G152+'Enter Data'!G156","v":0},"Hr Lunch",{"$f":"'Enter Data'!H152+'Enter Data'!H156","v":0},"Hr Lunch",{"$f":"'Enter Data'!I152+'Enter Data'!I156","v":0},"Hr Lunch",{"$f":"'Enter Data'!J152+'Enter Data'!J156","v":0},"Hr Lunch",{"$f":"'Enter Data'!K152+'Enter Data'!K156","v":0},"Hr Lunch",{"$f":"'Enter Data'!L152+'Enter Data'!L156","v":0},"Hr Lunch"]
[]
[]
[null,null,{"$f":"'Enter Data'!C163","v":0},{"$f":"'Enter Data'!F166","v":0},{"$f":"'Enter Data'!F167","v":0},{"$f":"'Enter Data'!G166","v":0},{"$f":"'Enter Data'!G167","v":0},{"$f":"'Enter Data'!H166","v":0},{"$f":"'Enter Data'!H167","v":0},{"$f":"'Enter Data'!I166","v":0},{"$f":"'Enter Data'!I167","v":0},{"$f":"'Enter Data'!J166","v":0},{"$f":"'Enter Data'!J167","v":0},{"$f":"'Enter Data'!K166","v":0},{"$f":"'Enter Data'!K167","v":0},{"$f":"'Enter Data'!L166","v":0},{"$f":"'Enter Data'!L167","v":0},{"$f":"'Enter Data'!O173","v":0}]
[null,null,null,{"$f":"'Enter Data'!F170","v":0},{"$f":"'Enter Data'!F171","v":0},{"$f":"'Enter Data'!G170","v":0},{"$f":"'Enter Data'!G171","v":0},{"$f":"'Enter Data'!H170","v":0},{"$f":"'Enter Data'!H171","v":0},{"$f":"'Enter Data'!I170","v":0},{"$f":"'Enter Data'!I171","v":0},{"$f":"'Enter Data'!J170","v":0},{"$f":"'Enter Data'!J171","v":0},{"$f":"'Enter Data'!K170","v":0},{"$f":"'Enter Data'!K171","v":0},{"$f":"'Enter Data'!L170","v":0},{"$f":"'Enter Data'!L171","v":0}]
[null,null,null,{"$f":"'Enter Data'!F168+'Enter Data'!F172","v":0},"Hr Lunch",{"$f":"'Enter Data'!G168+'Enter Data'!G172","v":0},"Hr Lunch",{"$f":"'Enter Data'!H168+'Enter Data'!H172","v":0},"Hr Lunch",{"$f":"'Enter Data'!I168+'Enter Data'!I172","v":0},"Hr Lunch",{"$f":"'Enter Data'!J168+'Enter Data'!J172","v":0},"Hr Lunch",{"$f":"'Enter Data'!K168+'Enter Data'!K172","v":0},"Hr Lunch",{"$f":"'Enter Data'!L168+'Enter Data'!L172","v":0},"Hr Lunch"]
[]
[null,null,{"$f":"'Enter Data'!C179","v":0},{"$f":"'Enter Data'!F182","v":0},{"$f":"'Enter Data'!F183","v":0},{"$f":"'Enter Data'!G182","v":0},{"$f":"'Enter Data'!G183","v":0},{"$f":"'Enter Data'!H182","v":0},{"$f":"'Enter Data'!H183","v":0},{"$f":"'Enter Data'!I182","v":0},{"$f":"'Enter Data'!I183","v":0},{"$f":"'Enter Data'!J182","v":0},{"$f":"'Enter Data'!J183","v":0},{"$f":"'Enter Data'!K182","v":0},{"$f":"'Enter Data'!K183","v":0},{"$f":"'Enter Data'!L182","v":0},{"$f":"'Enter Data'!L183","v":0},{"$f":"'Enter Data'!O189","v":0}]
[null,null,null,{"$f":"'Enter Data'!F186","v":0},{"$f":"'Enter Data'!F187","v":0},{"$f":"'Enter Data'!G186","v":0},{"$f":"'Enter Data'!G187","v":0},{"$f":"'Enter Data'!H186","v":0},{"$f":"'Enter Data'!H187","v":0},{"$f":"'Enter Data'!I186","v":0},{"$f":"'Enter Data'!I187","v":0},{"$f":"'Enter Data'!J186","v":0},{"$f":"'Enter Data'!J187","v":0},{"$f":"'Enter Data'!K186","v":0},{"$f":"'Enter Data'!K187","v":0},{"$f":"'Enter Data'!L186","v":0},{"$f":"'Enter Data'!L187","v":0}]
[null,null,null,{"$f":"'Enter Data'!F184+'Enter Data'!F188","v":0},"Hr Lunch",{"$f":"'Enter Data'!G184+'Enter Data'!G188","v":0},"Hr Lunch",{"$f":"'Enter Data'!H184+'Enter Data'!H188","v":0},"Hr Lunch",{"$f":"'Enter Data'!I184+'Enter Data'!I188","v":0},"Hr Lunch",{"$f":"'Enter Data'!J184+'Enter Data'!J188","v":0},"Hr Lunch",{"$f":"'Enter Data'!K184+'Enter Data'!K188","v":0},"Hr Lunch",{"$f":"'Enter Data'!L184+'Enter Data'!L188","v":0},"Hr Lunch"]
[]
[null,null,{"$f":"'Enter Data'!C195","v":0},{"$f":"'Enter Data'!F198","v":0},{"$f":"'Enter Data'!F199","v":0},{"$f":"'Enter Data'!G198","v":0},{"$f":"'Enter Data'!G199","v":0},{"$f":"'Enter Data'!H198","v":0},{"$f":"'Enter Data'!H199","v":0},{"$f":"'Enter Data'!I198","v":0},{"$f":"'Enter Data'!I199","v":0},{"$f":"'Enter Data'!J198","v":0},{"$f":"'Enter Data'!J199","v":0},{"$f":"'Enter Data'!K198","v":0},{"$f":"'Enter Data'!K199","v":0},{"$f":"'Enter Data'!L198","v":0},{"$f":"'Enter Data'!L199","v":0},{"$f":"'Enter Data'!O205","v":0}]
[null,null,null,{"$f":"'Enter Data'!F202","v":0},{"$f":"'Enter Data'!F203","v":0},{"$f":"'Enter Data'!G202","v":0},{"$f":"'Enter Data'!G203","v":0},{"$f":"'Enter Data'!H202","v":0},{"$f":"'Enter Data'!H203","v":0},{"$f":"'Enter Data'!I202","v":0},{"$f":"'Enter Data'!I203","v":0},{"$f":"'Enter Data'!J202","v":0},{"$f":"'Enter Data'!J203","v":0},{"$f":"'Enter Data'!K202","v":0},{"$f":"'Enter Data'!K203","v":0},{"$f":"'Enter Data'!L202","v":0},{"$f":"'Enter Data'!L203","v":0}]
[null,null,null,{"$f":"'Enter Data'!F200+'Enter Data'!F204","v":0},"Hr Lunch",{"$f":"'Enter Data'!G200+'Enter Data'!G204","v":0},"Hr Lunch",{"$f":"'Enter Data'!H200+'Enter Data'!H204","v":0},"Hr Lunch",{"$f":"'Enter Data'!I200+'Enter Data'!I204","v":0},"Hr Lunch",{"$f":"'Enter Data'!J140+'Enter Data'!J144","v":0},"Hr Lunch",{"$f":"'Enter Data'!K200+'Enter Data'!K204","v":0},"Hr Lunch",{"$f":"'Enter Data'!L200+'Enter Data'!L204","v":0},"Hr Lunch"]
[]
[null,null,{"$f":"'Enter Data'!C211","v":"Open"},{"$f":"'Enter Data'!F214","v":0},{"$f":"'Enter Data'!F215","v":0},{"$f":"'Enter Data'!G214","v":0},{"$f":"'Enter Data'!G215","v":0},{"$f":"'Enter Data'!H214","v":0},{"$f":"'Enter Data'!H215","v":0},{"$f":"'Enter Data'!I214","v":0},{"$f":"'Enter Data'!I215","v":0},{"$f":"'Enter Data'!J214","v":0},{"$f":"'Enter Data'!J215","v":0},{"$f":"'Enter Data'!K214","v":0},{"$f":"'Enter Data'!K215","v":0},{"$f":"'Enter Data'!L214","v":0},{"$f":"'Enter Data'!L215","v":0},{"$f":"'Enter Data'!O221","v":0}]
[null,null,null,{"$f":"'Enter Data'!F218","v":0},{"$f":"'Enter Data'!F219","v":0},{"$f":"'Enter Data'!G218","v":0},{"$f":"'Enter Data'!G219","v":0},{"$f":"'Enter Data'!H218","v":0},{"$f":"'Enter Data'!H219","v":0},{"$f":"'Enter Data'!I218","v":0},{"$f":"'Enter Data'!I219","v":0},{"$f":"'Enter Data'!J218","v":0},{"$f":"'Enter Data'!J219","v":0},{"$f":"'Enter Data'!K218","v":0},{"$f":"'Enter Data'!K219","v":0},{"$f":"'Enter Data'!L218","v":0},{"$f":"'Enter Data'!L219","v":0}]
[null,null,null,{"$f":"'Enter Data'!F216+'Enter Data'!F220","v":0},"Hr Lunch",{"$f":"'Enter Data'!G216+'Enter Data'!G220","v":0},"Hr Lunch",{"$f":"'Enter Data'!H216+'Enter Data'!H220","v":0},"Hr Lunch",{"$f":"'Enter Data'!I216+'Enter Data'!I220","v":0},"Hr Lunch",{"$f":"'Enter Data'!J216+'Enter Data'!J220","v":0},"Hr Lunch",{"$f":"'Enter Data'!K216+'Enter Data'!K220","v":0},"Hr Lunch",{"$f":"'Enter Data'!L216+'Enter Data'!L220","v":0},"Hr Lunch"]
[]
[null,null,{"$f":"'Enter Data'!C227","v":"Open"},{"$f":"'Enter Data'!F230","v":0},{"$f":"'Enter Data'!F231","v":0},{"$f":"'Enter Data'!G230","v":0},{"$f":"'Enter Data'!G231","v":0},{"$f":"'Enter Data'!H230","v":0},{"$f":"'Enter Data'!H231","v":0},{"$f":"'Enter Data'!I230","v":0},{"$f":"'Enter Data'!I231","v":0},{"$f":"'Enter Data'!J230","v":0},{"$f":"'Enter Data'!J231","v":0},{"$f":"'Enter Data'!K230","v":0},{"$f":"'Enter Data'!K231","v":0},{"$f":"'Enter Data'!L230","v":0},{"$f":"'Enter Data'!L231","v":0},{"$f":"'Enter Data'!O237","v":0}]
[null,null,null,{"$f":"'Enter Data'!F234","v":0},{"$f":"'Enter Data'!F235","v":0},{"$f":"'Enter Data'!G234","v":0},{"$f":"'Enter Data'!G235","v":0},{"$f":"'Enter Data'!H234","v":0},{"$f":"'Enter Data'!H235","v":0},{"$f":"'Enter Data'!I234","v":0},{"$f":"'Enter Data'!I235","v":0},{"$f":"'Enter Data'!J234","v":0},{"$f":"'Enter Data'!J235","v":0},{"$f":"'Enter Data'!K234","v":0},{"$f":"'Enter Data'!K235","v":0},{"$f":"'Enter Data'!L234","v":0},{"$f":"'Enter Data'!L235","v":0}]
[null,null,null,{"$f":"'Enter Data'!F232+'Enter Data'!F236","v":0},"Hr Lunch",{"$f":"'Enter Data'!G232+'Enter Data'!G236","v":0},"Hr Lunch",{"$f":"'Enter Data'!H232+'Enter Data'!H236","v":0},"Hr Lunch",{"$f":"'Enter Data'!I232+'Enter Data'!I236","v":0},"Hr Lunch",{"$f":"'Enter Data'!J232+'Enter Data'!J236","v":0},"Hr Lunch",{"$f":"'Enter Data'!K232+'Enter Data'!K236","v":0},"Hr Lunch",{"$f":"'Enter Data'!L232+'Enter Data'!L236","v":0},"Hr Lunch"]
[]
[null,null,{"$f":"'Enter Data'!C243","v":"Open"},{"$f":"'Enter Data'!F246","v":0},{"$f":"'Enter Data'!F247","v":0},{"$f":"'Enter Data'!G246","v":0},{"$f":"'Enter Data'!G247","v":0},{"$f":"'Enter Data'!H246","v":0},{"$f":"'Enter Data'!H247","v":0},{"$f":"'Enter Data'!I246","v":0},{"$f":"'Enter Data'!I247","v":0},{"$f":"'Enter Data'!J246","v":0},{"$f":"'Enter Data'!J247","v":0},{"$f":"'Enter Data'!K246","v":0},{"$f":"'Enter Data'!K247","v":0},{"$f":"'Enter Data'!L246","v":0},{"$f":"'Enter Data'!L247","v":0},{"$f":"'Enter Data'!O253","v":0}]
[null,null,null,{"$f":"'Enter Data'!F250","v":0},{"$f":"'Enter Data'!F251","v":0},{"$f":"'Enter Data'!G250","v":0},{"$f":"'Enter Data'!G251","v":0},{"$f":"'Enter Data'!H250","v":0},{"$f":"'Enter Data'!H251","v":0},{"$f":"'Enter Data'!I250","v":0},{"$f":"'Enter Data'!I251","v":0},{"$f":"'Enter Data'!J250","v":0},{"$f":"'Enter Data'!J251","v":0},{"$f":"'Enter Data'!K250","v":0},{"$f":"'Enter Data'!K251","v":0},{"$f":"'Enter Data'!L250","v":0},{"$f":"'Enter Data'!L251","v":0}]
[null,null,null,{"$f":"'Enter Data'!F248+'Enter Data'!F252","v":0},"Hr Lunch",{"$f":"'Enter Data'!G248+'Enter Data'!G252","v":0},"Hr Lunch",{"$f":"'Enter Data'!H248+'Enter Data'!H252","v":0},"Hr Lunch",{"$f":"'Enter Data'!I248+'Enter Data'!I252","v":0},"Hr Lunch",{"$f":"'Enter Data'!J248+'Enter Data'!J252","v":0},"Hr Lunch",{"$f":"'Enter Data'!K248+'Enter Data'!K252","v":0},"Hr Lunch",{"$f":"'Enter Data'!L248+'Enter Data'!L252","v":0},"Hr Lunch"]
[]
[null,null,{"$f":"'Enter Data'!C259","v":"Open"},{"$f":"'Enter Data'!F262","v":0},{"$f":"'Enter Data'!F263","v":0},{"$f":"'Enter Data'!G262","v":0},{"$f":"'Enter Data'!G263","v":0},{"$f":"'Enter Data'!H262","v":0},{"$f":"'Enter Data'!H263","v":0},{"$f":"'Enter Data'!I262","v":0},{"$f":"'Enter Data'!I263","v":0},{"$f":"'Enter Data'!J262","v":0},{"$f":"'Enter Data'!J263","v":0},{"$f":"'Enter Data'!K262","v":0},{"$f":"'Enter Data'!K263","v":0},{"$f":"'Enter Data'!L262","v":0},{"$f":"'Enter Data'!L263","v":0},{"$f":"'Enter Data'!O269","v":0}]
[null,null,null,{"$f":"'Enter Data'!F266","v":0},{"$f":"'Enter Data'!F267","v":0},{"$f":"'Enter Data'!G266","v":0},{"$f":"'Enter Data'!G267","v":0},{"$f":"'Enter Data'!H266","v":0},{"$f":"'Enter Data'!H267","v":0},{"$f":"'Enter Data'!I266","v":0},{"$f":"'Enter Data'!I267","v":0},{"$f":"'Enter Data'!J266","v":0},{"$f":"'Enter Data'!J267","v":0},{"$f":"'Enter Data'!K266","v":0},{"$f":"'Enter Data'!K267","v":0},{"$f":"'Enter Data'!L266","v":0},{"$f":"'Enter Data'!L267","v":0}]
[null,null,null,{"$f":"'Enter Data'!F264+'Enter Data'!F268","v":0},"Hr Lunch",{"$f":"'Enter Data'!G264+'Enter Data'!G268","v":0},"Hr Lunch",{"$f":"'Enter Data'!H264+'Enter Data'!H268","v":0},"Hr Lunch",{"$f":"'Enter Data'!I264+'Enter Data'!I268","v":0},"Hr Lunch",{"$f":"'Enter Data'!J264+'Enter Data'!J268","v":0},"Hr Lunch",{"$f":"'Enter Data'!K264+'Enter Data'!K268","v":0},"Hr Lunch",{"$f":"'Enter Data'!L264+'Enter Data'!L268","v":0},"Hr Lunch"]
[]
[null,null,{"$f":"'Enter Data'!C275","v":"Open"},{"$f":"'Enter Data'!F278","v":0},{"$f":"'Enter Data'!F279","v":0},{"$f":"'Enter Data'!G278","v":0},{"$f":"'Enter Data'!G279","v":0},{"$f":"'Enter Data'!H278","v":0},{"$f":"'Enter Data'!H279","v":0},{"$f":"'Enter Data'!I278","v":0},{"$f":"'Enter Data'!I279","v":0},{"$f":"'Enter Data'!J278","v":0},{"$f":"'Enter Data'!J279","v":0},{"$f":"'Enter Data'!K278","v":0},{"$f":"'Enter Data'!K279","v":0},{"$f":"'Enter Data'!L278","v":0},{"$f":"'Enter Data'!L279","v":0},{"$f":"'Enter Data'!O285","v":0}]
[null,null,null,{"$f":"'Enter Data'!F282","v":0},{"$f":"'Enter Data'!F283","v":0},{"$f":"'Enter Data'!G282","v":0},{"$f":"'Enter Data'!G283","v":0},{"$f":"'Enter Data'!H282","v":0},{"$f":"'Enter Data'!H283","v":0},{"$f":"'Enter Data'!I282","v":0},{"$f":"'Enter Data'!I283","v":0},{"$f":"'Enter Data'!J282","v":0},{"$f":"'Enter Data'!J283","v":0},{"$f":"'Enter Data'!K282","v":0},{"$f":"'Enter Data'!K283","v":0},{"$f":"'Enter Data'!L282","v":0},{"$f":"'Enter Data'!L283","v":0}]
[null,null,null,{"$f":"'Enter Data'!F280+'Enter Data'!F284","v":0},"Hr Lunch",{"$f":"'Enter Data'!G280+'Enter Data'!G284","v":0},"Hr Lunch",{"$f":"'Enter Data'!H280+'Enter Data'!H284","v":0},"Hr Lunch",{"$f":"'Enter Data'!I280+'Enter Data'!I284","v":0},"Hr Lunch",{"$f":"'Enter Data'!J280+'Enter Data'!J284","v":0},"Hr Lunch",{"$f":"'Enter Data'!K280+'Enter Data'!K284","v":0},"Hr Lunch",{"$f":"'Enter Data'!L280+'Enter Data'!L284","v":0},"Hr Lunch"]
[]
[null,null,{"$f":"'Enter Data'!C291","v":"Open"},{"$f":"'Enter Data'!F294","v":0},{"$f":"'Enter Data'!F295","v":0},{"$f":"'Enter Data'!G294","v":0},{"$f":"'Enter Data'!G295","v":0},{"$f":"'Enter Data'!H294","v":0},{"$f":"'Enter Data'!H295","v":0},{"$f":"'Enter Data'!I294","v":0},{"$f":"'Enter Data'!I295","v":0},{"$f":"'Enter Data'!J294","v":0},{"$f":"'Enter Data'!J295","v":0},{"$f":"'Enter Data'!K294","v":0},{"$f":"'Enter Data'!K295","v":0},{"$f":"'Enter Data'!L294","v":0},{"$f":"'Enter Data'!L295","v":0},{"$f":"'Enter Data'!O301","v":0}]
[null,null,null,{"$f":"'Enter Data'!F298","v":0},{"$f":"'Enter Data'!F299","v":0},{"$f":"'Enter Data'!G298","v":0},{"$f":"'Enter Data'!G299","v":0},{"$f":"'Enter Data'!H298","v":0},{"$f":"'Enter Data'!H299","v":0},{"$f":"'Enter Data'!I298","v":0},{"$f":"'Enter Data'!I299","v":0},{"$f":"'Enter Data'!J298","v":0},{"$f":"'Enter Data'!J299","v":0},{"$f":"'Enter Data'!K298","v":0},{"$f":"'Enter Data'!K299","v":0},{"$f":"'Enter Data'!L298","v":0},{"$f":"'Enter Data'!L299","v":0}]
[null,null,null,{"$f":"'Enter Data'!F296+'Enter Data'!F300","v":0},"Hr Lunch",{"$f":"'Enter Data'!G296+'Enter Data'!G300","v":0},"Hr Lunch",{"$f":"'Enter Data'!H296+'Enter Data'!H300","v":0},"Hr Lunch",{"$f":"'Enter Data'!I296+'Enter Data'!I300","v":0},"Hr Lunch",{"$f":"'Enter Data'!J296+'Enter Data'!J300","v":0},"Hr Lunch",{"$f":"'Enter Data'!K296+'Enter Data'!K300","v":0},"Hr Lunch",{"$f":"'Enter Data'!L296+'Enter Data'!L300","v":0},"Hr Lunch"]
[]
[null,null,{"$f":"'Enter Data'!C307","v":"Admin"},{"$f":"'Enter Data'!F310","v":0},{"$f":"'Enter Data'!F311","v":0},{"$f":"'Enter Data'!G310","v":0},{"$f":"'Enter Data'!G311","v":0},{"$f":"'Enter Data'!H310","v":0},{"$f":"'Enter Data'!H311","v":0},{"$f":"'Enter Data'!I310","v":0},{"$f":"'Enter Data'!I311","v":0},{"$f":"'Enter Data'!J310","v":0},{"$f":"'Enter Data'!J311","v":0},{"$f":"'Enter Data'!K310","v":0},{"$f":"'Enter Data'!K311","v":0},{"$f":"'Enter Data'!L310","v":0},{"$f":"'Enter Data'!L311","v":0},{"$f":"'Enter Data'!O317","v":0}]
[null,null,null,{"$f":"'Enter Data'!F314","v":0},{"$f":"'Enter Data'!F315","v":0},{"$f":"'Enter Data'!G314","v":0},{"$f":"'Enter Data'!G315","v":0},{"$f":"'Enter Data'!H314","v":0},{"$f":"'Enter Data'!H315","v":0},{"$f":"'Enter Data'!I314","v":0},{"$f":"'Enter Data'!I315","v":0},{"$f":"'Enter Data'!J314","v":0},{"$f":"'Enter Data'!J315","v":0},{"$f":"'Enter Data'!K314","v":0},{"$f":"'Enter Data'!K315","v":0},{"$f":"'Enter Data'!L314","v":0},{"$f":"'Enter Data'!L315","v":0}]
[null,null,null,{"$f":"'Enter Data'!F312+'Enter Data'!F316","v":0},"Hr Lunch",{"$f":"'Enter Data'!G312+'Enter Data'!G316","v":0},"Hr Lunch",{"$f":"'Enter Data'!H312+'Enter Data'!H316","v":0},"Hr Lunch",{"$f":"'Enter Data'!I312+'Enter Data'!I316","v":0},"Hr Lunch",{"$f":"'Enter Data'!J312+'Enter Data'!J316","v":0},"Hr Lunch",{"$f":"'Enter Data'!K312+'Enter Data'!K316","v":0},"Hr Lunch",{"$f":"'Enter Data'!L312+'Enter Data'!L316","v":0},"Hr Lunch"]
[]
[]
[null,null,"*** If the schedule indicates that you are to take a Lunch Break, you MUST begin the break within 5 hours of the start of your shift.  If for any reason you are unable to do so, you must fill out a \"Time Off Request / Additional Hours Worked\" form and turn it into your Administrator for Approval.  If Approved, your Administrator will then submit to the Main Office."]